BEGIN:VCALENDAR
VERSION:2.0
PRODID:-//San Antonio Council on Alcohol &amp; Drug Awareness - ECPv6.15.20//NONSGML v1.0//EN
CALSCALE:GREGORIAN
METHOD:PUBLISH
X-ORIGINAL-URL:https://sacada.org
X-WR-CALDESC:Events for San Antonio Council on Alcohol &amp; Drug Awareness
REFRESH-INTERVAL;VALUE=DURATION:PT1H
X-Robots-Tag:noindex
X-PUBLISHED-TTL:PT1H
BEGIN:VTIMEZONE
TZID:America/Chicago
BEGIN:DAYLIGHT
TZOFFSETFROM:-0600
TZOFFSETTO:-0500
TZNAME:CDT
DTSTART:20230312T080000
END:DAYLIGHT
BEGIN:STANDARD
TZOFFSETFROM:-0500
TZOFFSETTO:-0600
TZNAME:CST
DTSTART:20231105T070000
END:STANDARD
BEGIN:DAYLIGHT
TZOFFSETFROM:-0600
TZOFFSETTO:-0500
TZNAME:CDT
DTSTART:20240310T080000
END:DAYLIGHT
BEGIN:STANDARD
TZOFFSETFROM:-0500
TZOFFSETTO:-0600
TZNAME:CST
DTSTART:20241103T070000
END:STANDARD
BEGIN:DAYLIGHT
TZOFFSETFROM:-0600
TZOFFSETTO:-0500
TZNAME:CDT
DTSTART:20250309T080000
END:DAYLIGHT
BEGIN:STANDARD
TZOFFSETFROM:-0500
TZOFFSETTO:-0600
TZNAME:CST
DTSTART:20251102T070000
END:STANDARD
END:VTIMEZONE
BEGIN:VEVENT
DTSTART;TZID=America/Chicago:20240117T100000
DTEND;TZID=America/Chicago:20240117T113000
DTSTAMP:20260423T043617
CREATED:20231219T141533Z
LAST-MODIFIED:20240227T205728Z
UID:34118-1705485600-1705491000@sacada.org
SUMMARY:Circle Action Planning Meeting
DESCRIPTION:All meetings will be held at SACADA\, 7500 US Hwy 90 West\, Ste 201\, Dave Coy\, San Antonio\, TX 78227 \nMeetings are from 10:00am-11:30am
URL:https://sacada.org/event/circle-action-planning-meeting/
LOCATION:San Antonio Council on Alcohol & Drug Awareness\, 7500 US Hwy 90 West\, Dave Coy Building Ste. 201\, San Antonio\, TX\, 78227\, United States
END:VEVENT
BEGIN:VEVENT
DTSTART;TZID=America/Chicago:20240409T100000
DTEND;TZID=America/Chicago:20240409T100000
DTSTAMP:20260423T043617
CREATED:20240320T204249Z
LAST-MODIFIED:20240402T144145Z
UID:34466-1712656800-1712656800@sacada.org
SUMMARY:Guadalupe County Commissioners Court Alcohol Awareness Month Proclamation
DESCRIPTION:Proclamation will be read at 9am\, 3rd floor at the Guadalupe County Courthouse\, 101 E. Court St\, Seguin\, TX 78155.
URL:https://sacada.org/event/alcohol-awareness-month-proclamation-2/
LOCATION:Guadalupe County Courthouse 3rd floor\, 101 E. Court St.\, Seguin\, TX\, 78155\, United States
END:VEVENT
BEGIN:VEVENT
DTSTART;TZID=America/Chicago:20240312T150000
DTEND;TZID=America/Chicago:20240312T163000
DTSTAMP:20260423T043617
CREATED:20231220T202713Z
LAST-MODIFIED:20240208T171103Z
UID:34186-1710255600-1710261000@sacada.org
SUMMARY:Guadalupe County Community Coalition Meeting
DESCRIPTION:Hybrid Meeting \nLocation:  Seguin Public Library\, 313 W Nolte St.\, Seguin\, TX 78155 (2nd floor conference room) \nZoom Link: https://us02web.zoom.us/j/81910198161?pwd=NzJ2bEhYdFQxc2xuL21yZEVUS0hNQT09 \nTime: 3:00-4:30pm
URL:https://sacada.org/event/guadalupe-county-community-coalition-meeting-8-2024-03-12/
LOCATION:Seguin Public Library\, 313 W Nolte St\, Seguin\, TX\, 78155\, United States
END:VEVENT
BEGIN:VEVENT
DTSTART;TZID=America/Chicago:20240410T150000
DTEND;TZID=America/Chicago:20240410T163000
DTSTAMP:20260423T043617
CREATED:20240125T150757Z
LAST-MODIFIED:20240125T150757Z
UID:34245-1712761200-1712766600@sacada.org
SUMMARY:Circles of San Antonio Community Coalition Meeting
DESCRIPTION:All meetings will be held at SACADA\, 7500 US Hwy 90 West\, Ste 201\, Dave Coy\, San Antonio\, TX 78227
URL:https://sacada.org/event/circles-of-san-antonio-community-coalition-meeting-25/
LOCATION:San Antonio Council on Alcohol & Drug Awareness\, 7500 US Hwy 90 West\, Dave Coy Building Ste. 201\, San Antonio\, TX\, 78227\, United States
END:VEVENT
BEGIN:VEVENT
DTSTART;TZID=America/Chicago:20240415T130000
DTEND;TZID=America/Chicago:20240415T170000
DTSTAMP:20260423T043617
CREATED:20231219T142803Z
LAST-MODIFIED:20240227T205220Z
UID:34132-1713186000-1713200400@sacada.org
SUMMARY:Alcohol Policy Workgroup Meeting
DESCRIPTION:Unveiling the Intersection: Alcohol Policy\, Youth Concerns\, and Emerging Trends.   \nRegister here:  https://forms.office.com/r/eGV3iPgRgd  \n 
URL:https://sacada.org/event/alcohol-policy-workgroup-meeting-3-2024-04-15/
LOCATION:HIDTA\, 4204 Woodcock. Ste 102\, San Antonio\, TX\, 78228\, United States
END:VEVENT
BEGIN:VEVENT
DTSTART;TZID=America/Chicago:20240417T200000
DTEND;TZID=America/Chicago:20240417T210000
DTSTAMP:20260423T043617
CREATED:20240320T204906Z
LAST-MODIFIED:20240325T132351Z
UID:34472-1713384000-1713387600@sacada.org
SUMMARY:Bexar County DWI Task Force Fiesta Roll Call
DESCRIPTION:Please RSVP here: DWI Enforcement / Safety Roll Call – RSVP 
URL:https://sacada.org/event/bexar-county-dwi-task-force-fiesta-roll-call/
LOCATION:Alamo Stadium Lot A\, 110 Tuleta Dr\, San Antonio\, TX\, 78212\, United States
END:VEVENT
BEGIN:VEVENT
DTSTART;TZID=America/Chicago:20240423T153000
DTEND;TZID=America/Chicago:20240423T170000
DTSTAMP:20260423T043617
CREATED:20240403T141308Z
LAST-MODIFIED:20240403T141308Z
UID:34556-1713886200-1713891600@sacada.org
SUMMARY:Comal Community Coalition Partnership Meeting
DESCRIPTION:HYBRID MEETING: \nIn person: Tye Preston Memorial Library (Founders Room) \n16311 S Access Rd\, Canyon Lake\, TX   78133 \n  \nVirtual: https://us02web.zoom.us/j/86747452545?pwd=VGVTT2FrQ1psdnVINDkxVklxbzFlUT09 \nMeeting ID: 867 4745 2545 \nPasscode: 063160
URL:https://sacada.org/event/comal-community-coalition-partnership-meeting/
LOCATION:Tye Preston Memorial Library\, 16311 S. Access Rd.\, Canyon Lake\, TX\, Texas\, 78133
END:VEVENT
BEGIN:VEVENT
DTSTART;TZID=America/Chicago:20240424T133000
DTEND;TZID=America/Chicago:20240424T143000
DTSTAMP:20260423T043617
CREATED:20240402T144723Z
LAST-MODIFIED:20240402T144723Z
UID:34552-1713965400-1713969000@sacada.org
SUMMARY:Kendall County Cannabis Training
DESCRIPTION:VIRTUAL TRAINING \nFree to attend but registration is required. \nCannabis Training the link to register is below.\nhttps://web.cvent.com/event/b724e158-9e86-4c00-a234-88ed8f0b2b1e/summary
URL:https://sacada.org/event/kendall-county-cannabis-training/
END:VEVENT
END:VCALENDAR