BEGIN:VCALENDAR
VERSION:2.0
PRODID:-//San Antonio Council on Alcohol &amp; Drug Awareness - ECPv6.15.20//NONSGML v1.0//EN
CALSCALE:GREGORIAN
METHOD:PUBLISH
X-WR-CALNAME:San Antonio Council on Alcohol &amp; Drug Awareness
X-ORIGINAL-URL:https://sacada.org
X-WR-CALDESC:Events for San Antonio Council on Alcohol &amp; Drug Awareness
REFRESH-INTERVAL;VALUE=DURATION:PT1H
X-Robots-Tag:noindex
X-PUBLISHED-TTL:PT1H
BEGIN:VTIMEZONE
TZID:America/Chicago
BEGIN:DAYLIGHT
TZOFFSETFROM:-0600
TZOFFSETTO:-0500
TZNAME:CDT
DTSTART:20230312T080000
END:DAYLIGHT
BEGIN:STANDARD
TZOFFSETFROM:-0500
TZOFFSETTO:-0600
TZNAME:CST
DTSTART:20231105T070000
END:STANDARD
BEGIN:DAYLIGHT
TZOFFSETFROM:-0600
TZOFFSETTO:-0500
TZNAME:CDT
DTSTART:20240310T080000
END:DAYLIGHT
BEGIN:STANDARD
TZOFFSETFROM:-0500
TZOFFSETTO:-0600
TZNAME:CST
DTSTART:20241103T070000
END:STANDARD
BEGIN:DAYLIGHT
TZOFFSETFROM:-0600
TZOFFSETTO:-0500
TZNAME:CDT
DTSTART:20250309T080000
END:DAYLIGHT
BEGIN:STANDARD
TZOFFSETFROM:-0500
TZOFFSETTO:-0600
TZNAME:CST
DTSTART:20251102T070000
END:STANDARD
END:VTIMEZONE
BEGIN:VEVENT
DTSTART;TZID=America/Chicago:20240108T150000
DTEND;TZID=America/Chicago:20240108T163000
DTSTAMP:20260423T030015
CREATED:20231219T141834Z
LAST-MODIFIED:20231219T141834Z
UID:34120-1704726000-1704731400@sacada.org
SUMMARY:Marijuana Policy Workshop Meeting
DESCRIPTION:All meetings will be held at SACADA\, 7500 US Hwy 90 West\, Ste 201\, Dave Coy\, San Antonio\, TX 78227 \nMeetings are from 3:00pm – 4:30pm
URL:https://sacada.org/event/marijuana-policy-workshop-meeting/
LOCATION:San Antonio Council on Alcohol & Drug Awareness\, 7500 US Hwy 90 West\, Dave Coy Building Ste. 201\, San Antonio\, TX\, 78227\, United States
END:VEVENT
BEGIN:VEVENT
DTSTART;TZID=America/Chicago:20240109T150000
DTEND;TZID=America/Chicago:20240109T163000
DTSTAMP:20260423T030015
CREATED:20231220T201710Z
LAST-MODIFIED:20231220T202200Z
UID:34179-1704812400-1704817800@sacada.org
SUMMARY:Guadalupe County Community Coalition Meeting
DESCRIPTION:Hybrid Meeting \nLocation: Seguin Public Library – First Floor Conference Room\, 313 W Nolte St\, Seguin\, TX 78155 \nZoom Link: https://us02web.zoom.us/j/81910198161?pwd=NzJ2bEhYdFQxc2xuL21yZEVUS0hNQT09 \nTime: 3:00pm-4:30pm
URL:https://sacada.org/event/guadalupe-county-community-coalition-meeting-7/
LOCATION:Seguin Public Library\, 313 W Nolte St\, Seguin\, TX\, 78155\, United States
END:VEVENT
BEGIN:VEVENT
DTSTART;TZID=America/Chicago:20240110T150000
DTEND;TZID=America/Chicago:20240110T163000
DTSTAMP:20260423T030015
CREATED:20231219T165340Z
LAST-MODIFIED:20231219T165340Z
UID:34151-1704898800-1704904200@sacada.org
SUMMARY:Circles of San Antonio Coalition First Meeting
DESCRIPTION:First meeting will be held at SACADA 500 US Hwy 90 West\, Ste 201\, Dave Coy\, San Antonio\, TX 78227 \nMeeting from 3:00-4:30pm
URL:https://sacada.org/event/circles-of-san-antonio-coalition-first-meeting/
LOCATION:San Antonio Council on Alcohol & Drug Awareness\, 7500 US Hwy 90 West\, Dave Coy Building Ste. 201\, San Antonio\, TX\, 78227\, United States
END:VEVENT
BEGIN:VEVENT
DTSTART;TZID=America/Chicago:20240117T100000
DTEND;TZID=America/Chicago:20240117T113000
DTSTAMP:20260423T030015
CREATED:20231219T141533Z
LAST-MODIFIED:20240227T205728Z
UID:34118-1705485600-1705491000@sacada.org
SUMMARY:Circle Action Planning Meeting
DESCRIPTION:All meetings will be held at SACADA\, 7500 US Hwy 90 West\, Ste 201\, Dave Coy\, San Antonio\, TX 78227 \nMeetings are from 10:00am-11:30am
URL:https://sacada.org/event/circle-action-planning-meeting/
LOCATION:San Antonio Council on Alcohol & Drug Awareness\, 7500 US Hwy 90 West\, Dave Coy Building Ste. 201\, San Antonio\, TX\, 78227\, United States
END:VEVENT
BEGIN:VEVENT
DTSTART;TZID=America/Chicago:20240123T133000
DTEND;TZID=America/Chicago:20240123T153000
DTSTAMP:20260423T030015
CREATED:20231004T201733Z
LAST-MODIFIED:20231004T201733Z
UID:33881-1706016600-1706023800@sacada.org
SUMMARY:Kendall County Coalition Meeting
DESCRIPTION:Hybrid Meeting\, Patrick Heath Public Library\, 451 N. Main St. Building 100\, Boerne\, TX 78006\, in the conference room on the second floor. \n  \nZoom Link: https://us02web.zoom.us/j/86548102413?pwd=eVdvbDBxU01lSXJaS3BRUHdaMVBWQT09
URL:https://sacada.org/event/kendall-county-coalition-meeting-18/
LOCATION:Patrick Health Public Library\, 451 N. Main St. Building 100\, Boerne\, 78006\, United States
END:VEVENT
END:VCALENDAR