BEGIN:VCALENDAR
VERSION:2.0
PRODID:-//San Antonio Council on Alcohol &amp; Drug Awareness - ECPv6.15.20//NONSGML v1.0//EN
CALSCALE:GREGORIAN
METHOD:PUBLISH
X-WR-CALNAME:San Antonio Council on Alcohol &amp; Drug Awareness
X-ORIGINAL-URL:https://sacada.org
X-WR-CALDESC:Events for San Antonio Council on Alcohol &amp; Drug Awareness
REFRESH-INTERVAL;VALUE=DURATION:PT1H
X-Robots-Tag:noindex
X-PUBLISHED-TTL:PT1H
BEGIN:VTIMEZONE
TZID:America/Chicago
BEGIN:DAYLIGHT
TZOFFSETFROM:-0600
TZOFFSETTO:-0500
TZNAME:CDT
DTSTART:20220313T080000
END:DAYLIGHT
BEGIN:STANDARD
TZOFFSETFROM:-0500
TZOFFSETTO:-0600
TZNAME:CST
DTSTART:20221106T070000
END:STANDARD
BEGIN:DAYLIGHT
TZOFFSETFROM:-0600
TZOFFSETTO:-0500
TZNAME:CDT
DTSTART:20230312T080000
END:DAYLIGHT
BEGIN:STANDARD
TZOFFSETFROM:-0500
TZOFFSETTO:-0600
TZNAME:CST
DTSTART:20231105T070000
END:STANDARD
BEGIN:DAYLIGHT
TZOFFSETFROM:-0600
TZOFFSETTO:-0500
TZNAME:CDT
DTSTART:20240310T080000
END:DAYLIGHT
BEGIN:STANDARD
TZOFFSETFROM:-0500
TZOFFSETTO:-0600
TZNAME:CST
DTSTART:20241103T070000
END:STANDARD
END:VTIMEZONE
BEGIN:VEVENT
DTSTART;VALUE=DATE:20231003
DTEND;VALUE=DATE:20231004
DTSTAMP:20260423T020451
CREATED:20230801T170859Z
LAST-MODIFIED:20230801T170859Z
UID:33445-1696291200-1696377599@sacada.org
SUMMARY:National Night Out or Neighbors Together
DESCRIPTION:
URL:https://sacada.org/event/national-night-out-or-neighbors-together/
ORGANIZER;CN="Jose Sanchez":MAILTO:jsanchez@sacada.org
END:VEVENT
BEGIN:VEVENT
DTSTART;TZID=America/Chicago:20231011T150000
DTEND;TZID=America/Chicago:20231011T163000
DTSTAMP:20260423T020451
CREATED:20230213T170911Z
LAST-MODIFIED:20230213T170911Z
UID:32941-1697036400-1697041800@sacada.org
SUMMARY:Circles of San Antonio Community Coalition Meeting
DESCRIPTION:
URL:https://sacada.org/event/circles-of-san-antonio-community-coalition-meeting-21/
LOCATION:San Antonio Council on Alcohol & Drug Awareness\, 7500 US Hwy 90 West\, Dave Coy Building Ste. 201\, San Antonio\, TX\, 78227\, United States
END:VEVENT
BEGIN:VEVENT
DTSTART;TZID=America/Chicago:20231017T150000
DTEND;TZID=America/Chicago:20231017T163000
DTSTAMP:20260423T020451
CREATED:20221129T173715Z
LAST-MODIFIED:20221129T174109Z
UID:32709-1697554800-1697560200@sacada.org
SUMMARY:Marijuana Workgroup
DESCRIPTION:
URL:https://sacada.org/event/marijuana-workshop-2/
LOCATION:San Antonio Council on Alcohol & Drug Awareness\, 7500 US Hwy 90 West\, Dave Coy Building Ste. 201\, San Antonio\, TX\, 78227\, United States
END:VEVENT
BEGIN:VEVENT
DTSTART;TZID=America/Chicago:20231024T080000
DTEND;TZID=America/Chicago:20231026T170000
DTSTAMP:20260423T020451
CREATED:20230801T171114Z
LAST-MODIFIED:20230801T171114Z
UID:33448-1698134400-1698339600@sacada.org
SUMMARY:Red Ribbon Concert
DESCRIPTION:
URL:https://sacada.org/event/red-ribbon-concert/
ORGANIZER;CN="Sarah Fulton":MAILTO:sfulton@sacada.org
END:VEVENT
BEGIN:VEVENT
DTSTART;TZID=America/Chicago:20231024T133000
DTEND;TZID=America/Chicago:20231024T153000
DTSTAMP:20260423T020451
CREATED:20231004T200347Z
LAST-MODIFIED:20231004T201243Z
UID:33869-1698154200-1698161400@sacada.org
SUMMARY:Kendall County Coalition Meeting
DESCRIPTION:Hybrid Meeting\, Location: Patrick Heath Public Library\, in the conference room on the second floor.\n\nThe Zoom link is https://us02web.zoom.us/j/86548102413?pwd=eVdvbDBxU01lSXJaS3BRUHdaMVBWQT09
URL:https://sacada.org/event/kendall-county-coalition-meeting-6/
LOCATION:Patrick Health Public Library\, 451 N. Main St. Building 100\, Boerne\, 78006\, United States
END:VEVENT
BEGIN:VEVENT
DTSTART;TZID=America/Chicago:20231024T153000
DTEND;TZID=America/Chicago:20231024T173000
DTSTAMP:20260423T020451
CREATED:20230126T201732Z
LAST-MODIFIED:20230126T201732Z
UID:32886-1698161400-1698168600@sacada.org
SUMMARY:Comal County Community Coalition Meeting
DESCRIPTION:RSVP to Boyd Baxter bbaxter@sacada.org
URL:https://sacada.org/event/comal-county-community-coalition-meeting-8/
LOCATION:Tye Preston Memorial Library\, 16311 S. Access Rd.\, Canyon Lake\, TX\, Texas\, 78133
END:VEVENT
BEGIN:VEVENT
DTSTART;TZID=America/Chicago:20231027T113000
DTEND;TZID=America/Chicago:20231027T130000
DTSTAMP:20260423T020451
CREATED:20230801T171223Z
LAST-MODIFIED:20230801T171223Z
UID:33454-1698406200-1698411600@sacada.org
SUMMARY:Red Ribbon Luncheon
DESCRIPTION:
URL:https://sacada.org/event/red-ribbon-luncheon/
ORGANIZER;CN="Velda Schalk":MAILTO:vschalk@sacada.org
END:VEVENT
END:VCALENDAR