BEGIN:VCALENDAR
VERSION:2.0
PRODID:-//San Antonio Council on Alcohol &amp; Drug Awareness - ECPv6.15.20//NONSGML v1.0//EN
CALSCALE:GREGORIAN
METHOD:PUBLISH
X-WR-CALNAME:San Antonio Council on Alcohol &amp; Drug Awareness
X-ORIGINAL-URL:https://sacada.org
X-WR-CALDESC:Events for San Antonio Council on Alcohol &amp; Drug Awareness
REFRESH-INTERVAL;VALUE=DURATION:PT1H
X-Robots-Tag:noindex
X-PUBLISHED-TTL:PT1H
BEGIN:VTIMEZONE
TZID:America/Chicago
BEGIN:DAYLIGHT
TZOFFSETFROM:-0600
TZOFFSETTO:-0500
TZNAME:CDT
DTSTART:20220313T080000
END:DAYLIGHT
BEGIN:STANDARD
TZOFFSETFROM:-0500
TZOFFSETTO:-0600
TZNAME:CST
DTSTART:20221106T070000
END:STANDARD
BEGIN:DAYLIGHT
TZOFFSETFROM:-0600
TZOFFSETTO:-0500
TZNAME:CDT
DTSTART:20230312T080000
END:DAYLIGHT
BEGIN:STANDARD
TZOFFSETFROM:-0500
TZOFFSETTO:-0600
TZNAME:CST
DTSTART:20231105T070000
END:STANDARD
BEGIN:DAYLIGHT
TZOFFSETFROM:-0600
TZOFFSETTO:-0500
TZNAME:CDT
DTSTART:20240310T080000
END:DAYLIGHT
BEGIN:STANDARD
TZOFFSETFROM:-0500
TZOFFSETTO:-0600
TZNAME:CST
DTSTART:20241103T070000
END:STANDARD
END:VTIMEZONE
BEGIN:VEVENT
DTSTART;TZID=America/Chicago:20230909T100000
DTEND;TZID=America/Chicago:20230909T140000
DTSTAMP:20260423T001748
CREATED:20230725T173736Z
LAST-MODIFIED:20230725T173844Z
UID:33437-1694253600-1694268000@sacada.org
SUMMARY:Big Texas Rally for Recovery September 9\, 2023
DESCRIPTION:
URL:https://sacada.org/event/big-texas-rally-for-recovery-september-9-2023/
LOCATION:Los Patios 2015 NE Loop 410 San Antonio\, Texas\, 2015 NE Loope 410\, San Antonio\, Texas
END:VEVENT
BEGIN:VEVENT
DTSTART;TZID=America/Chicago:20230913T150000
DTEND;TZID=America/Chicago:20230913T163000
DTSTAMP:20260423T001748
CREATED:20230213T170749Z
LAST-MODIFIED:20230213T170749Z
UID:32939-1694617200-1694622600@sacada.org
SUMMARY:Circles of San Antonio Community Coalition Meeting
DESCRIPTION:
URL:https://sacada.org/event/circles-of-san-antonio-community-coalition-meeting-20/
LOCATION:San Antonio Council on Alcohol & Drug Awareness\, 7500 US Hwy 90 West\, Dave Coy Building Ste. 201\, San Antonio\, TX\, 78227\, United States
END:VEVENT
BEGIN:VEVENT
DTSTART;TZID=America/Chicago:20230918T150000
DTEND;TZID=America/Chicago:20230918T163000
DTSTAMP:20260423T001748
CREATED:20221122T151036Z
LAST-MODIFIED:20221122T151036Z
UID:32688-1695049200-1695054600@sacada.org
SUMMARY:Alcohol Policy Meeting
DESCRIPTION:
URL:https://sacada.org/event/alcohol-policy-meeting-5/
LOCATION:High Intensity Drug Trafficking Areas Southwest Office Building\, 4204 Woodcock Drive\, Ste. 100\, San Antonio\, TX
END:VEVENT
BEGIN:VEVENT
DTSTART;TZID=America/Chicago:20230926T153000
DTEND;TZID=America/Chicago:20230926T173000
DTSTAMP:20260423T001748
CREATED:20230126T201545Z
LAST-MODIFIED:20230126T201545Z
UID:32884-1695742200-1695749400@sacada.org
SUMMARY:Comal County Community Coalition Meeting
DESCRIPTION:RSVP to Boyd Baxter bbaxter@sacada.org
URL:https://sacada.org/event/comal-county-community-coalition-meeting-7/
LOCATION:Tye Preston Memorial Library\, 16311 S. Access Rd.\, Canyon Lake\, TX\, Texas\, 78133
END:VEVENT
END:VCALENDAR