BEGIN:VCALENDAR
VERSION:2.0
PRODID:-//San Antonio Council on Alcohol &amp; Drug Awareness - ECPv6.15.20//NONSGML v1.0//EN
CALSCALE:GREGORIAN
METHOD:PUBLISH
X-ORIGINAL-URL:https://sacada.org
X-WR-CALDESC:Events for San Antonio Council on Alcohol &amp; Drug Awareness
REFRESH-INTERVAL;VALUE=DURATION:PT1H
X-Robots-Tag:noindex
X-PUBLISHED-TTL:PT1H
BEGIN:VTIMEZONE
TZID:America/Chicago
BEGIN:DAYLIGHT
TZOFFSETFROM:-0600
TZOFFSETTO:-0500
TZNAME:CDT
DTSTART:20220313T080000
END:DAYLIGHT
BEGIN:STANDARD
TZOFFSETFROM:-0500
TZOFFSETTO:-0600
TZNAME:CST
DTSTART:20221106T070000
END:STANDARD
BEGIN:DAYLIGHT
TZOFFSETFROM:-0600
TZOFFSETTO:-0500
TZNAME:CDT
DTSTART:20230312T080000
END:DAYLIGHT
BEGIN:STANDARD
TZOFFSETFROM:-0500
TZOFFSETTO:-0600
TZNAME:CST
DTSTART:20231105T070000
END:STANDARD
BEGIN:DAYLIGHT
TZOFFSETFROM:-0600
TZOFFSETTO:-0500
TZNAME:CDT
DTSTART:20240310T080000
END:DAYLIGHT
BEGIN:STANDARD
TZOFFSETFROM:-0500
TZOFFSETTO:-0600
TZNAME:CST
DTSTART:20241103T070000
END:STANDARD
END:VTIMEZONE
BEGIN:VEVENT
DTSTART;TZID=America/Chicago:20230509T150000
DTEND;TZID=America/Chicago:20230509T163000
DTSTAMP:20260419T223518
CREATED:20230110T213337Z
LAST-MODIFIED:20230110T213337Z
UID:32841-1683644400-1683649800@sacada.org
SUMMARY:Guadalupe County Community Coalition
DESCRIPTION:To RSVP send an email to keberhard@sacada.org
URL:https://sacada.org/event/guadalupe-county-community-coalition-2/
END:VEVENT
BEGIN:VEVENT
DTSTART;TZID=America/Chicago:20230510T150000
DTEND;TZID=America/Chicago:20230510T163000
DTSTAMP:20260419T223518
CREATED:20230213T170328Z
LAST-MODIFIED:20230213T170328Z
UID:32931-1683730800-1683736200@sacada.org
SUMMARY:Circles of San Antonio Community Coalition Meeting
DESCRIPTION:
URL:https://sacada.org/event/circles-of-san-antonio-community-coalition-meeting-16/
LOCATION:San Antonio Council on Alcohol & Drug Awareness\, 7500 US Hwy 90 West\, Dave Coy Building Ste. 201\, San Antonio\, TX\, 78227\, United States
END:VEVENT
BEGIN:VEVENT
DTSTART;TZID=America/Chicago:20230511T090000
DTEND;TZID=America/Chicago:20230511T100000
DTSTAMP:20260419T223518
CREATED:20230413T154241Z
LAST-MODIFIED:20230413T172154Z
UID:33287-1683795600-1683799200@sacada.org
SUMMARY:Coffee with Dr. Collier
DESCRIPTION:Webinar Registration – Zoom\n  \nGrab your morning coffee and join us for a discussion with Dr. Crystal Collier during National Prevention Week!
URL:https://sacada.org/event/coffee-with-dr-collier/
LOCATION:Online Event
ATTACH;FMTTYPE=image/jpeg:https://sacada.org/wp-content/uploads/2023/04/Coffee-with-Dr.-Collier-graphic-2023-social-media-1.jpg
END:VEVENT
BEGIN:VEVENT
DTSTART;TZID=America/Chicago:20230515T150000
DTEND;TZID=America/Chicago:20230515T163000
DTSTAMP:20260419T223518
CREATED:20221122T150458Z
LAST-MODIFIED:20221122T150458Z
UID:32684-1684162800-1684168200@sacada.org
SUMMARY:Alcohol Policy Meeting
DESCRIPTION:
URL:https://sacada.org/event/alcohol-policy-meeting-3/
LOCATION:High Intensity Drug Trafficking Areas Southwest Office Building\, 4204 Woodcock Drive\, Ste. 100\, San Antonio\, TX
END:VEVENT
BEGIN:VEVENT
DTSTART;TZID=America/Chicago:20230519T070000
DTEND;TZID=America/Chicago:20230519T150000
DTSTAMP:20260419T223518
CREATED:20230424T220629Z
LAST-MODIFIED:20230424T220820Z
UID:33306-1684479600-1684508400@sacada.org
SUMMARY:2023 Pars for Prevention
DESCRIPTION:
URL:https://sacada.org/event/2023-pars-for-prevention/
LOCATION:SilverHorn Golf Club of Texas\, 1100 West Bitters Rd.\, San Antonio\, Texas\, 78216
ORGANIZER;CN="Velda Schalk":MAILTO:vschalk@sacada.org
END:VEVENT
BEGIN:VEVENT
DTSTART;TZID=America/Chicago:20230523T133000
DTEND;TZID=America/Chicago:20230523T150000
DTSTAMP:20260419T223518
CREATED:20221012T133011Z
LAST-MODIFIED:20221012T133011Z
UID:32612-1684848600-1684854000@sacada.org
SUMMARY:Kendall County Coalition Meeting
DESCRIPTION:
URL:https://sacada.org/event/kendall-county-coalition-meeting-8/
LOCATION:Patrick Heath Public Library\, 451 N Main St\, Boerne\, Texas\, 78006
END:VEVENT
BEGIN:VEVENT
DTSTART;TZID=America/Chicago:20230523T153000
DTEND;TZID=America/Chicago:20230523T173000
DTSTAMP:20260419T223518
CREATED:20230126T200653Z
LAST-MODIFIED:20230126T202712Z
UID:32878-1684855800-1684863000@sacada.org
SUMMARY:Comal County Community Coalition Meeting
DESCRIPTION:RSVP to Boyd Baxter bbaxter@sacada.org
URL:https://sacada.org/event/comal-county-community-coalition-meeting-4/
LOCATION:Tye Preston Memorial Library\, 16311 S. Access Rd.\, Canyon Lake\, TX\, Texas\, 78133
END:VEVENT
END:VCALENDAR