BEGIN:VCALENDAR
VERSION:2.0
PRODID:-//San Antonio Council on Alcohol &amp; Drug Awareness - ECPv6.15.20//NONSGML v1.0//EN
CALSCALE:GREGORIAN
METHOD:PUBLISH
X-ORIGINAL-URL:https://sacada.org
X-WR-CALDESC:Events for San Antonio Council on Alcohol &amp; Drug Awareness
REFRESH-INTERVAL;VALUE=DURATION:PT1H
X-Robots-Tag:noindex
X-PUBLISHED-TTL:PT1H
BEGIN:VTIMEZONE
TZID:America/Chicago
BEGIN:DAYLIGHT
TZOFFSETFROM:-0600
TZOFFSETTO:-0500
TZNAME:CDT
DTSTART:20220313T080000
END:DAYLIGHT
BEGIN:STANDARD
TZOFFSETFROM:-0500
TZOFFSETTO:-0600
TZNAME:CST
DTSTART:20221106T070000
END:STANDARD
BEGIN:DAYLIGHT
TZOFFSETFROM:-0600
TZOFFSETTO:-0500
TZNAME:CDT
DTSTART:20230312T080000
END:DAYLIGHT
BEGIN:STANDARD
TZOFFSETFROM:-0500
TZOFFSETTO:-0600
TZNAME:CST
DTSTART:20231105T070000
END:STANDARD
BEGIN:DAYLIGHT
TZOFFSETFROM:-0600
TZOFFSETTO:-0500
TZNAME:CDT
DTSTART:20240310T080000
END:DAYLIGHT
BEGIN:STANDARD
TZOFFSETFROM:-0500
TZOFFSETTO:-0600
TZNAME:CST
DTSTART:20241103T070000
END:STANDARD
END:VTIMEZONE
BEGIN:VEVENT
DTSTART;TZID=America/Chicago:20230208T150000
DTEND;TZID=America/Chicago:20230208T163000
DTSTAMP:20260419T173904
CREATED:20230130T162123Z
LAST-MODIFIED:20230130T162123Z
UID:32900-1675868400-1675873800@sacada.org
SUMMARY:Circles of San Antonio Community Coalition Meeting
DESCRIPTION:
URL:https://sacada.org/event/circles-of-san-antonio-community-coalition-meeting-14/
END:VEVENT
BEGIN:VEVENT
DTSTART;TZID=America/Chicago:20230213T150000
DTEND;TZID=America/Chicago:20230213T163000
DTSTAMP:20260419T173904
CREATED:20221129T172639Z
LAST-MODIFIED:20221129T172826Z
UID:32701-1676300400-1676305800@sacada.org
SUMMARY:Marijuana Workgroup
DESCRIPTION:
URL:https://sacada.org/event/marijuana-workgroup/
LOCATION:San Antonio Council on Alcohol & Drug Awareness\, 7500 US Hwy 90 West\, Dave Coy Building Ste. 201\, San Antonio\, TX\, 78227\, United States
END:VEVENT
BEGIN:VEVENT
DTSTART;TZID=America/Chicago:20230214T150000
DTEND;TZID=America/Chicago:20230214T163000
DTSTAMP:20260419T173904
CREATED:20230110T212918Z
LAST-MODIFIED:20230110T212918Z
UID:32835-1676386800-1676392200@sacada.org
SUMMARY:Guadalupe County Community Coalition Meeting
DESCRIPTION:To RSVP send an email to keberhard@sacada.org
URL:https://sacada.org/event/guadalupe-county-community-coalition-meeting-5/
END:VEVENT
BEGIN:VEVENT
DTSTART;TZID=America/Chicago:20230227T150000
DTEND;TZID=America/Chicago:20230227T163000
DTSTAMP:20260419T173904
CREATED:20230202T165006Z
LAST-MODIFIED:20230202T165006Z
UID:32913-1677510000-1677515400@sacada.org
SUMMARY:Alcohol Policy Workgroup
DESCRIPTION:In Person at HIDTA\, 4204 Woodcock Dr\, SAPD Conference Room \nOr via Zoom
URL:https://sacada.org/event/alcohol-policy-workgroup-2/
LOCATION:High Intensity Drug Trafficking Areas Southwest Office Building\, 4204 Woodcock Drive\, Ste. 100\, San Antonio\, TX
END:VEVENT
BEGIN:VEVENT
DTSTART;TZID=America/Chicago:20230228T133000
DTEND;TZID=America/Chicago:20230228T150000
DTSTAMP:20260419T173904
CREATED:20221012T132543Z
LAST-MODIFIED:20221012T132543Z
UID:32606-1677591000-1677596400@sacada.org
SUMMARY:Kendall County Coalition Meeting
DESCRIPTION:
URL:https://sacada.org/event/kendall-county-coalition-meeting-5/
LOCATION:Patrick Heath Public Library\, 451 N Main St\, Boerne\, Texas\, 78006
END:VEVENT
BEGIN:VEVENT
DTSTART;TZID=America/Chicago:20230228T153000
DTEND;TZID=America/Chicago:20230228T173000
DTSTAMP:20260419T173904
CREATED:20230126T195753Z
LAST-MODIFIED:20230126T195753Z
UID:32871-1677598200-1677605400@sacada.org
SUMMARY:Comal County Community Coalition Meeting
DESCRIPTION:RSVP to Boyd Baxter bbaxter@sacada.org
URL:https://sacada.org/event/comal-county-community-coalition-meeting/
LOCATION:Tye Preston Memorial Library\, 16311 S. Access Rd.\, Canyon Lake\, TX\, Texas\, 78133
END:VEVENT
END:VCALENDAR