BEGIN:VCALENDAR
VERSION:2.0
PRODID:-//San Antonio Council on Alcohol &amp; Drug Awareness - ECPv6.15.20//NONSGML v1.0//EN
CALSCALE:GREGORIAN
METHOD:PUBLISH
X-ORIGINAL-URL:https://sacada.org
X-WR-CALDESC:Events for San Antonio Council on Alcohol &amp; Drug Awareness
REFRESH-INTERVAL;VALUE=DURATION:PT1H
X-Robots-Tag:noindex
X-PUBLISHED-TTL:PT1H
BEGIN:VTIMEZONE
TZID:America/Chicago
BEGIN:DAYLIGHT
TZOFFSETFROM:-0600
TZOFFSETTO:-0500
TZNAME:CDT
DTSTART:20210314T080000
END:DAYLIGHT
BEGIN:STANDARD
TZOFFSETFROM:-0500
TZOFFSETTO:-0600
TZNAME:CST
DTSTART:20211107T070000
END:STANDARD
BEGIN:DAYLIGHT
TZOFFSETFROM:-0600
TZOFFSETTO:-0500
TZNAME:CDT
DTSTART:20220313T080000
END:DAYLIGHT
BEGIN:STANDARD
TZOFFSETFROM:-0500
TZOFFSETTO:-0600
TZNAME:CST
DTSTART:20221106T070000
END:STANDARD
BEGIN:DAYLIGHT
TZOFFSETFROM:-0600
TZOFFSETTO:-0500
TZNAME:CDT
DTSTART:20230312T080000
END:DAYLIGHT
BEGIN:STANDARD
TZOFFSETFROM:-0500
TZOFFSETTO:-0600
TZNAME:CST
DTSTART:20231105T070000
END:STANDARD
END:VTIMEZONE
BEGIN:VEVENT
DTSTART;TZID=America/Chicago:20220603T090000
DTEND;TZID=America/Chicago:20220603T120000
DTSTAMP:20260419T141031
CREATED:20190926T135905Z
LAST-MODIFIED:20220922T001114Z
UID:31965-1654246800-1654257600@sacada.org
SUMMARY:First Friday Workshops
DESCRIPTION:[vc_row css_animation=”” row_type=”row” use_row_as_full_screen_section=”no” type=”full_width” angled_section=”no” text_align=”left” background_image_as_pattern=”without_pattern” z_index=””][vc_column][vc_single_image image=”19423″ img_size=”full” alignment=”center” qode_css_animation=””][vc_empty_space height=”75px”][/vc_column][/vc_row][vc_row css_animation=”” row_type=”row” use_row_as_full_screen_section=”no” type=”full_width” angled_section=”no” text_align=”left” background_image_as_pattern=”without_pattern”][vc_column width=”1/4″ offset=”vc_hidden-md vc_hidden-sm vc_hidden-xs”][vc_widget_sidebar sidebar_id=”Education & Training”][/vc_column][vc_column width=”3/4″][vc_row_inner row_type=”row” type=”full_width” text_align=”left” css_animation=””][vc_column_inner][vc_column_text] \nWe’re finalizing the speaker for this session\, check back later…\n  \nLocation: Zoom – Virtual Workshops\nIn response to the COVID-19 pandemic\, and for the health and safety of our workshop participants\, First Friday Workshops will be held virtually through Zoom until further notice. \nWorkshop participants will receive the Zoom link for the Workshop the day before the workshop takes place. Workshop will start letting participants into the virtual classroom 15 minutes before start time for participants to test their equipment.[/vc_column_text][vc_empty_space height=”20px”][vc_column_text] \n  \nAbout First Friday Workshops\n[/vc_column_text][vc_empty_space height=”20px”][vc_column_text] \n\nSACADA is a certified CEH provider of the Texas Certification Board and CEU provider for LCDC\, LPC\, CCJP\, Social Workers and LMFT.\nEach workshop session is $35 or attend both workshops for $60.\nTo register for a workshop\, fill out the form below or call (210) 225-4741. Payment can be made online or over the phone.\nPayments are processed through PayPal but you do not need a PayPal account if you pay as a “guest”.\nCancellations or changes to workshops may occur.\nNo Refunds; however\, you may receive a voucher for future attendance.\nInterested in attending for free? Contact Gyna Juarez for more info at gjuarez@sacada.org.\n\n[/vc_column_text][vc_empty_space height=”20px”][/vc_column_inner][/vc_row_inner][vc_empty_space height=”20px”][vc_column_text] \nSave the Date for Upcoming Workshops\n[/vc_column_text][vc_empty_space height=”20px”][vc_column_text]May 6\, 2022 \nJune 3\, 2022 \nJuly 8\, 2022 \nAugust 5\, 2022 \nSeptember 9\, 2022 \nOctober 7\, 2022 \nNovember 2\, 2022 \nDecember 2\, 2022[/vc_column_text][vc_empty_space height=”50px”][vc_column_text] \nRegister\n[/vc_column_text][vc_empty_space height=”20px”][vc_row_inner row_type=”row” type=”full_width” text_align=”left” css_animation=””][vc_column_inner width=”2/3″][vc_column_text]\n			\n			\n			\n			\n			\n							  \n							  \n								\n								  \n									\n									  \n										\n									  \n									\n								  \n								  \n								\n							  \n							\n							\n							  \n							  \n								\n								  \n									\n									  \n										Thank You for Registering!Taking You to Payment Screen...\n										\n									  \n									\n								  \n								  \n								\n							  \n							11\n										\n										\n										\n										\n										\n										\n										\n										\n									\n									\n									\n									\n										\n										\n										\n										\n										\n										\n										\n										\n											\n												0%\n											\n										\n										\n										\n									https://sacada.org/wp-content/plugins/nex-forms-express-wp-form-builderfalsemessagehttps://sacada.org/wp-admin/admin-ajax.phphttps://sacada.org/events/month/2022-10yes1fadeInfadeOut\n							\n								\n							\n							*Name*Email*PhoneOrganizationHow did you hear about us?Which Session Would You Like to Attend?Attendee(s)*Please Select One AM Session ($35) PM Session ($35) Both Sessions ($60)*Quantity*Attendee 1Attendee 2Attendee 3Attendee 4Attendee 5Total = $0* NOTE: You can use a Credit Card or PayPal to pay for this courseProceed to Payment >[/vc_column_text][/vc_column_inner][vc_column_inner width=”1/3″][/vc_column_inner][/vc_row_inner][vc_empty_space height=”50px”][/vc_column][/vc_row]
URL:https://sacada.org/event/first-friday-workshops-3-2022-06-03/
LOCATION:Online Event
CATEGORIES:Education & Training,First Friday Workshops
ATTACH;FMTTYPE=image/jpeg:https://sacada.org/wp-content/uploads/2018/04/Upcoming-Classes-1c.jpg
ORGANIZER;CN="Gyna Juarez":MAILTO:gjuarez@sacada.org
END:VEVENT
BEGIN:VEVENT
DTSTART;TZID=America/Chicago:20221011T080000
DTEND;TZID=America/Chicago:20221011T170000
DTSTAMP:20260419T141031
CREATED:20211025T151008Z
LAST-MODIFIED:20211025T151008Z
UID:31058-1665475200-1665507600@sacada.org
SUMMARY:2022 State Approved Recovery Coach Training & CORE Class
DESCRIPTION:
URL:https://sacada.org/event/2022-state-approved-recovery-coach-training-core-class-2/
CATEGORIES:State Approved Recovery Coach Training
END:VEVENT
BEGIN:VEVENT
DTSTART;TZID=America/Chicago:20221011T080000
DTEND;TZID=America/Chicago:20221011T170000
DTSTAMP:20260419T141031
CREATED:20220325T200416Z
LAST-MODIFIED:20220325T200524Z
UID:32045-1665475200-1665507600@sacada.org
SUMMARY:State Approved Recovery Coach Training (October 2022)
DESCRIPTION:[vc_row css_animation=”” row_type=”row” use_row_as_full_screen_section=”no” type=”full_width” angled_section=”no” text_align=”left” background_image_as_pattern=”without_pattern”][vc_column][vc_column_text] \nRead more about this course »\n[/vc_column_text][vc_empty_space height=”20px”][vc_column_text] \nOctober Class Dates:\n\n\n\nDate (Day)Time\n\n11th ( Tue)8 am - 5 pm\n\n17th & 18th (Mon\, Tue)8 am - 5 pm\n\n19th (Wed)8 am - 12 pm\n\n24th & 25th (Mon\, Tue)8 am - 5 pm\n\n26th (Wed)8 am - 12 pm\n[/vc_column_text][vc_empty_space height=”30px”][vc_column_text] \n\n\nDue to COVID\, we have moved to the virtual classroom via Zoom. For the safety of our participants and staff\, the course will continue to be held virtual until further notice. \n\n\n[/vc_column_text][vc_empty_space height=”20px”][vc_column_text] \n\n\n\nParticipant must have a computer or phone with a working camera and microphone and access to wifi in order to successfully complete the class.\n[/vc_column_text][vc_empty_space height=”20px”][vc_column_text] \n\n\n\nTotal training cost is $450. Payment must be made 3-weeks prior to course date you choose. All sales are final with purchase of class. Participants must register and pay in advance before the first day of class. SACADA accepts cash and credit card.\n[/vc_column_text][vc_empty_space height=”20px”][vc_column_text] \n\n\n\n\n\nFor questions or more information\, contact Recovery Support Peer Specialist\, Supervisor Jose Martinez at JMartinez@sacada.org\, or call us at (210) 225-4741. \n\n\n[/vc_column_text][vc_empty_space height=”50px”][vc_row_inner row_type=”row” type=”full_width” text_align=”left” css_animation=””][vc_column_inner width=”1/6″][/vc_column_inner][vc_column_inner width=”2/3″][vc_column_text] \nRegister Now:\nComplete the form below\, after which you will be taken to PayPal to pay for the class (credit cards accepted):[/vc_column_text][vc_empty_space height=”20px”][vc_column_text]\n			\n			\n			\n			\n			\n							  \n							  \n								\n								  \n									\n									  \n										\n									  \n									\n								  \n								  \n								\n							  \n							\n							\n							  \n							  \n								\n								  \n									\n									  \n										Thank You for Registering!Taking You to Payment Screen...\n										\n									  \n									\n								  \n								  \n								\n							  \n							11\n										\n										\n										\n										\n										\n									\n									\n									\n									\n									\n									\n									\n									\n									\n									\n									\n									\n									\n									\n									\n									\n									\n									\n									\n									\n									\n									\n									\n									\n										\n										\n										\n										\n										\n											\n												0%\n											\n										\n										\n										\n									https://sacada.org/wp-content/plugins/nex-forms-express-wp-form-builderfalsemessagehttps://sacada.org/wp-admin/admin-ajax.phphttps://sacada.org/events/month/2022-10yes1fadeInfadeOut\n							\n								\n							\n							* Required Field*Attandee Name*Address 1Address 2*City*State*ZIP*Phone*Email*Are you 18 or older?YesNo*Do you have “lived experience” ?YesNo*How did you hear about us?*Select Class PaymentCORE Training only ($50)Recovery Support Peer Specialist Training only ($400)Both CORE & Recovery Support Peer Specialist Training ($450)*Select RSPS Date OptionCORE Training only\, No RSPS OptionRSPS Option 1 - Starts March 7thRSPS Option 2 - Starts July 11thRSPS Option 3 - Starts October 17thTotal = $0NOTE: You can use a Credit Card or PayPal to pay for this courseProceed to Payment >[/vc_column_text][vc_empty_space height=”70px”][/vc_column_inner][vc_column_inner width=”1/6″][/vc_column_inner][/vc_row_inner][/vc_column][/vc_row]
URL:https://sacada.org/event/state-approved-recovery-coach-training-october-2022/
LOCATION:Online
CATEGORIES:State Approved Recovery Coach Training
ATTACH;FMTTYPE=image/jpeg:https://sacada.org/wp-content/uploads/2020/01/Recovery-Coach-Training-Upcoming-Header.jpg
END:VEVENT
BEGIN:VEVENT
DTSTART;TZID=America/Chicago:20221012T150000
DTEND;TZID=America/Chicago:20221012T163000
DTSTAMP:20260419T141031
CREATED:20221006T134756Z
LAST-MODIFIED:20221006T134756Z
UID:32580-1665586800-1665592200@sacada.org
SUMMARY:Circle of SA Meeting
DESCRIPTION:
URL:https://sacada.org/event/circle-of-sa-meeting/
LOCATION:San Antonio Council on Alcohol & Drug Awareness\, 7500 US Hwy 90 West\, Dave Coy Building Ste. 201\, San Antonio\, TX\, 78227\, United States
ORGANIZER;CN="Vicki Thomas":MAILTO:vthomas@sacada.org
END:VEVENT
BEGIN:VEVENT
DTSTART;TZID=America/Chicago:20221017T150000
DTEND;TZID=America/Chicago:20221017T163000
DTSTAMP:20260419T141031
CREATED:20221006T135122Z
LAST-MODIFIED:20221006T135122Z
UID:32582-1666018800-1666024200@sacada.org
SUMMARY:Alcohol Policy Workgroup Meeting
DESCRIPTION:
URL:https://sacada.org/event/alcohol-policy-workgroup-meeting-2/
LOCATION:High Intensity Drug Trafficking Areas Southwest Office Building\, 4204 Woodcock Drive\, Ste. 100\, San Antonio\, TX
ORGANIZER;CN="Vicki Thomas":MAILTO:vthomas@sacada.org
END:VEVENT
BEGIN:VEVENT
DTSTART;TZID=America/Chicago:20221025T133000
DTEND;TZID=America/Chicago:20221025T150000
DTSTAMP:20260419T141031
CREATED:20221012T131853Z
LAST-MODIFIED:20221012T131853Z
UID:32598-1666704600-1666710000@sacada.org
SUMMARY:Kendall County Coalition Meeting
DESCRIPTION:
URL:https://sacada.org/event/kendall-county-coalition-meeting/
LOCATION:Patrick Heath Public Library\, 451 N Main St\, Boerne\, Texas\, 78006
END:VEVENT
END:VCALENDAR