BEGIN:VCALENDAR
VERSION:2.0
PRODID:-//San Antonio Council on Alcohol &amp; Drug Awareness - ECPv6.15.20//NONSGML v1.0//EN
CALSCALE:GREGORIAN
METHOD:PUBLISH
X-WR-CALNAME:San Antonio Council on Alcohol &amp; Drug Awareness
X-ORIGINAL-URL:https://sacada.org
X-WR-CALDESC:Events for San Antonio Council on Alcohol &amp; Drug Awareness
REFRESH-INTERVAL;VALUE=DURATION:PT1H
X-Robots-Tag:noindex
X-PUBLISHED-TTL:PT1H
BEGIN:VTIMEZONE
TZID:America/Chicago
BEGIN:DAYLIGHT
TZOFFSETFROM:-0600
TZOFFSETTO:-0500
TZNAME:CDT
DTSTART:20200308T080000
END:DAYLIGHT
BEGIN:STANDARD
TZOFFSETFROM:-0500
TZOFFSETTO:-0600
TZNAME:CST
DTSTART:20201101T070000
END:STANDARD
BEGIN:DAYLIGHT
TZOFFSETFROM:-0600
TZOFFSETTO:-0500
TZNAME:CDT
DTSTART:20210314T080000
END:DAYLIGHT
BEGIN:STANDARD
TZOFFSETFROM:-0500
TZOFFSETTO:-0600
TZNAME:CST
DTSTART:20211107T070000
END:STANDARD
BEGIN:DAYLIGHT
TZOFFSETFROM:-0600
TZOFFSETTO:-0500
TZNAME:CDT
DTSTART:20220313T080000
END:DAYLIGHT
BEGIN:STANDARD
TZOFFSETFROM:-0500
TZOFFSETTO:-0600
TZNAME:CST
DTSTART:20221106T070000
END:STANDARD
END:VTIMEZONE
BEGIN:VEVENT
DTSTART;TZID=America/Chicago:20211207T090000
DTEND;TZID=America/Chicago:20211207T110000
DTSTAMP:20260422T035649
CREATED:20211206T231250Z
LAST-MODIFIED:20211206T233331Z
UID:31135-1638867600-1638874800@sacada.org
SUMMARY:Bexar County DWI Task Force and Circles of San Antonio Meeting
DESCRIPTION:
URL:https://sacada.org/event/bexar-county-dwi-task-force-and-circles-of-san-antonio-meeting/
LOCATION:Alamo Area Council of Governments (AACOG) Building\, 2700 NE Loop 410\, Ste. 110\, San Antonio\, TX\, 78217
CATEGORIES:Community Coalition
ORGANIZER;CN="Vicki Thomas":MAILTO:vthomas@sacada.org
END:VEVENT
BEGIN:VEVENT
DTSTART;TZID=America/Chicago:20211214T150000
DTEND;TZID=America/Chicago:20211214T163000
DTSTAMP:20260422T035649
CREATED:20210412T203003Z
LAST-MODIFIED:20211208T233757Z
UID:28016-1639494000-1639499400@sacada.org
SUMMARY:Guadalupe County Community Coalition- December 14\, 2021
DESCRIPTION:Guadalupe County Community Coalition \nMonthly Meetings \nDecember 14\, 2021 \n3:00pm – 4:30pm  \nVirtual Meeting  \nRSVP\, Amy Alston\, aalston@sacada.org  \nJoin Zoom Meeting \nhttps://us02web.zoom.us/j/81749573079?pwd=ZVNKUkpUUUF5cWE2akcwZHpzWEN5dz09 \nMeeting ID: 817 4957 3079 \nPasscode: 445670 \nOne tap mobile \n+13462487799\,\,81749573079# US (Houston) \n+16699009128\,\,81749573079# US (San Jose)
URL:https://sacada.org/event/guadalupe-county-community-coalition-december-14-2021/
CATEGORIES:Community Coalition
END:VEVENT
BEGIN:VEVENT
DTSTART;TZID=America/Chicago:20211220T150000
DTEND;TZID=America/Chicago:20211220T160000
DTSTAMP:20260422T035649
CREATED:20210329T212512Z
LAST-MODIFIED:20210329T212512Z
UID:27656-1640012400-1640016000@sacada.org
SUMMARY:Marijuana Workgroup Meeting December 20\, 2021
DESCRIPTION:Marijuana Workgroup Meeting\nMon\, Dec 20\, 2021 3:00 PM – 4:00 PM (CST)\nPlease join my meeting from your computer\, tablet or smartphone. \nhttps://global.gotomeeting.com/join/527674653\nYou can also dial in using your phone.\nUnited States: +1 (408) 650-3123\nAccess Code: 527-674-653 
URL:https://sacada.org/event/marijuana-workgroup-meeting-december-20-2021/
END:VEVENT
END:VCALENDAR