BEGIN:VCALENDAR
VERSION:2.0
PRODID:-//San Antonio Council on Alcohol &amp; Drug Awareness - ECPv6.15.20//NONSGML v1.0//EN
CALSCALE:GREGORIAN
METHOD:PUBLISH
X-WR-CALNAME:San Antonio Council on Alcohol &amp; Drug Awareness
X-ORIGINAL-URL:https://sacada.org
X-WR-CALDESC:Events for San Antonio Council on Alcohol &amp; Drug Awareness
REFRESH-INTERVAL;VALUE=DURATION:PT1H
X-Robots-Tag:noindex
X-PUBLISHED-TTL:PT1H
BEGIN:VTIMEZONE
TZID:America/Chicago
BEGIN:DAYLIGHT
TZOFFSETFROM:-0600
TZOFFSETTO:-0500
TZNAME:CDT
DTSTART:20200308T080000
END:DAYLIGHT
BEGIN:STANDARD
TZOFFSETFROM:-0500
TZOFFSETTO:-0600
TZNAME:CST
DTSTART:20201101T070000
END:STANDARD
BEGIN:DAYLIGHT
TZOFFSETFROM:-0600
TZOFFSETTO:-0500
TZNAME:CDT
DTSTART:20210314T080000
END:DAYLIGHT
BEGIN:STANDARD
TZOFFSETFROM:-0500
TZOFFSETTO:-0600
TZNAME:CST
DTSTART:20211107T070000
END:STANDARD
BEGIN:DAYLIGHT
TZOFFSETFROM:-0600
TZOFFSETTO:-0500
TZNAME:CDT
DTSTART:20220313T080000
END:DAYLIGHT
BEGIN:STANDARD
TZOFFSETFROM:-0500
TZOFFSETTO:-0600
TZNAME:CST
DTSTART:20221106T070000
END:STANDARD
END:VTIMEZONE
BEGIN:VEVENT
DTSTART;TZID=America/Chicago:20211109T150000
DTEND;TZID=America/Chicago:20211109T163000
DTSTAMP:20260420T015436
CREATED:20210412T202516Z
LAST-MODIFIED:20210415T210419Z
UID:28014-1636470000-1636475400@sacada.org
SUMMARY:Guadalupe County Community Coalition- November 9\, 2021
DESCRIPTION:Guadalupe County Community Coalition \nMonthly Meetings \nNovember 9\, 2021 \n3:00pm – 4:30pm  \nVirtual Meeting  \nRSVP\, Amy Alston\, aalston@sacada.org \nJoin Zoom Meeting \nhttps://us02web.zoom.us/j/81749573079?pwd=ZVNKUkpUUUF5cWE2akcwZHpzWEN5dz09 \nMeeting ID: 817 4957 3079 \nPasscode: 445670 \nOne tap mobile \n+13462487799\,\,81749573079# US (Houston) \n+16699009128\,\,81749573079# US (San Jose) \n 
URL:https://sacada.org/event/guadalupe-county-community-coalition-november-9-2021/
CATEGORIES:Community Coalition
END:VEVENT
BEGIN:VEVENT
DTSTART;TZID=America/Chicago:20211110T150000
DTEND;TZID=America/Chicago:20211110T163000
DTSTAMP:20260420T015436
CREATED:20210216T152341Z
LAST-MODIFIED:20210415T211234Z
UID:26813-1636556400-1636561800@sacada.org
SUMMARY:Circles of San Antonio Community Coalition Meeting
DESCRIPTION:Circles of San Antonio Community Coalition Meeting\nWed\, Nov 10\, 2021 3:00 PM – 4:30 PM (CST)\nPlease join my meeting from your computer\, tablet or smartphone.  \nJoin Zoom Meeting \nhttps://us02web.zoom.us/j/85836385874?pwd=dGh3SWZ2NEtOT0x3bGxsS1ByRUdldz09 \nMeeting ID: 858 3638 5874 \nPasscode: 699573 \nOne tap mobile \n+13462487799\,\,85836385874# US (Houston) \n+12532158782\,\,85836385874# US (Tacoma) \n  \nDial by your location \n+1 346 248 7799 US (Houston) \n+1 253 215 8782 US (Tacoma) \n+1 669 900 9128 US (San Jose) \n+1 312 626 6799 US (Chicago) \n+1 646 558 8656 US (New York) \n+1 301 715 8592 US (Washington DC) Meeting ID: 858 3638 5874 Find your local number: https://us02web.zoom.us/u/kcijtdoeEt
URL:https://sacada.org/event/circles-of-san-antonio-community-coalition-meeting-13/
CATEGORIES:Community Coalition
ORGANIZER;CN="Vicki Thomas":MAILTO:vthomas@sacada.org
END:VEVENT
BEGIN:VEVENT
DTSTART;TZID=America/Chicago:20211123T150000
DTEND;TZID=America/Chicago:20211123T163000
DTSTAMP:20260420T015436
CREATED:20210927T221722Z
LAST-MODIFIED:20210927T221722Z
UID:30961-1637679600-1637685000@sacada.org
SUMMARY:Comal County Coalition Meeting
DESCRIPTION:Topic: Comal County  Coalition Meeting \nJoin Zoom Meeting \nhttps://us02web.zoom.us/j/89784767061?pwd=cWFob1QyTVQ4bEFwbjhOSlRyMnJ6QT09 \nMeeting ID: 897 8476 7061 \nPasscode: 496838 \nComal community coalition meeting dates: The 4th Tuesday of each month from 3:00 pm to 4:30 pm \nDates: \n\nSeptember 28\, 2021\nOctober 26\, 2021\nNovember 23\, 2021\nNo December meeting\nJanuary 25\, 2022\nFebruary 22\, 2022\nMarch 22\, 2022\nApril 26\, 2022\nMay 24\, 2022\nJune 28\, 2022\nJuly 26\, 2022\nAugust 23\, 2022
URL:https://sacada.org/event/comal-county-coalition-meeting-2/
CATEGORIES:Comal County Community Coalition
ORGANIZER;CN="Boyd Baxter":MAILTO:bbaxter@sacada.org
END:VEVENT
BEGIN:VEVENT
DTSTART;TZID=America/Chicago:20211129T150000
DTEND;TZID=America/Chicago:20211129T160000
DTSTAMP:20260420T015436
CREATED:20210329T181815Z
LAST-MODIFIED:20211104T195950Z
UID:27648-1638198000-1638201600@sacada.org
SUMMARY:Alcohol Policy Workgroup Meeting November 29\, 2021
DESCRIPTION:  \nAlcohol Policy Workgroup Meeting\nMon\, Nov 29\, 2021 3:00 PM – 4:00 PM (CST) \nPlease join my meeting from your computer\, tablet or smartphone. \nJoin Zoom Meeting \n\nhttps://us02web.zoom.us/j/84207980855?pwd=dEsyeTRIOVliN2EydVp6SkEzYUtkZz09 \nMeeting ID: 842 0798 0855 \nPasscode: 732107 \nOne tap mobile \n+13462487799\,\,84207980855# US (Houston) \n+16699009128\,\,84207980855# US (San Jose) \nDial by your location \n+1 346 248 7799 US (Houston) \n+1 669 900 9128 US (San Jose) \n+1 253 215 8782 US (Tacoma) \n+1 312 626 6799 US (Chicago) \n+1 646 558 8656 US (New York) \n+1 301 715 8592 US (Washington DC) \nMeeting ID: 842 0798 0855 \nFind your local number: https://us02web.zoom.us/u/kCaaj0wL7 \n 
URL:https://sacada.org/event/alcohol-policy-workgroup-meeting-november-29-2021/
END:VEVENT
BEGIN:VEVENT
DTSTART;TZID=America/Chicago:20211130T133000
DTEND;TZID=America/Chicago:20211130T150000
DTSTAMP:20260420T015436
CREATED:20210916T173007Z
LAST-MODIFIED:20210916T173007Z
UID:30864-1638279000-1638284400@sacada.org
SUMMARY:Kendall County Coalition Meeting
DESCRIPTION:Topic: Kendall County  Coalition Meeting \nJoin Zoom Meeting\nhttps://us02web.zoom.us/j/86204875854?pwd=blpWRGhkRm9qVjhsVWNEZytHbE5hZz09 \nTime: 01:30 PM Central Time (US and Canada) \n Every month\, on the Fourth Tuesday: \n\n Tuesday September 28th\, 2021\nTuesday October 26th\, 2021\nTuesday November 30th\, 2021\nTuesday December 28th\, 2021\nTuesday January 25th\, 2022\nTuesday February 22nd\, 2022\nTuesday March 22nd\, 2022\nTuesday April 26th\, 2022\nTuesday May 24th\, 2022\nTuesday June 28th\, 2022\nTuesday July 26th\, 2022\nTuesday August 23rd\, 2022
URL:https://sacada.org/event/kendall-county-coalition-meeting-13/
CATEGORIES:Kendall County Coalition
ORGANIZER;CN="Aubrie Walker":MAILTO:awalker@sacada.org
END:VEVENT
END:VCALENDAR