BEGIN:VCALENDAR
VERSION:2.0
PRODID:-//San Antonio Council on Alcohol &amp; Drug Awareness - ECPv6.15.20//NONSGML v1.0//EN
CALSCALE:GREGORIAN
METHOD:PUBLISH
X-WR-CALNAME:San Antonio Council on Alcohol &amp; Drug Awareness
X-ORIGINAL-URL:https://sacada.org
X-WR-CALDESC:Events for San Antonio Council on Alcohol &amp; Drug Awareness
REFRESH-INTERVAL;VALUE=DURATION:PT1H
X-Robots-Tag:noindex
X-PUBLISHED-TTL:PT1H
BEGIN:VTIMEZONE
TZID:America/Chicago
BEGIN:DAYLIGHT
TZOFFSETFROM:-0600
TZOFFSETTO:-0500
TZNAME:CDT
DTSTART:20200308T080000
END:DAYLIGHT
BEGIN:STANDARD
TZOFFSETFROM:-0500
TZOFFSETTO:-0600
TZNAME:CST
DTSTART:20201101T070000
END:STANDARD
BEGIN:DAYLIGHT
TZOFFSETFROM:-0600
TZOFFSETTO:-0500
TZNAME:CDT
DTSTART:20210314T080000
END:DAYLIGHT
BEGIN:STANDARD
TZOFFSETFROM:-0500
TZOFFSETTO:-0600
TZNAME:CST
DTSTART:20211107T070000
END:STANDARD
BEGIN:DAYLIGHT
TZOFFSETFROM:-0600
TZOFFSETTO:-0500
TZNAME:CDT
DTSTART:20220313T080000
END:DAYLIGHT
BEGIN:STANDARD
TZOFFSETFROM:-0500
TZOFFSETTO:-0600
TZNAME:CST
DTSTART:20221106T070000
END:STANDARD
END:VTIMEZONE
BEGIN:VEVENT
DTSTART;TZID=America/Chicago:20211012T150000
DTEND;TZID=America/Chicago:20211012T163000
DTSTAMP:20260420T002240
CREATED:20210412T202214Z
LAST-MODIFIED:20210415T205621Z
UID:28011-1634050800-1634056200@sacada.org
SUMMARY:Guadalupe County Community Coalition- October 12\, 2021
DESCRIPTION:Guadalupe County Community Coalition \nMonthly Meetings \nOctober 12\, 2021 \n3:00pm – 4:30pm  \nVirtual Meeting \nRSVP\, Amy Alston\, aalston@sacada.org \n  \nJoin Zoom Meeting \nhttps://us02web.zoom.us/j/81749573079?pwd=ZVNKUkpUUUF5cWE2akcwZHpzWEN5dz09 \nMeeting ID: 817 4957 3079 \nPasscode: 445670 \nOne tap mobile \n+13462487799\,\,81749573079# US (Houston) \n+16699009128\,\,81749573079# US (San Jose)
URL:https://sacada.org/event/guadalupe-county-community-coalition-october-12-2021/
CATEGORIES:Community Coalition
END:VEVENT
BEGIN:VEVENT
DTSTART;TZID=America/Chicago:20211013T150000
DTEND;TZID=America/Chicago:20211013T163000
DTSTAMP:20260420T002240
CREATED:20210216T152205Z
LAST-MODIFIED:20210415T190105Z
UID:26811-1634137200-1634142600@sacada.org
SUMMARY:Circles of San Antonio Community Coalition Meeting
DESCRIPTION:Circles of San Antonio Community Coalition Meeting\nWed\, Oct 13\, 2021 3:00 PM – 4:30 PM (CDT)\nPlease join my meeting from your computer\, tablet or smartphone.  \nJoin Zoom Meeting \nhttps://us02web.zoom.us/j/85836385874?pwd=dGh3SWZ2NEtOT0x3bGxsS1ByRUdldz09 \n  \nMeeting ID: 858 3638 5874 \nPasscode: 699573 \nOne tap mobile \n+13462487799\,\,85836385874# US (Houston) \n+12532158782\,\,85836385874# US (Tacoma) \n  \nDial by your location \n+1 346 248 7799 US (Houston) \n+1 253 215 8782 US (Tacoma) \n+1 669 900 9128 US (San Jose) \n+1 312 626 6799 US (Chicago) \n+1 646 558 8656 US (New York) \n+1 301 715 8592 US (Washington DC) Meeting ID: 858 3638 5874 Find your local number: https://us02web.zoom.us/u/kcijtdoeEt
URL:https://sacada.org/event/circles-of-san-antonio-community-coalition-meeting-12/
CATEGORIES:Community Coalition
ORGANIZER;CN="Vicki Thomas":MAILTO:vthomas@sacada.org
END:VEVENT
BEGIN:VEVENT
DTSTART;TZID=America/Chicago:20211018T150000
DTEND;TZID=America/Chicago:20211018T160000
DTSTAMP:20260420T002240
CREATED:20210329T212219Z
LAST-MODIFIED:20210329T212219Z
UID:27654-1634569200-1634572800@sacada.org
SUMMARY:Marijuana Workgroup Meeting October 18\, 2021
DESCRIPTION:Marijuana Workgroup Meeting\nMon\, Oct 18\, 2021 3:00 PM – 4:00 PM (CDT)\nPlease join my meeting from your computer\, tablet or smartphone. \nhttps://global.gotomeeting.com/join/970669509\nYou can also dial in using your phone.\nUnited States: +1 (571) 317-3112\nAccess Code: 970-669-509 
URL:https://sacada.org/event/marijuana-workgroup-meeting-october-18-2021/
END:VEVENT
BEGIN:VEVENT
DTSTART;TZID=America/Chicago:20211025T080000
DTEND;TZID=America/Chicago:20211025T170000
DTSTAMP:20260420T002240
CREATED:20201103T135339Z
LAST-MODIFIED:20201103T135339Z
UID:23368-1635148800-1635181200@sacada.org
SUMMARY:State Approved Recovery Coach Training
DESCRIPTION:[vc_row css_animation=”” row_type=”row” use_row_as_full_screen_section=”no” type=”full_width” angled_section=”no” text_align=”left” background_image_as_pattern=”without_pattern” z_index=””][vc_column][vc_single_image image=”15684″ img_size=”full” alignment=”center” qode_css_animation=””][vc_empty_space height=”50px”][/vc_column][/vc_row][vc_row css_animation=”” row_type=”row” use_row_as_full_screen_section=”no” type=”full_width” angled_section=”no” text_align=”left” background_image_as_pattern=”without_pattern”][vc_column width=”1/4″ offset=”vc_hidden-md vc_hidden-sm vc_hidden-xs”][vc_widget_sidebar sidebar_id=”Education & Training”][/vc_column][vc_column width=”3/4″][vc_column_text]Are you interested in becoming a Professional Recovery Coach? Our Recovery Support Peer Specialist (RSPS) training will equip you with the necessary skills to come an invaluable asset in your profession and your organization. At the San Antonio Council on Alcohol and Drug Awareness (SACADA)\, we facilitate a reputable program that is cost-effective and recognized in the industry by leading professionals. SACADA is an approved training entity in San Antonio by the Texas Certification Board. \nReserve your seat as classroom space is limited.\n[/vc_column_text][vc_empty_space height=”20px”][vc_column_text] \nCORE Training\n\nCost: $50.00\nLength: 1-Day; 8 Hour Course\nMust take prior to RSPS Training\n\n  \nRecovery Support Peer Specialist Training (RSPS)\n\nCost: $400.00 (non-refundable)\nMust have “lived experience”\nLength: 6-Day; 46 Hour Course\nState Approved/Certification required after training\n\n[/vc_column_text][vc_empty_space height=”50px”][vc_row_inner row_type=”row” type=”full_width” text_align=”left” css_animation=””][vc_column_inner width=”1/2″][vc_column_text] \n2021 CORE Training Dates\n[/vc_column_text][vc_empty_space height=”20px”][vc_column_text]\n\n\nMonthDateTime\n\nFeb18th8 am - 5 pm\n\nJun23rd8 am - 5 pm\n\nOct30th8 am - 5 pm\n\n  \nA one-day CORE Training is mandatory prior to taking the RSPS.[/vc_column_text][vc_empty_space height=”20px”][vc_column_text] \n2021 RSPS Training Options\n[/vc_column_text][vc_empty_space height=”20px”][vc_column_text] \nPayment must be made 3-weeks prior to option date you choose.\n  \nOption 1\n\n\n\nMonthDateTime\n\nFeb24th & 25th8 am - 5 pm\n\nFeb26th8 am - 12 pm\n\nMar2nd & 3rd8 am - 5 pm\n\nMar4th8 am - 12 pm\n\n  \nOption 2\n\n\n\nMonthDateTime\n\nJun29th & 30th8 am - 5 pm\n\nJul1st8 am - 12 pm\n\nJul6th & 7th8 am - 5 pm\n\nJul8th8 am - 12 pm\n\n  \nOption 3\n\n\n\nMonthDateTime\n\nOct26th & 27th8 am - 5 pm\n\nOct28th8 am - 12 pm\n\nNov2nd & 3rd8 am - 5 pm\n\nNov4th8 am - 12 pm\n\n\n[/vc_column_text][/vc_column_inner][vc_column_inner width=”1/2″][vc_column_text] \nLocation\n[/vc_column_text][vc_empty_space height=”20px”][vc_column_text] \n  \nFor more information/application\, please contact: \nJose Martinez\nRecovery Support Peer Specialist\, Supervisor\n(210) 225-4741 • JMartinez@sacada.org[/vc_column_text][/vc_column_inner][/vc_row_inner][vc_empty_space height=”50px”][vc_column_text] \nRegister Today!\n[/vc_column_text][vc_empty_space height=”20px”][vc_row_inner row_type=”row” type=”full_width” text_align=”left” css_animation=””][vc_column_inner width=”2/3″][vc_column_text]\n			\n			\n			\n			\n			\n							  \n							  \n								\n								  \n									\n									  \n										\n									  \n									\n								  \n								  \n								\n							  \n							\n							\n							  \n							  \n								\n								  \n									\n									  \n										Thank You for Registering!Taking You to Payment Screen...\n										\n									  \n									\n								  \n								  \n								\n							  \n							11\n										\n										\n										\n										\n										\n									\n									\n									\n									\n									\n									\n									\n									\n									\n									\n									\n									\n									\n									\n									\n									\n									\n									\n									\n									\n									\n									\n									\n									\n										\n										\n										\n										\n										\n											\n												0%\n											\n										\n										\n										\n									https://sacada.org/wp-content/plugins/nex-forms-express-wp-form-builderfalsemessagehttps://sacada.org/wp-admin/admin-ajax.phphttps://sacada.org/events/month/2021-10yes1fadeInfadeOut\n							\n								\n							\n							* Required Field*Attandee Name*Address 1Address 2*City*State*ZIP*Phone*Email*Are you 18 or older?YesNo*Do you have “lived experience” ?YesNo*How did you hear about us?*Select Class PaymentCORE Training only ($50)Recovery Support Peer Specialist Training only ($400)Both CORE & Recovery Support Peer Specialist Training ($450)*Select RSPS Date OptionCORE Training only\, No RSPS OptionRSPS Option 1 - Starts March 7thRSPS Option 2 - Starts July 11thRSPS Option 3 - Starts October 17thTotal = $0NOTE: You can use a Credit Card or PayPal to pay for this courseProceed to Payment >[/vc_column_text][/vc_column_inner][vc_column_inner width=”1/3″][/vc_column_inner][/vc_row_inner][/vc_column][/vc_row]
URL:https://sacada.org/event/state-approved-recovery-coach-training-4/
LOCATION:Online
CATEGORIES:State Approved Recovery Coach Training
ATTACH;FMTTYPE=image/jpeg:https://sacada.org/wp-content/uploads/2020/01/Recovery-Coach-Training-Upcoming-Header.jpg
END:VEVENT
BEGIN:VEVENT
DTSTART;TZID=America/Chicago:20211026T133000
DTEND;TZID=America/Chicago:20211026T150000
DTSTAMP:20260420T002240
CREATED:20210916T172711Z
LAST-MODIFIED:20210916T172711Z
UID:30853-1635255000-1635260400@sacada.org
SUMMARY:Kendall County Coalition Meeting
DESCRIPTION:Topic: Kendall County  Coalition Meeting \nJoin Zoom Meeting\nhttps://us02web.zoom.us/j/86204875854?pwd=blpWRGhkRm9qVjhsVWNEZytHbE5hZz09 \nTime: 01:30 PM Central Time (US and Canada) \n Every month\, on the Fourth Tuesday: \n\n Tuesday September 28th\, 2021\nTuesday October 26th\, 2021\nTuesday November 30th\, 2021\nTuesday December 28th\, 2021\nTuesday January 25th\, 2022\nTuesday February 22nd\, 2022\nTuesday March 22nd\, 2022\nTuesday April 26th\, 2022\nTuesday May 24th\, 2022\nTuesday June 28th\, 2022\nTuesday July 26th\, 2022\nTuesday August 23rd\, 2022
URL:https://sacada.org/event/kendall-county-coalition-meeting-11/
CATEGORIES:Kendall County Coalition
ORGANIZER;CN="Aubrie Walker":MAILTO:awalker@sacada.org
END:VEVENT
BEGIN:VEVENT
DTSTART;TZID=America/Chicago:20211026T150000
DTEND;TZID=America/Chicago:20211026T163000
DTSTAMP:20260420T002240
CREATED:20210927T220906Z
LAST-MODIFIED:20210927T220906Z
UID:30957-1635260400-1635265800@sacada.org
SUMMARY:Comal County Coalition Meeting
DESCRIPTION:Topic: Comal County  Coalition Meeting \nJoin Zoom Meeting \nhttps://us02web.zoom.us/j/89784767061?pwd=cWFob1QyTVQ4bEFwbjhOSlRyMnJ6QT09 \nMeeting ID: 897 8476 7061 \nPasscode: 496838 \nComal community coalition meeting dates: The 4th Tuesday of each month from 3:00 pm to 4:30 pm \nDates: \n\nSeptember 28\, 2021\nOctober 26\, 2021\nNovember 23\, 2021\nNo December meeting\nJanuary 25\, 2022\nFebruary 22\, 2022\nMarch 22\, 2022\nApril 26\, 2022\nMay 24\, 2022\nJune 28\, 2022\nJuly 26\, 2022\nAugust 23\, 2022
URL:https://sacada.org/event/comal-county-coalition-meeting/
CATEGORIES:Comal County Community Coalition
ORGANIZER;CN="Boyd Baxter":MAILTO:bbaxter@sacada.org
END:VEVENT
END:VCALENDAR