BEGIN:VCALENDAR
VERSION:2.0
PRODID:-//San Antonio Council on Alcohol &amp; Drug Awareness - ECPv6.15.20//NONSGML v1.0//EN
CALSCALE:GREGORIAN
METHOD:PUBLISH
X-ORIGINAL-URL:https://sacada.org
X-WR-CALDESC:Events for San Antonio Council on Alcohol &amp; Drug Awareness
REFRESH-INTERVAL;VALUE=DURATION:PT1H
X-Robots-Tag:noindex
X-PUBLISHED-TTL:PT1H
BEGIN:VTIMEZONE
TZID:America/Chicago
BEGIN:DAYLIGHT
TZOFFSETFROM:-0600
TZOFFSETTO:-0500
TZNAME:CDT
DTSTART:20200308T080000
END:DAYLIGHT
BEGIN:STANDARD
TZOFFSETFROM:-0500
TZOFFSETTO:-0600
TZNAME:CST
DTSTART:20201101T070000
END:STANDARD
BEGIN:DAYLIGHT
TZOFFSETFROM:-0600
TZOFFSETTO:-0500
TZNAME:CDT
DTSTART:20210314T080000
END:DAYLIGHT
BEGIN:STANDARD
TZOFFSETFROM:-0500
TZOFFSETTO:-0600
TZNAME:CST
DTSTART:20211107T070000
END:STANDARD
BEGIN:DAYLIGHT
TZOFFSETFROM:-0600
TZOFFSETTO:-0500
TZNAME:CDT
DTSTART:20220313T080000
END:DAYLIGHT
BEGIN:STANDARD
TZOFFSETFROM:-0500
TZOFFSETTO:-0600
TZNAME:CST
DTSTART:20221106T070000
END:STANDARD
END:VTIMEZONE
BEGIN:VEVENT
DTSTART;TZID=America/Chicago:20210810T150000
DTEND;TZID=America/Chicago:20210810T163000
DTSTAMP:20260419T205122
CREATED:20210412T201036Z
LAST-MODIFIED:20210415T204644Z
UID:28007-1628607600-1628613000@sacada.org
SUMMARY:Guadalupe County Community Coalition- August 10\, 2021
DESCRIPTION:Guadalupe County Community Coalition \nMonthly Meetings \nAugust 10\, 2021 \n3:00pm – 4:30pm  \nVirtual Meeting  \nRSVP: Amy Alston\, aalston@sacada.org \nJoin Zoom Meeting \nhttps://us02web.zoom.us/j/81749573079?pwd=ZVNKUkpUUUF5cWE2akcwZHpzWEN5dz09 \nMeeting ID: 817 4957 3079 \nPasscode: 445670 \nOne tap mobile \n+13462487799\,\,81749573079# US (Houston) \n+16699009128\,\,81749573079# US (San Jose)
URL:https://sacada.org/event/guadalupe-county-community-coalition-august-10-2021/
CATEGORIES:Community Coalition
END:VEVENT
BEGIN:VEVENT
DTSTART;TZID=America/Chicago:20210811T150000
DTEND;TZID=America/Chicago:20210811T163000
DTSTAMP:20260419T205122
CREATED:20210216T151851Z
LAST-MODIFIED:20210415T185330Z
UID:26807-1628694000-1628699400@sacada.org
SUMMARY:Circles of San Antonio Community Coalition Meeting
DESCRIPTION:Circles of San Antonio Community Coalition Meeting\nWed\, Aug 11\, 2021 3:00 PM – 4:30 PM (CDT)\nPlease join my meeting from your computer\, tablet or smartphone.  \nJoin Zoom Meeting \nhttps://us02web.zoom.us/j/85836385874?pwd=dGh3SWZ2NEtOT0x3bGxsS1ByRUdldz09 \n  \nMeeting ID: 858 3638 5874 \nPasscode: 699573 \nOne tap mobile \n+13462487799\,\,85836385874# US (Houston) \n+12532158782\,\,85836385874# US (Tacoma) \n  \nDial by your location \n+1 346 248 7799 US (Houston) \n+1 253 215 8782 US (Tacoma) \n+1 669 900 9128 US (San Jose) \n+1 312 626 6799 US (Chicago) \n+1 646 558 8656 US (New York) \n+1 301 715 8592 US (Washington DC) Meeting ID: 858 3638 5874 Find your local number: https://us02web.zoom.us/u/kcijtdoeEt
URL:https://sacada.org/event/circles-of-san-antonio-community-coalition-meeting-10/
CATEGORIES:Community Coalition
ORGANIZER;CN="Vicki Thomas":MAILTO:vthomas@sacada.org
END:VEVENT
BEGIN:VEVENT
DTSTART;TZID=America/Chicago:20210816T150000
DTEND;TZID=America/Chicago:20210816T160000
DTSTAMP:20260419T205122
CREATED:20210329T183637Z
LAST-MODIFIED:20210329T212008Z
UID:27652-1629126000-1629129600@sacada.org
SUMMARY:Marijuana Workgroup Meeting August 16\, 2021
DESCRIPTION:Marijuana Workgroup Meeting\nMon\, Aug 16\, 2021 3:00 PM – 4:00 PM (CDT)  \nPlease join my meeting from your computer\, tablet or smartphone. \nhttps://global.gotomeeting.com/join/526748901\nYou can also dial in using your phone.\nUnited States: +1 (408) 650-3123\nAccess Code: 526-748-901 
URL:https://sacada.org/event/marijuana-workgroup-meeting-august-16-2021/
END:VEVENT
BEGIN:VEVENT
DTSTART;TZID=America/Chicago:20210823T080000
DTEND;TZID=America/Chicago:20210823T170000
DTSTAMP:20260419T205122
CREATED:20201103T134753Z
LAST-MODIFIED:20201103T134753Z
UID:23365-1629705600-1629738000@sacada.org
SUMMARY:State Approved Recovery Coach Training
DESCRIPTION:[vc_row css_animation=”” row_type=”row” use_row_as_full_screen_section=”no” type=”full_width” angled_section=”no” text_align=”left” background_image_as_pattern=”without_pattern” z_index=””][vc_column][vc_single_image image=”15684″ img_size=”full” alignment=”center” qode_css_animation=””][vc_empty_space height=”50px”][/vc_column][/vc_row][vc_row css_animation=”” row_type=”row” use_row_as_full_screen_section=”no” type=”full_width” angled_section=”no” text_align=”left” background_image_as_pattern=”without_pattern”][vc_column width=”1/4″ offset=”vc_hidden-md vc_hidden-sm vc_hidden-xs”][vc_widget_sidebar sidebar_id=”Education & Training”][/vc_column][vc_column width=”3/4″][vc_column_text]Are you interested in becoming a Professional Recovery Coach? Our Recovery Support Peer Specialist (RSPS) training will equip you with the necessary skills to come an invaluable asset in your profession and your organization. At the San Antonio Council on Alcohol and Drug Awareness (SACADA)\, we facilitate a reputable program that is cost-effective and recognized in the industry by leading professionals. SACADA is an approved training entity in San Antonio by the Texas Certification Board. \nReserve your seat as classroom space is limited.\n[/vc_column_text][vc_empty_space height=”20px”][vc_column_text] \nCORE Training\n\nCost: $50.00\nLength: 1-Day; 8 Hour Course\nMust take prior to RSPS Training\n\n  \nRecovery Support Peer Specialist Training (RSPS)\n\nCost: $400.00 (non-refundable)\nMust have “lived experience”\nLength: 6-Day; 46 Hour Course\nState Approved/Certification required after training\n\n[/vc_column_text][vc_empty_space height=”50px”][vc_row_inner row_type=”row” type=”full_width” text_align=”left” css_animation=””][vc_column_inner width=”1/2″][vc_column_text] \n2021 CORE Training Dates\n[/vc_column_text][vc_empty_space height=”20px”][vc_column_text]\n\n\nMonthDateTime\n\nFeb18th8 am - 5 pm\n\nJun23rd8 am - 5 pm\n\nOct30th8 am - 5 pm\n\n  \nA one-day CORE Training is mandatory prior to taking the RSPS.[/vc_column_text][vc_empty_space height=”20px”][vc_column_text] \n2021 RSPS Training Options\n[/vc_column_text][vc_empty_space height=”20px”][vc_column_text] \nPayment must be made 3-weeks prior to option date you choose.\n  \nOption 1\n\n\n\nMonthDateTime\n\nFeb24th & 25th8 am - 5 pm\n\nFeb26th8 am - 12 pm\n\nMar2nd & 3rd8 am - 5 pm\n\nMar4th8 am - 12 pm\n\n  \nOption 2\n\n\n\nMonthDateTime\n\nJun29th & 30th8 am - 5 pm\n\nJul1st8 am - 12 pm\n\nJul6th & 7th8 am - 5 pm\n\nJul8th8 am - 12 pm\n\n  \nOption 3\n\n\n\nMonthDateTime\n\nOct26th & 27th8 am - 5 pm\n\nOct28th8 am - 12 pm\n\nNov2nd & 3rd8 am - 5 pm\n\nNov4th8 am - 12 pm\n\n\n[/vc_column_text][/vc_column_inner][vc_column_inner width=”1/2″][vc_column_text] \nLocation\n[/vc_column_text][vc_empty_space height=”20px”][vc_column_text] \n  \nFor more information/application\, please contact: \nJose Martinez\nRecovery Support Peer Specialist\, Supervisor\n(210) 225-4741 • JMartinez@sacada.org[/vc_column_text][/vc_column_inner][/vc_row_inner][vc_empty_space height=”50px”][vc_column_text] \nRegister Today!\n[/vc_column_text][vc_empty_space height=”20px”][vc_row_inner row_type=”row” type=”full_width” text_align=”left” css_animation=””][vc_column_inner width=”2/3″][vc_column_text]\n			\n			\n			\n			\n			\n							  \n							  \n								\n								  \n									\n									  \n										\n									  \n									\n								  \n								  \n								\n							  \n							\n							\n							  \n							  \n								\n								  \n									\n									  \n										Thank You for Registering!Taking You to Payment Screen...\n										\n									  \n									\n								  \n								  \n								\n							  \n							11\n										\n										\n										\n										\n										\n									\n									\n									\n									\n									\n									\n									\n									\n									\n									\n									\n									\n									\n									\n									\n									\n									\n									\n									\n									\n									\n									\n									\n									\n										\n										\n										\n										\n										\n											\n												0%\n											\n										\n										\n										\n									https://sacada.org/wp-content/plugins/nex-forms-express-wp-form-builderfalsemessagehttps://sacada.org/wp-admin/admin-ajax.phphttps://sacada.org/events/month/2021-08yes1fadeInfadeOut\n							\n								\n							\n							* Required Field*Attandee Name*Address 1Address 2*City*State*ZIP*Phone*Email*Are you 18 or older?YesNo*Do you have “lived experience” ?YesNo*How did you hear about us?*Select Class PaymentCORE Training only ($50)Recovery Support Peer Specialist Training only ($400)Both CORE & Recovery Support Peer Specialist Training ($450)*Select RSPS Date OptionCORE Training only\, No RSPS OptionRSPS Option 1 - Starts March 7thRSPS Option 2 - Starts July 11thRSPS Option 3 - Starts October 17thTotal = $0NOTE: You can use a Credit Card or PayPal to pay for this courseProceed to Payment >[/vc_column_text][/vc_column_inner][vc_column_inner width=”1/3″][/vc_column_inner][/vc_row_inner][/vc_column][/vc_row]
URL:https://sacada.org/event/state-approved-recovery-coach-training-3/
LOCATION:Online
CATEGORIES:State Approved Recovery Coach Training
ATTACH;FMTTYPE=image/jpeg:https://sacada.org/wp-content/uploads/2020/01/Recovery-Coach-Training-Upcoming-Header.jpg
END:VEVENT
BEGIN:VEVENT
DTSTART;TZID=America/Chicago:20210824T133000
DTEND;TZID=America/Chicago:20210824T150000
DTSTAMP:20260419T205122
CREATED:20210409T000152Z
LAST-MODIFIED:20210409T000152Z
UID:27933-1629811800-1629817200@sacada.org
SUMMARY:Kendall County Prevention Coalition Meeting- August 24\, 2021
DESCRIPTION:Topic: Kendall County Prevention Coalition Meeting \n\n\nTime: Apr 27\, 2021 01:30 PM Central Time (US and Canada) \n\n\n        Every month on the Fourth Tue\, until Aug 24\, 2021\, 5 occurrence(s) \n\n\n        Apr 27\, 2021 01:30 PM \n\n\n        May 25\, 2021 01:30 PM \n\n\n        Jun 22\, 2021 01:30 PM \n\n\n        Jul 27\, 2021 01:30 PM \n\n\n        Aug 24\, 2021 01:30 PM \n\n\nPlease download and import the following iCalendar (.ics) files to your calendar system. \n\n\nMonthly: https://us02web.zoom.us/meeting/tZMrc-mvqT4qG9QPetdl-gOzI7V8CvrNEBfm/ics?icsToken=98tyKuGvqD8qHdOQsBiHRpwEBI-gc-3wtiVfjfpsrBrxByweZSzsH7V0apFpAvb1 \n\n\n  \n\n\nJoin Zoom Meeting \n\n\nhttps://us02web.zoom.us/j/87640775010?pwd=VzdMOUNhN0JqVzJuaEhlUHZHZm80QT09 \n\n\n  \n\n\nMeeting ID: 876 4077 5010 \n\n\nPasscode: 839822 \n\n\nOne tap mobile \n\n\n+13462487799\,\,87640775010#\,\,\,\,*839822# US (Houston) \n\n\n+12532158782\,\,87640775010#\,\,\,\,*839822# US (Tacoma) \n\n\n  \n\n\nDial by your location \n\n\n        +1 346 248 7799 US (Houston) \n\n\n        +1 253 215 8782 US (Tacoma) \n\n\n        +1 669 900 9128 US (San Jose) \n\n\n        +1 301 715 8592 US (Washington DC) \n\n\n        +1 312 626 6799 US (Chicago) \n\n\n        +1 646 558 8656 US (New York) \n\n\nMeeting ID: 876 4077 5010 \n\n\nPasscode: 839822 \n\n\nFind your local number: https://us02web.zoom.us/u/keqVClQEQO \n\n\n 
URL:https://sacada.org/event/kendall-county-prevention-coalition-meeting-august-24-2021/
END:VEVENT
END:VCALENDAR