BEGIN:VCALENDAR
VERSION:2.0
PRODID:-//San Antonio Council on Alcohol &amp; Drug Awareness - ECPv6.15.20//NONSGML v1.0//EN
CALSCALE:GREGORIAN
METHOD:PUBLISH
X-WR-CALNAME:San Antonio Council on Alcohol &amp; Drug Awareness
X-ORIGINAL-URL:https://sacada.org
X-WR-CALDESC:Events for San Antonio Council on Alcohol &amp; Drug Awareness
REFRESH-INTERVAL;VALUE=DURATION:PT1H
X-Robots-Tag:noindex
X-PUBLISHED-TTL:PT1H
BEGIN:VTIMEZONE
TZID:America/Chicago
BEGIN:DAYLIGHT
TZOFFSETFROM:-0600
TZOFFSETTO:-0500
TZNAME:CDT
DTSTART:20200308T080000
END:DAYLIGHT
BEGIN:STANDARD
TZOFFSETFROM:-0500
TZOFFSETTO:-0600
TZNAME:CST
DTSTART:20201101T070000
END:STANDARD
BEGIN:DAYLIGHT
TZOFFSETFROM:-0600
TZOFFSETTO:-0500
TZNAME:CDT
DTSTART:20210314T080000
END:DAYLIGHT
BEGIN:STANDARD
TZOFFSETFROM:-0500
TZOFFSETTO:-0600
TZNAME:CST
DTSTART:20211107T070000
END:STANDARD
BEGIN:DAYLIGHT
TZOFFSETFROM:-0600
TZOFFSETTO:-0500
TZNAME:CDT
DTSTART:20220313T080000
END:DAYLIGHT
BEGIN:STANDARD
TZOFFSETFROM:-0500
TZOFFSETTO:-0600
TZNAME:CST
DTSTART:20221106T070000
END:STANDARD
END:VTIMEZONE
BEGIN:VEVENT
DTSTART;TZID=America/Chicago:20210309T090000
DTEND;TZID=America/Chicago:20210311T163000
DTSTAMP:20260420T015436
CREATED:20210208T201529Z
LAST-MODIFIED:20210302T224756Z
UID:26620-1615280400-1615480200@sacada.org
SUMMARY:Virtual Spring Camp 2021
DESCRIPTION:SACADA’s Youth Prevention Staff is proud to announce our\nVirtual Spring Camp – 1 one-day of fun and activities!\n \nOur camp is virtual and open to all children within the ages of 7-13 years old. \n\nSOLD OUT: Session 1 | March  9 | 9:00 am – 12:00 pm and 1:30 – 4:30 pm (Ages 7-10)\nSOLD OUT: Session 2 | March 11 | 9:00 am – 12:00 pm and 1:30 – 4:30 pm (Ages 11-13)\n\nSeat capacity is 60 students per session. Zoom platform will be used. NO CHARGE\, but you must register your child online. Each child will receive a tote with all supplies needed for each activity. Date for pick-up at SACADA’s office will be emailed to registered participants. \nContact Melissa Scott mscott@sacada.org or Velda Schalk vschalk@sacada.org with any questions. \n*=Required Field \n[ARForms id=109]
URL:https://sacada.org/event/virtual-spring-camp-2021/
CATEGORIES:Virtual Camps
END:VEVENT
BEGIN:VEVENT
DTSTART;TZID=America/Chicago:20210310T150000
DTEND;TZID=America/Chicago:20210310T163000
DTSTAMP:20260420T015436
CREATED:20210216T141124Z
LAST-MODIFIED:20210216T141124Z
UID:26794-1615388400-1615393800@sacada.org
SUMMARY:Circles of San Antonio Community Coalition Meeting
DESCRIPTION:Circles of San Antonio Community Coalition Meeting\nWed\, Mar 10\, 2021 3:00 PM – 4:30 PM (CST)\nPlease join my meeting from your computer\, tablet or smartphone. \nhttps://global.gotomeeting.com/join/422078733\nYou can also dial in using your phone.\nUnited States: +1 (224) 501-3412\nAccess Code: 422-078-733
URL:https://sacada.org/event/circles-of-san-antonio-community-coalition-meeting-5/
ORGANIZER;CN="Vicki Thomas":MAILTO:vthomas@sacada.org
END:VEVENT
BEGIN:VEVENT
DTSTART;TZID=America/Chicago:20210315T150000
DTEND;TZID=America/Chicago:20210315T160000
DTSTAMP:20260420T015436
CREATED:20210216T152828Z
LAST-MODIFIED:20210216T154911Z
UID:26817-1615820400-1615824000@sacada.org
SUMMARY:Alcohol Policy Workgroup Meeting
DESCRIPTION:Alcohol Policy Workgroup Meeting\nMon\, Mar 15\, 2021 3:00 PM – 4:00 PM (CDT)\nPlease join my meeting from your computer\, tablet or smartphone. \nhttps://global.gotomeeting.com/join/141814493\nYou can also dial in using your phone.\nUnited States: +1 (646) 749-3112\nAccess Code: 141-814-493
URL:https://sacada.org/event/alcohol-policy-workgroup-meeting/
CATEGORIES:Alcohol Policy Work Group
ORGANIZER;CN="Vicki Thomas":MAILTO:vthomas@sacada.org
END:VEVENT
BEGIN:VEVENT
DTSTART;TZID=America/Chicago:20210315T150000
DTEND;TZID=America/Chicago:20210315T160000
DTSTAMP:20260420T015436
CREATED:20210311T031356Z
LAST-MODIFIED:20210311T031356Z
UID:27309-1615820400-1615824000@sacada.org
SUMMARY:Alcohol Policy Workgroup Meeting March 15\, 2021
DESCRIPTION:Alcohol Policy Workgroup Meeting\nMon\, Mar 15\, 2021 3:00 PM – 4:00 PM (CDT)\nPlease join my meeting from your computer\, tablet or smartphone. \nhttps://global.gotomeeting.com/join/141814493\nYou can also dial in using your phone.\nUnited States: +1 (646) 749-3112\nAccess Code: 141-814-493 
URL:https://sacada.org/event/alcohol-policy-workgroup-meeting-march-15-2021/
END:VEVENT
END:VCALENDAR