BEGIN:VCALENDAR
VERSION:2.0
PRODID:-//San Antonio Council on Alcohol &amp; Drug Awareness - ECPv6.15.20//NONSGML v1.0//EN
CALSCALE:GREGORIAN
METHOD:PUBLISH
X-WR-CALNAME:San Antonio Council on Alcohol &amp; Drug Awareness
X-ORIGINAL-URL:https://sacada.org
X-WR-CALDESC:Events for San Antonio Council on Alcohol &amp; Drug Awareness
REFRESH-INTERVAL;VALUE=DURATION:PT1H
X-Robots-Tag:noindex
X-PUBLISHED-TTL:PT1H
BEGIN:VTIMEZONE
TZID:America/Chicago
BEGIN:DAYLIGHT
TZOFFSETFROM:-0600
TZOFFSETTO:-0500
TZNAME:CDT
DTSTART:20230312T080000
END:DAYLIGHT
BEGIN:STANDARD
TZOFFSETFROM:-0500
TZOFFSETTO:-0600
TZNAME:CST
DTSTART:20231105T070000
END:STANDARD
BEGIN:DAYLIGHT
TZOFFSETFROM:-0600
TZOFFSETTO:-0500
TZNAME:CDT
DTSTART:20240310T080000
END:DAYLIGHT
BEGIN:STANDARD
TZOFFSETFROM:-0500
TZOFFSETTO:-0600
TZNAME:CST
DTSTART:20241103T070000
END:STANDARD
BEGIN:DAYLIGHT
TZOFFSETFROM:-0600
TZOFFSETTO:-0500
TZNAME:CDT
DTSTART:20250309T080000
END:DAYLIGHT
BEGIN:STANDARD
TZOFFSETFROM:-0500
TZOFFSETTO:-0600
TZNAME:CST
DTSTART:20251102T070000
END:STANDARD
BEGIN:DAYLIGHT
TZOFFSETFROM:-0600
TZOFFSETTO:-0500
TZNAME:CDT
DTSTART:20260308T080000
END:DAYLIGHT
BEGIN:STANDARD
TZOFFSETFROM:-0500
TZOFFSETTO:-0600
TZNAME:CST
DTSTART:20261101T070000
END:STANDARD
END:VTIMEZONE
BEGIN:VEVENT
DTSTART;TZID=America/Chicago:20250211T180000
DTEND;TZID=America/Chicago:20250211T193000
DTSTAMP:20260419T231242
CREATED:20250108T222653Z
LAST-MODIFIED:20250108T222653Z
UID:35050-1739296800-1739302200@sacada.org
SUMMARY:Angst Virtual Screening
DESCRIPTION:Join us for the rescheduled virtual screening and panel discussion of Angst\, a free film-based program raising awareness about anxiety\, especially in youth and families. Featuring interviews with kids\, teens\, experts\, and parents\, Angst aims to help identify symptoms of anxiety and encourage seeking help. The screening will be followed by a panel discussion and access to additional resources. \n  \n  \n  \nRegister at https://us02web.zoom.us/webinar/register/WN_9eYXpufMQTiTQ0rNa5owyQ.
URL:https://sacada.org/event/angst-virtual-screening/
END:VEVENT
BEGIN:VEVENT
DTSTART;TZID=America/Chicago:20240226T150000
DTEND;TZID=America/Chicago:20240226T163000
DTSTAMP:20260419T231242
CREATED:20231219T142803Z
LAST-MODIFIED:20231219T142803Z
UID:34128-1708959600-1708965000@sacada.org
SUMMARY:Alcohol Policy Workgroup Meeting
DESCRIPTION:All meetings will be held at HIDTA\, 4204 Woodcock\, Ste 102\, San Antonio\, TX \nMeetings are from 3:00pm – 4:30pm \n 
URL:https://sacada.org/event/alcohol-policy-workgroup-meeting-3/
LOCATION:HIDTA\, 4204 Woodcock. Ste 102\, San Antonio\, TX\, 78228\, United States
END:VEVENT
BEGIN:VEVENT
DTSTART;TZID=America/Chicago:20241211T110000
DTEND;TZID=America/Chicago:20241211T130000
DTSTAMP:20260419T231242
CREATED:20240125T151830Z
LAST-MODIFIED:20241204T231523Z
UID:34261-1733914800-1733922000@sacada.org
SUMMARY:Circles of San Antonio/Breathe Clear Holiday Luncheon
DESCRIPTION:For December\, Circles of San Antonio/Breathe Clear will have a combined Holiday Celebration meeting to take place on December 11\, 2024 (11am-1pm) at Blanco Bar B Q\, 13259 Blanco Road\, San Antonio\, TX 78216.  \n Register here: https://bit.ly/CoalitionBreathClearHolidayLuncheon
URL:https://sacada.org/event/circles-of-san-antonio-community-coalition-meeting-33/
LOCATION:San Antonio Council on Alcohol & Drug Awareness\, 7500 US Hwy 90 West\, Dave Coy Building Ste. 201\, San Antonio\, TX\, 78227\, United States
END:VEVENT
BEGIN:VEVENT
DTSTART;TZID=America/Chicago:20241114T120000
DTEND;TZID=America/Chicago:20241114T130000
DTSTAMP:20260419T231242
CREATED:20241001T170009Z
LAST-MODIFIED:20241001T170009Z
UID:34978-1731585600-1731589200@sacada.org
SUMMARY:Regional Epidemiology Workgroup
DESCRIPTION:Regional Epidemiology Workgroup \nZoom ONLY\, registration is required \nRegister in advance for this meeting: \nhttps://us02web.zoom.us/meeting/register/tZcscumsqT4vGNxm9TgkMlciMq8gziqRRLBk \nAfter registering\, you will receive a confirmation email containing information about joining the meeting.
URL:https://sacada.org/event/regional-epidemiology-workgroup/
END:VEVENT
BEGIN:VEVENT
DTSTART;TZID=America/Chicago:20241113T150000
DTEND;TZID=America/Chicago:20241113T163000
DTSTAMP:20260419T231242
CREATED:20240125T151731Z
LAST-MODIFIED:20240125T151731Z
UID:34259-1731510000-1731515400@sacada.org
SUMMARY:Circles of San Antonio Community Coalition Meeting
DESCRIPTION:All meetings will be held at SACADA\, 7500 US Hwy 90 West\, Ste 201\, Dave Coy\, San Antonio\, TX 78227
URL:https://sacada.org/event/circles-of-san-antonio-community-coalition-meeting-32/
LOCATION:San Antonio Council on Alcohol & Drug Awareness\, 7500 US Hwy 90 West\, Dave Coy Building Ste. 201\, San Antonio\, TX\, 78227\, United States
END:VEVENT
BEGIN:VEVENT
DTSTART;TZID=America/Chicago:20241024T173000
DTEND;TZID=America/Chicago:20241024T203000
DTSTAMP:20260419T231242
CREATED:20240430T145331Z
LAST-MODIFIED:20240620T134428Z
UID:34715-1729791000-1729801800@sacada.org
SUMMARY:Red Ribbon Gala
DESCRIPTION:We are thrilled to announce that our annual charity luncheon is now an evening event! Save the date and join us for a night of delicious food\, entertainment\, and camaraderie. Our keynote speaker is Brian Cuban\, who has been in long-term recovery from alcohol\, cocaine\, and bulimia since 2007. \nEnjoy a silent auction and raffle as we support our Youth Prevention programs. This fundraiser is crucial for bridging the gap between program costs and state funding. Your participation will help us achieve remarkable success! \n\nRegistration: 5:30pm \nProgram: 6:00pm-8:30pm \nFor questions please contact Velda Schalk at vschalk@sacada.org \nSponsorship Opportunities and Tickets available at bit.ly/2024RedRibbonGala
URL:https://sacada.org/event/red-ribbon-gala/
LOCATION:Pedrotti’s Ranch\, 13715 FM 1560\, Helotes\, TX\, 78023\, United States
END:VEVENT
BEGIN:VEVENT
DTSTART;TZID=America/Chicago:20240226T150000
DTEND;TZID=America/Chicago:20240226T163000
DTSTAMP:20260419T231242
CREATED:20231219T142803Z
LAST-MODIFIED:20231219T142803Z
UID:34128-1708959600-1708965000@sacada.org
SUMMARY:Alcohol Policy Workgroup Meeting
DESCRIPTION:All meetings will be held at HIDTA\, 4204 Woodcock\, Ste 102\, San Antonio\, TX \nMeetings are from 3:00pm – 4:30pm \n 
URL:https://sacada.org/event/alcohol-policy-workgroup-meeting-3/
LOCATION:HIDTA\, 4204 Woodcock. Ste 102\, San Antonio\, TX\, 78228\, United States
END:VEVENT
BEGIN:VEVENT
DTSTART;TZID=America/Chicago:20241009T150000
DTEND;TZID=America/Chicago:20241009T163000
DTSTAMP:20260419T231242
CREATED:20240125T151626Z
LAST-MODIFIED:20240125T151626Z
UID:34257-1728486000-1728491400@sacada.org
SUMMARY:Circles of San Antonio Community Coalition Meeting
DESCRIPTION:All meetings will be held at SACADA\, 7500 US Hwy 90 West\, Ste 201\, Dave Coy\, San Antonio\, TX 78227
URL:https://sacada.org/event/circles-of-san-antonio-community-coalition-meeting-31/
LOCATION:San Antonio Council on Alcohol & Drug Awareness\, 7500 US Hwy 90 West\, Dave Coy Building Ste. 201\, San Antonio\, TX\, 78227\, United States
END:VEVENT
BEGIN:VEVENT
DTSTART;TZID=America/Chicago:20240928T100000
DTEND;TZID=America/Chicago:20240928T140000
DTSTAMP:20260419T231242
CREATED:20240808T170714Z
LAST-MODIFIED:20240808T170714Z
UID:34847-1727517600-1727532000@sacada.org
SUMMARY:Big Texas Rally for Recovery
DESCRIPTION:Each September\, the Substance Abuse and Mental Health Services Administration (SAMHSA) champions Recovery Month\, aiming to enhance awareness and comprehension of mental health and substance use issues while commemorating communities. Mark your calendars for September 28\, 2024\, as the Big Texas Rally for Recovery San Antonio takes center stage\, concluding numerous activities held throughout the State of Texas during Recovery Month.\nThere is NO CHARGE to attend. This is a great family event. Children’s activities\, live entertainment\, food trucks\, and much more!
URL:https://sacada.org/event/big-texas-rally-for-recovery/
LOCATION:Los Patios 2015 NE Loop 410 San Antonio\, Texas\, 2015 NE Loope 410\, San Antonio\, Texas
END:VEVENT
BEGIN:VEVENT
DTSTART;TZID=America/Chicago:20240911T150000
DTEND;TZID=America/Chicago:20240911T163000
DTSTAMP:20260419T231242
CREATED:20240125T151524Z
LAST-MODIFIED:20240125T151524Z
UID:34255-1726066800-1726072200@sacada.org
SUMMARY:Circles of San Antonio Community Coalition Meeting
DESCRIPTION:All meetings will be held at SACADA\, 7500 US Hwy 90 West\, Ste 201\, Dave Coy\, San Antonio\, TX 78227
URL:https://sacada.org/event/circles-of-san-antonio-community-coalition-meeting-30/
LOCATION:San Antonio Council on Alcohol & Drug Awareness\, 7500 US Hwy 90 West\, Dave Coy Building Ste. 201\, San Antonio\, TX\, 78227\, United States
END:VEVENT
BEGIN:VEVENT
DTSTART;TZID=America/Chicago:20240610T150000
DTEND;TZID=America/Chicago:20240610T163000
DTSTAMP:20260419T231242
CREATED:20231219T142034Z
LAST-MODIFIED:20240417T134101Z
UID:34399-1718031600-1718037000@sacada.org
SUMMARY:Marijuana Workgroup Meeting
DESCRIPTION:All meetings will be held at SACADA\, 7500 US Hwy 90 West\, Ste 201\, Dave Coy\, San Antonio\, TX 78227 Meetings are from 3:00pm – 4:30pm
URL:https://sacada.org/event/marijuana-workgroup-meeting-2024-05-06/
LOCATION:San Antonio Council on Alcohol & Drug Awareness\, 7500 US Hwy 90 West\, Dave Coy Building Ste. 201\, San Antonio\, TX\, 78227\, United States
END:VEVENT
BEGIN:VEVENT
DTSTART;TZID=America/Chicago:20240625T153000
DTEND;TZID=America/Chicago:20240625T170000
DTSTAMP:20260419T231242
CREATED:20240409T194629Z
LAST-MODIFIED:20240409T194927Z
UID:34575-1719329400-1719334800@sacada.org
SUMMARY:Comal County Community Coalition Partnership Meeting
DESCRIPTION:Meeting will be held both online and in person. \nTo Join Zoom Meeting  \nhttps://us02web.zoom.us/j/86747452545?pwd=VGVTT2FrQ1psdnVINDkxVklxbzFlUT09   \nMeeting ID: 867 4745 2545  \nPasscode: 063160  \nIn person: Tye Preston Memorial Library  \n16311 South Access Road\, Canyon Lake\, TX 78133  \n(Preston Room) 
URL:https://sacada.org/event/comal-county-community-coalition-partnership-meeting/
LOCATION:Tye Preston Memorial Library\, 16311 S. Access Rd.\, Canyon Lake\, TX\, Texas\, 78133
END:VEVENT
BEGIN:VEVENT
DTSTART;TZID=America/Chicago:20240827T133000
DTEND;TZID=America/Chicago:20240827T153000
DTSTAMP:20260419T231242
CREATED:20231004T203703Z
LAST-MODIFIED:20231004T203703Z
UID:33897-1724765400-1724772600@sacada.org
SUMMARY:Kendall County Coalition Meeting
DESCRIPTION:Hybrid Meeting\, Patrick Heath Public Library\, 451 N. Main St. Building 100\, Boerne\, TX 78006\, in the conference room on the second floor. \nZoom Link: https://us02web.zoom.us/j/86548102413?pwd=eVdvbDBxU01lSXJaS3BRUHdaMVBWQT09
URL:https://sacada.org/event/kendall-county-coalition-meeting-27/
LOCATION:Patrick Health Public Library\, 451 N. Main St. Building 100\, Boerne\, 78006\, United States
END:VEVENT
BEGIN:VEVENT
DTSTART;TZID=America/Chicago:20240226T150000
DTEND;TZID=America/Chicago:20240226T163000
DTSTAMP:20260419T231242
CREATED:20231219T142803Z
LAST-MODIFIED:20231219T142803Z
UID:34128-1708959600-1708965000@sacada.org
SUMMARY:Alcohol Policy Workgroup Meeting
DESCRIPTION:All meetings will be held at HIDTA\, 4204 Woodcock\, Ste 102\, San Antonio\, TX \nMeetings are from 3:00pm – 4:30pm \n 
URL:https://sacada.org/event/alcohol-policy-workgroup-meeting-3/
LOCATION:HIDTA\, 4204 Woodcock. Ste 102\, San Antonio\, TX\, 78228\, United States
END:VEVENT
BEGIN:VEVENT
DTSTART;TZID=America/Chicago:20240814T150000
DTEND;TZID=America/Chicago:20240814T163000
DTSTAMP:20260419T231242
CREATED:20240125T151421Z
LAST-MODIFIED:20240125T151421Z
UID:34253-1723647600-1723653000@sacada.org
SUMMARY:Circles of San Antonio Community Coalition Meeting
DESCRIPTION:All meetings will be held at SACADA\, 7500 US Hwy 90 West\, Ste 201\, Dave Coy\, San Antonio\, TX 78227
URL:https://sacada.org/event/circles-of-san-antonio-community-coalition-meeting-29/
LOCATION:San Antonio Council on Alcohol & Drug Awareness\, 7500 US Hwy 90 West\, Dave Coy Building Ste. 201\, San Antonio\, TX\, 78227\, United States
END:VEVENT
BEGIN:VEVENT
DTSTART;TZID=America/Chicago:20240813T150000
DTEND;TZID=America/Chicago:20240813T163000
DTSTAMP:20260419T231242
CREATED:20240708T200814Z
LAST-MODIFIED:20240708T200817Z
UID:34823-1723561200-1723566600@sacada.org
SUMMARY:Guadalupe County Community Coalition Meeting
DESCRIPTION:Hybrid Meeting \nLocation: 2nd Floor Conference Room at the Seguin Public Library\, 313 W Nolte St.\, Seguin\, TX 78155 \nZoom Link: https://us02web.zoom.us/j/81910198161?pwd=NzJ2bEhYdFQxc2xuL21yZEVUS0hNQT09 \nTime: 3:00-4:30pm
URL:https://sacada.org/event/guadalupe-county-community-coalition-meeting-9-2/
END:VEVENT
BEGIN:VEVENT
DTSTART;TZID=America/Chicago:20240610T150000
DTEND;TZID=America/Chicago:20240610T163000
DTSTAMP:20260419T231242
CREATED:20231219T142034Z
LAST-MODIFIED:20240417T134101Z
UID:34399-1718031600-1718037000@sacada.org
SUMMARY:Marijuana Workgroup Meeting
DESCRIPTION:All meetings will be held at SACADA\, 7500 US Hwy 90 West\, Ste 201\, Dave Coy\, San Antonio\, TX 78227 Meetings are from 3:00pm – 4:30pm
URL:https://sacada.org/event/marijuana-workgroup-meeting-2024-05-06/
LOCATION:San Antonio Council on Alcohol & Drug Awareness\, 7500 US Hwy 90 West\, Dave Coy Building Ste. 201\, San Antonio\, TX\, 78227\, United States
END:VEVENT
BEGIN:VEVENT
DTSTART;TZID=America/Chicago:20240808T000000
DTEND;TZID=America/Chicago:20240808T000000
DTSTAMP:20260419T231242
CREATED:20240808T181249Z
LAST-MODIFIED:20240808T181249Z
UID:34844-1723075200-1723075200@sacada.org
SUMMARY:Big Texas Rally for Recovery
DESCRIPTION:
URL:https://sacada.org/event/big-texas-rally-for-recovery-2/
END:VEVENT
BEGIN:VEVENT
DTSTART;TZID=America/Chicago:20240723T133000
DTEND;TZID=America/Chicago:20240723T153000
DTSTAMP:20260419T231242
CREATED:20231004T202634Z
LAST-MODIFIED:20231004T202634Z
UID:33893-1721741400-1721748600@sacada.org
SUMMARY:Kendall County Coalition Meeting
DESCRIPTION:Hybrid Meeting\, Patrick Heath Public Library\, 451 N. Main St. Building 100\, Boerne\, TX 78006\, in the conference room on the second floor. \nZoom Link: https://us02web.zoom.us/j/86548102413?pwd=eVdvbDBxU01lSXJaS3BRUHdaMVBWQT09
URL:https://sacada.org/event/kendall-county-coalition-meeting-26/
LOCATION:Patrick Health Public Library\, 451 N. Main St. Building 100\, Boerne\, 78006\, United States
END:VEVENT
BEGIN:VEVENT
DTSTART;TZID=America/Chicago:20240717T150000
DTEND;TZID=America/Chicago:20240717T163000
DTSTAMP:20260419T231242
CREATED:20240125T151259Z
LAST-MODIFIED:20240227T205608Z
UID:34251-1721228400-1721233800@sacada.org
SUMMARY:Circles of San Antonio Community Coalition Meeting
DESCRIPTION:All meetings will be held at SACADA\, 7500 US Hwy 90 West\, Ste 201\, Dave Coy\, San Antonio\, TX 78227
URL:https://sacada.org/event/circles-of-san-antonio-community-coalition-meeting-28/
LOCATION:San Antonio Council on Alcohol & Drug Awareness\, 7500 US Hwy 90 West\, Dave Coy Building Ste. 201\, San Antonio\, TX\, 78227\, United States
END:VEVENT
BEGIN:VEVENT
DTSTART;TZID=America/Chicago:20240117T100000
DTEND;TZID=America/Chicago:20240117T113000
DTSTAMP:20260419T231242
CREATED:20231219T141533Z
LAST-MODIFIED:20240227T205728Z
UID:34118-1705485600-1705491000@sacada.org
SUMMARY:Circle Action Planning Meeting
DESCRIPTION:All meetings will be held at SACADA\, 7500 US Hwy 90 West\, Ste 201\, Dave Coy\, San Antonio\, TX 78227 \nMeetings are from 10:00am-11:30am
URL:https://sacada.org/event/circle-action-planning-meeting/
LOCATION:San Antonio Council on Alcohol & Drug Awareness\, 7500 US Hwy 90 West\, Dave Coy Building Ste. 201\, San Antonio\, TX\, 78227\, United States
END:VEVENT
BEGIN:VEVENT
DTSTART;TZID=America/Chicago:20240625T153000
DTEND;TZID=America/Chicago:20240625T170000
DTSTAMP:20260419T231242
CREATED:20240409T194629Z
LAST-MODIFIED:20240409T194927Z
UID:34575-1719329400-1719334800@sacada.org
SUMMARY:Comal County Community Coalition Partnership Meeting
DESCRIPTION:Meeting will be held both online and in person. \nTo Join Zoom Meeting  \nhttps://us02web.zoom.us/j/86747452545?pwd=VGVTT2FrQ1psdnVINDkxVklxbzFlUT09   \nMeeting ID: 867 4745 2545  \nPasscode: 063160  \nIn person: Tye Preston Memorial Library  \n16311 South Access Road\, Canyon Lake\, TX 78133  \n(Preston Room) 
URL:https://sacada.org/event/comal-county-community-coalition-partnership-meeting/
LOCATION:Tye Preston Memorial Library\, 16311 S. Access Rd.\, Canyon Lake\, TX\, Texas\, 78133
END:VEVENT
BEGIN:VEVENT
DTSTART;TZID=America/Chicago:20240625T133000
DTEND;TZID=America/Chicago:20240625T153000
DTSTAMP:20260419T231242
CREATED:20231004T202427Z
LAST-MODIFIED:20231004T202505Z
UID:33890-1719322200-1719329400@sacada.org
SUMMARY:Kendall County Coalition Meeting
DESCRIPTION:In person meeting only\, Patrick Heath Public Library\, 451 N. Main St. Building 100\, Boerne\, TX 78006\, in the conference room on the second floor.
URL:https://sacada.org/event/33890/
LOCATION:Patrick Health Public Library\, 451 N. Main St. Building 100\, Boerne\, 78006\, United States
END:VEVENT
BEGIN:VEVENT
DTSTART;TZID=America/Chicago:20240603T173000
DTEND;TZID=America/Chicago:20240603T183000
DTSTAMP:20260419T231242
CREATED:20240411T165648Z
LAST-MODIFIED:20240411T170251Z
UID:34590-1717435800-1717439400@sacada.org
SUMMARY:Family Recovery Basics- What is addiction?
DESCRIPTION:VIRTUAL (ZOOM) MEETING \nBy the end of this series\, the learner will be able to learn: What it means when a loved one has a substance use disorder\, what is helpful when helping them\, setting boundaries in family healing\, what is meant by codependency\, and much more. \nEvent is free of charge; however\, registration is required. \nREGISTER: Family Recovery Basics (jotform.com)  \n  \nQuestions\, email egarcia@sacada.org
URL:https://sacada.org/event/family-recovery-basics-what-is-addiction/
LOCATION:San Antonio Council on Alcohol & Drug Awareness\, 7500 US Hwy 90 West\, Dave Coy Building Ste. 201\, San Antonio\, TX\, 78227\, United States
END:VEVENT
BEGIN:VEVENT
DTSTART;TZID=America/Chicago:20240226T150000
DTEND;TZID=America/Chicago:20240226T163000
DTSTAMP:20260419T231242
CREATED:20231219T142803Z
LAST-MODIFIED:20231219T142803Z
UID:34128-1708959600-1708965000@sacada.org
SUMMARY:Alcohol Policy Workgroup Meeting
DESCRIPTION:All meetings will be held at HIDTA\, 4204 Woodcock\, Ste 102\, San Antonio\, TX \nMeetings are from 3:00pm – 4:30pm \n 
URL:https://sacada.org/event/alcohol-policy-workgroup-meeting-3/
LOCATION:HIDTA\, 4204 Woodcock. Ste 102\, San Antonio\, TX\, 78228\, United States
END:VEVENT
BEGIN:VEVENT
DTSTART;TZID=America/Chicago:20240612T150000
DTEND;TZID=America/Chicago:20240612T163000
DTSTAMP:20260419T231242
CREATED:20240125T151046Z
LAST-MODIFIED:20240125T151046Z
UID:34249-1718204400-1718209800@sacada.org
SUMMARY:Circles of San Antonio Community Coalition Meeting
DESCRIPTION:All meetings will be held at SACADA\, 7500 US Hwy 90 West\, Ste 201\, Dave Coy\, San Antonio\, TX 78227
URL:https://sacada.org/event/circles-of-san-antonio-community-coalition-meeting-27/
LOCATION:San Antonio Council on Alcohol & Drug Awareness\, 7500 US Hwy 90 West\, Dave Coy Building Ste. 201\, San Antonio\, TX\, 78227\, United States
END:VEVENT
BEGIN:VEVENT
DTSTART;TZID=America/Chicago:20240611T150000
DTEND;TZID=America/Chicago:20240611T163000
DTSTAMP:20260419T231242
CREATED:20240208T171717Z
LAST-MODIFIED:20240422T133412Z
UID:34343-1718118000-1718123400@sacada.org
SUMMARY:Guadalupe County Community Coalition Meeting
DESCRIPTION:Hybrid Meeting \nLocation: TBD \nZoom Link: https://us02web.zoom.us/j/81910198161?pwd=NzJ2bEhYdFQxc2xuL21yZEVUS0hNQT09 \nTime: 3:00-4:30pm
URL:https://sacada.org/event/guadalupe-county-community-coalition-meeting-9/
END:VEVENT
BEGIN:VEVENT
DTSTART;TZID=America/Chicago:20240603T173000
DTEND;TZID=America/Chicago:20240603T183000
DTSTAMP:20260419T231242
CREATED:20240411T165648Z
LAST-MODIFIED:20240411T170251Z
UID:34590-1717435800-1717439400@sacada.org
SUMMARY:Family Recovery Basics- What is addiction?
DESCRIPTION:VIRTUAL (ZOOM) MEETING \nBy the end of this series\, the learner will be able to learn: What it means when a loved one has a substance use disorder\, what is helpful when helping them\, setting boundaries in family healing\, what is meant by codependency\, and much more. \nEvent is free of charge; however\, registration is required. \nREGISTER: Family Recovery Basics (jotform.com)  \n  \nQuestions\, email egarcia@sacada.org
URL:https://sacada.org/event/family-recovery-basics-what-is-addiction/
LOCATION:San Antonio Council on Alcohol & Drug Awareness\, 7500 US Hwy 90 West\, Dave Coy Building Ste. 201\, San Antonio\, TX\, 78227\, United States
END:VEVENT
BEGIN:VEVENT
DTSTART;TZID=America/Chicago:20240610T150000
DTEND;TZID=America/Chicago:20240610T163000
DTSTAMP:20260419T231242
CREATED:20231219T142034Z
LAST-MODIFIED:20240417T134101Z
UID:34399-1718031600-1718037000@sacada.org
SUMMARY:Marijuana Workgroup Meeting
DESCRIPTION:All meetings will be held at SACADA\, 7500 US Hwy 90 West\, Ste 201\, Dave Coy\, San Antonio\, TX 78227 Meetings are from 3:00pm – 4:30pm
URL:https://sacada.org/event/marijuana-workgroup-meeting-2024-05-06/
LOCATION:San Antonio Council on Alcohol & Drug Awareness\, 7500 US Hwy 90 West\, Dave Coy Building Ste. 201\, San Antonio\, TX\, 78227\, United States
END:VEVENT
BEGIN:VEVENT
DTSTART;TZID=America/Chicago:20240117T100000
DTEND;TZID=America/Chicago:20240117T113000
DTSTAMP:20260419T231242
CREATED:20231219T141533Z
LAST-MODIFIED:20240227T205728Z
UID:34118-1705485600-1705491000@sacada.org
SUMMARY:Circle Action Planning Meeting
DESCRIPTION:All meetings will be held at SACADA\, 7500 US Hwy 90 West\, Ste 201\, Dave Coy\, San Antonio\, TX 78227 \nMeetings are from 10:00am-11:30am
URL:https://sacada.org/event/circle-action-planning-meeting/
LOCATION:San Antonio Council on Alcohol & Drug Awareness\, 7500 US Hwy 90 West\, Dave Coy Building Ste. 201\, San Antonio\, TX\, 78227\, United States
END:VEVENT
END:VCALENDAR