BEGIN:VCALENDAR
VERSION:2.0
PRODID:-//San Antonio Council on Alcohol &amp; Drug Awareness - ECPv6.15.20//NONSGML v1.0//EN
CALSCALE:GREGORIAN
METHOD:PUBLISH
X-WR-CALNAME:San Antonio Council on Alcohol &amp; Drug Awareness
X-ORIGINAL-URL:https://sacada.org
X-WR-CALDESC:Events for San Antonio Council on Alcohol &amp; Drug Awareness
REFRESH-INTERVAL;VALUE=DURATION:PT1H
X-Robots-Tag:noindex
X-PUBLISHED-TTL:PT1H
BEGIN:VTIMEZONE
TZID:America/Chicago
BEGIN:DAYLIGHT
TZOFFSETFROM:-0600
TZOFFSETTO:-0500
TZNAME:CDT
DTSTART:20250309T080000
END:DAYLIGHT
BEGIN:STANDARD
TZOFFSETFROM:-0500
TZOFFSETTO:-0600
TZNAME:CST
DTSTART:20251102T070000
END:STANDARD
BEGIN:DAYLIGHT
TZOFFSETFROM:-0600
TZOFFSETTO:-0500
TZNAME:CDT
DTSTART:20260308T080000
END:DAYLIGHT
BEGIN:STANDARD
TZOFFSETFROM:-0500
TZOFFSETTO:-0600
TZNAME:CST
DTSTART:20261101T070000
END:STANDARD
BEGIN:DAYLIGHT
TZOFFSETFROM:-0600
TZOFFSETTO:-0500
TZNAME:CDT
DTSTART:20270314T080000
END:DAYLIGHT
BEGIN:STANDARD
TZOFFSETFROM:-0500
TZOFFSETTO:-0600
TZNAME:CST
DTSTART:20271107T070000
END:STANDARD
END:VTIMEZONE
BEGIN:VEVENT
DTSTART;TZID=America/Chicago:20260210T130000
DTEND;TZID=America/Chicago:20260210T140000
DTSTAMP:20260419T223902
CREATED:20260129T183918Z
LAST-MODIFIED:20260129T183918Z
UID:35563-1770728400-1770732000@sacada.org
SUMMARY:Opioid\, Fentanyl and Naloxone Awareness and Response Training
DESCRIPTION:Presented by SACADA Community Programs. This one-hour training provides an overview of opioids\, including prescription and illicit substances\, with a focus on overdose prevention and the proper use of naloxone to reverse opioid overdoses and save lives. Free to attend but must register at bit.ly/FentanylAwarenessTraining \nClasses are held on 2nd Tuesday of each month (1:00 PM -2:00 PM) or 3rd Wednesday of each month (6:00 PM -7:00 PM) Group presentations are available upon request. For more information\, email Boyd at Bbaxter@sacada.org \n 
URL:https://sacada.org/event/opioid-fentanyl-and-naloxone-awareness-and-response-training/
END:VEVENT
BEGIN:VEVENT
DTSTART;TZID=America/Chicago:20260218T180000
DTEND;TZID=America/Chicago:20260218T190000
DTSTAMP:20260419T223902
CREATED:20260129T184018Z
LAST-MODIFIED:20260129T184018Z
UID:35565-1771437600-1771441200@sacada.org
SUMMARY:Opioid\, Fentanyl and Naloxone Awareness and Response Training
DESCRIPTION:Presented by SACADA Community Programs. This one-hour training provides an overview of opioids\, including prescription and illicit substances\, with a focus on overdose prevention and the proper use of naloxone to reverse opioid overdoses and save lives. Free to attend but must register at bit.ly/FentanylAwarenessTraining \nClasses are held on 2nd Tuesday of each month (1:00 PM -2:00 PM) or 3rd Wednesday of each month (6:00 PM -7:00 PM) Group presentations are available upon request. For more information\, email Boyd at Bbaxter@sacada.org
URL:https://sacada.org/event/opioid-fentanyl-and-naloxone-awareness-and-response-training-2/
END:VEVENT
BEGIN:VEVENT
DTSTART;TZID=America/Chicago:20260310T130000
DTEND;TZID=America/Chicago:20260310T140000
DTSTAMP:20260419T223902
CREATED:20260129T184134Z
LAST-MODIFIED:20260129T184134Z
UID:35567-1773147600-1773151200@sacada.org
SUMMARY:Opioid\, Fentanyl and Naloxone Awareness and Response Training
DESCRIPTION:Presented by SACADA Community Programs. This one-hour training provides an overview of opioids\, including prescription and illicit substances\, with a focus on overdose prevention and the proper use of naloxone to reverse opioid overdoses and save lives. Free to attend but must register at bit.ly/FentanylAwarenessTraining \nClasses are held on 2nd Tuesday of each month (1:00 PM -2:00 PM) or 3rd Wednesday of each month (6:00 PM -7:00 PM) Group presentations are available upon request. For more information\, email Boyd at Bbaxter@sacada.org
URL:https://sacada.org/event/opioid-fentanyl-and-naloxone-awareness-and-response-training-3/
END:VEVENT
BEGIN:VEVENT
DTSTART;TZID=America/Chicago:20260318T180000
DTEND;TZID=America/Chicago:20260318T190000
DTSTAMP:20260419T223902
CREATED:20260129T184227Z
LAST-MODIFIED:20260129T184227Z
UID:35569-1773856800-1773860400@sacada.org
SUMMARY:Opioid\, Fentanyl and Naloxone Awareness and Response Training
DESCRIPTION:Presented by SACADA Community Programs. This one-hour training provides an overview of opioids\, including prescription and illicit substances\, with a focus on overdose prevention and the proper use of naloxone to reverse opioid overdoses and save lives. Free to attend but must register at bit.ly/FentanylAwarenessTraining \nClasses are held on 2nd Tuesday of each month (1:00 PM -2:00 PM) or 3rd Wednesday of each month (6:00 PM -7:00 PM) Group presentations are available upon request. For more information\, email Boyd at Bbaxter@sacada.org
URL:https://sacada.org/event/opioid-fentanyl-and-naloxone-awareness-and-response-training-4/
END:VEVENT
BEGIN:VEVENT
DTSTART;TZID=America/Chicago:20260414T130000
DTEND;TZID=America/Chicago:20260414T140000
DTSTAMP:20260419T223902
CREATED:20260129T184622Z
LAST-MODIFIED:20260129T184622Z
UID:35571-1776171600-1776175200@sacada.org
SUMMARY:Opioid\, Fentanyl and Naloxone Awareness and Response Training
DESCRIPTION:Presented by SACADA Community Programs. This one-hour training provides an overview of opioids\, including prescription and illicit substances\, with a focus on overdose prevention and the proper use of naloxone to reverse opioid overdoses and save lives. Free to attend but must register at bit.ly/FentanylAwarenessTraining \nClasses are held on 2nd Tuesday of each month (1:00 PM -2:00 PM) or 3rd Wednesday of each month (6:00 PM -7:00 PM) Group presentations are available upon request. For more information\, email Boyd at Bbaxter@sacada.org
URL:https://sacada.org/event/opioid-fentanyl-and-naloxone-awareness-and-response-training-5/
END:VEVENT
BEGIN:VEVENT
DTSTART;TZID=America/Chicago:20260415T180000
DTEND;TZID=America/Chicago:20260415T190000
DTSTAMP:20260419T223902
CREATED:20260129T184720Z
LAST-MODIFIED:20260129T184720Z
UID:35573-1776276000-1776279600@sacada.org
SUMMARY:Opioid\, Fentanyl and Naloxone Awareness and Response Training
DESCRIPTION:Presented by SACADA Community Programs. This one-hour training provides an overview of opioids\, including prescription and illicit substances\, with a focus on overdose prevention and the proper use of naloxone to reverse opioid overdoses and save lives. Free to attend but must register at bit.ly/FentanylAwarenessTraining \nClasses are held on 2nd Tuesday of each month (1:00 PM -2:00 PM) or 3rd Wednesday of each month (6:00 PM -7:00 PM) Group presentations are available upon request. For more information\, email Boyd at Bbaxter@sacada.org
URL:https://sacada.org/event/opioid-fentanyl-and-naloxone-awareness-and-response-training-6/
END:VEVENT
BEGIN:VEVENT
DTSTART;TZID=America/Chicago:20260512T130000
DTEND;TZID=America/Chicago:20260512T140000
DTSTAMP:20260419T223902
CREATED:20260129T184808Z
LAST-MODIFIED:20260129T184808Z
UID:35575-1778590800-1778594400@sacada.org
SUMMARY:Opioid\, Fentanyl and Naloxone Awareness and Response Training
DESCRIPTION:Presented by SACADA Community Programs. This one-hour training provides an overview of opioids\, including prescription and illicit substances\, with a focus on overdose prevention and the proper use of naloxone to reverse opioid overdoses and save lives. Free to attend but must register at bit.ly/FentanylAwarenessTraining \nClasses are held on 2nd Tuesday of each month (1:00 PM -2:00 PM) or 3rd Wednesday of each month (6:00 PM -7:00 PM) Group presentations are available upon request. For more information\, email Boyd at Bbaxter@sacada.org
URL:https://sacada.org/event/opioid-fentanyl-and-naloxone-awareness-and-response-training-7/
END:VEVENT
BEGIN:VEVENT
DTSTART;TZID=America/Chicago:20260520T180000
DTEND;TZID=America/Chicago:20260520T190000
DTSTAMP:20260419T223902
CREATED:20260129T184846Z
LAST-MODIFIED:20260129T184846Z
UID:35577-1779300000-1779303600@sacada.org
SUMMARY:Opioid\, Fentanyl and Naloxone Awareness and Response Training
DESCRIPTION:Presented by SACADA Community Programs. This one-hour training provides an overview of opioids\, including prescription and illicit substances\, with a focus on overdose prevention and the proper use of naloxone to reverse opioid overdoses and save lives. Free to attend but must register at bit.ly/FentanylAwarenessTraining \nClasses are held on 2nd Tuesday of each month (1:00 PM -2:00 PM) or 3rd Wednesday of each month (6:00 PM -7:00 PM) Group presentations are available upon request. For more information\, email Boyd at Bbaxter@sacada.org
URL:https://sacada.org/event/opioid-fentanyl-and-naloxone-awareness-and-response-training-8/
END:VEVENT
END:VCALENDAR