BEGIN:VCALENDAR
VERSION:2.0
PRODID:-//San Antonio Council on Alcohol &amp; Drug Awareness - ECPv6.15.20//NONSGML v1.0//EN
CALSCALE:GREGORIAN
METHOD:PUBLISH
X-WR-CALNAME:San Antonio Council on Alcohol &amp; Drug Awareness
X-ORIGINAL-URL:https://sacada.org
X-WR-CALDESC:Events for San Antonio Council on Alcohol &amp; Drug Awareness
REFRESH-INTERVAL;VALUE=DURATION:PT1H
X-Robots-Tag:noindex
X-PUBLISHED-TTL:PT1H
BEGIN:VTIMEZONE
TZID:America/Chicago
BEGIN:DAYLIGHT
TZOFFSETFROM:-0600
TZOFFSETTO:-0500
TZNAME:CDT
DTSTART:20210314T080000
END:DAYLIGHT
BEGIN:STANDARD
TZOFFSETFROM:-0500
TZOFFSETTO:-0600
TZNAME:CST
DTSTART:20211107T070000
END:STANDARD
BEGIN:DAYLIGHT
TZOFFSETFROM:-0600
TZOFFSETTO:-0500
TZNAME:CDT
DTSTART:20220313T080000
END:DAYLIGHT
BEGIN:STANDARD
TZOFFSETFROM:-0500
TZOFFSETTO:-0600
TZNAME:CST
DTSTART:20221106T070000
END:STANDARD
BEGIN:DAYLIGHT
TZOFFSETFROM:-0600
TZOFFSETTO:-0500
TZNAME:CDT
DTSTART:20230312T080000
END:DAYLIGHT
BEGIN:STANDARD
TZOFFSETFROM:-0500
TZOFFSETTO:-0600
TZNAME:CST
DTSTART:20231105T070000
END:STANDARD
BEGIN:DAYLIGHT
TZOFFSETFROM:-0600
TZOFFSETTO:-0500
TZNAME:CDT
DTSTART:20240310T080000
END:DAYLIGHT
BEGIN:STANDARD
TZOFFSETFROM:-0500
TZOFFSETTO:-0600
TZNAME:CST
DTSTART:20241103T070000
END:STANDARD
END:VTIMEZONE
BEGIN:VEVENT
DTSTART;TZID=America/Chicago:20221227T133000
DTEND;TZID=America/Chicago:20221227T150000
DTSTAMP:20260419T174234
CREATED:20221012T132242Z
LAST-MODIFIED:20221012T132242Z
UID:32602-1672147800-1672153200@sacada.org
SUMMARY:Kendall County Coalition Meeting
DESCRIPTION:
URL:https://sacada.org/event/kendall-county-coalition-meeting-3/
LOCATION:Patrick Heath Public Library\, 451 N Main St\, Boerne\, Texas\, 78006
END:VEVENT
BEGIN:VEVENT
DTSTART;TZID=America/Chicago:20230110T150000
DTEND;TZID=America/Chicago:20230110T163000
DTSTAMP:20260419T174234
CREATED:20230110T212806Z
LAST-MODIFIED:20230110T212806Z
UID:32833-1673362800-1673368200@sacada.org
SUMMARY:Guadalupe County Community Coalition Meeting
DESCRIPTION:To RSVP Send an email to keberhard@sacada.org
URL:https://sacada.org/event/guadalupe-county-community-coalition-meeting-4/
END:VEVENT
BEGIN:VEVENT
DTSTART;TZID=America/Chicago:20230118T150000
DTEND;TZID=America/Chicago:20230118T163000
DTSTAMP:20260419T174234
CREATED:20221121T153448Z
LAST-MODIFIED:20221205T190748Z
UID:32676-1674054000-1674059400@sacada.org
SUMMARY:Circles of San Antonio Community Coalition
DESCRIPTION:
URL:https://sacada.org/event/circles-of-san-antonio-community-coalition/
END:VEVENT
BEGIN:VEVENT
DTSTART;TZID=America/Chicago:20230123T150000
DTEND;TZID=America/Chicago:20230123T163000
DTSTAMP:20260419T174234
CREATED:20221129T172002Z
LAST-MODIFIED:20221129T172116Z
UID:32699-1674486000-1674491400@sacada.org
SUMMARY:Marijuana Workgroup
DESCRIPTION:
URL:https://sacada.org/event/marijuana-workgroup-3/
LOCATION:San Antonio Council on Alcohol & Drug Awareness\, 7500 US Hwy 90 West\, Dave Coy Building Ste. 201\, San Antonio\, TX\, 78227\, United States
END:VEVENT
BEGIN:VEVENT
DTSTART;TZID=America/Chicago:20230124T133000
DTEND;TZID=America/Chicago:20230124T150000
DTSTAMP:20260419T174234
CREATED:20221012T132413Z
LAST-MODIFIED:20221012T132413Z
UID:32604-1674567000-1674572400@sacada.org
SUMMARY:Kendall County Coalition Meeting
DESCRIPTION:
URL:https://sacada.org/event/kendall-county-coalition-meeting-4/
LOCATION:Patrick Heath Public Library\, 451 N Main St\, Boerne\, Texas\, 78006
END:VEVENT
BEGIN:VEVENT
DTSTART;TZID=America/Chicago:20230130T150000
DTEND;TZID=America/Chicago:20230130T163000
DTSTAMP:20260419T174234
CREATED:20221122T145859Z
LAST-MODIFIED:20221205T192918Z
UID:32680-1675090800-1675096200@sacada.org
SUMMARY:Alcohol Policy Meeting
DESCRIPTION:
URL:https://sacada.org/event/alcohol-policy-meeting/
LOCATION:High Intensity Drug Trafficking Areas Southwest Office Building\, 4204 Woodcock Drive\, Ste. 100\, San Antonio\, TX
END:VEVENT
BEGIN:VEVENT
DTSTART;TZID=America/Chicago:20230208T150000
DTEND;TZID=America/Chicago:20230208T163000
DTSTAMP:20260419T174234
CREATED:20230130T162123Z
LAST-MODIFIED:20230130T162123Z
UID:32900-1675868400-1675873800@sacada.org
SUMMARY:Circles of San Antonio Community Coalition Meeting
DESCRIPTION:
URL:https://sacada.org/event/circles-of-san-antonio-community-coalition-meeting-14/
END:VEVENT
BEGIN:VEVENT
DTSTART;TZID=America/Chicago:20230213T150000
DTEND;TZID=America/Chicago:20230213T163000
DTSTAMP:20260419T174234
CREATED:20221129T172639Z
LAST-MODIFIED:20221129T172826Z
UID:32701-1676300400-1676305800@sacada.org
SUMMARY:Marijuana Workgroup
DESCRIPTION:
URL:https://sacada.org/event/marijuana-workgroup/
LOCATION:San Antonio Council on Alcohol & Drug Awareness\, 7500 US Hwy 90 West\, Dave Coy Building Ste. 201\, San Antonio\, TX\, 78227\, United States
END:VEVENT
BEGIN:VEVENT
DTSTART;TZID=America/Chicago:20230214T150000
DTEND;TZID=America/Chicago:20230214T163000
DTSTAMP:20260419T174234
CREATED:20230110T212918Z
LAST-MODIFIED:20230110T212918Z
UID:32835-1676386800-1676392200@sacada.org
SUMMARY:Guadalupe County Community Coalition Meeting
DESCRIPTION:To RSVP send an email to keberhard@sacada.org
URL:https://sacada.org/event/guadalupe-county-community-coalition-meeting-5/
END:VEVENT
BEGIN:VEVENT
DTSTART;TZID=America/Chicago:20230227T150000
DTEND;TZID=America/Chicago:20230227T163000
DTSTAMP:20260419T174234
CREATED:20230202T165006Z
LAST-MODIFIED:20230202T165006Z
UID:32913-1677510000-1677515400@sacada.org
SUMMARY:Alcohol Policy Workgroup
DESCRIPTION:In Person at HIDTA\, 4204 Woodcock Dr\, SAPD Conference Room \nOr via Zoom
URL:https://sacada.org/event/alcohol-policy-workgroup-2/
LOCATION:High Intensity Drug Trafficking Areas Southwest Office Building\, 4204 Woodcock Drive\, Ste. 100\, San Antonio\, TX
END:VEVENT
BEGIN:VEVENT
DTSTART;TZID=America/Chicago:20230228T133000
DTEND;TZID=America/Chicago:20230228T150000
DTSTAMP:20260419T174234
CREATED:20221012T132543Z
LAST-MODIFIED:20221012T132543Z
UID:32606-1677591000-1677596400@sacada.org
SUMMARY:Kendall County Coalition Meeting
DESCRIPTION:
URL:https://sacada.org/event/kendall-county-coalition-meeting-5/
LOCATION:Patrick Heath Public Library\, 451 N Main St\, Boerne\, Texas\, 78006
END:VEVENT
BEGIN:VEVENT
DTSTART;TZID=America/Chicago:20230228T153000
DTEND;TZID=America/Chicago:20230228T173000
DTSTAMP:20260419T174234
CREATED:20230126T195753Z
LAST-MODIFIED:20230126T195753Z
UID:32871-1677598200-1677605400@sacada.org
SUMMARY:Comal County Community Coalition Meeting
DESCRIPTION:RSVP to Boyd Baxter bbaxter@sacada.org
URL:https://sacada.org/event/comal-county-community-coalition-meeting/
LOCATION:Tye Preston Memorial Library\, 16311 S. Access Rd.\, Canyon Lake\, TX\, Texas\, 78133
END:VEVENT
BEGIN:VEVENT
DTSTART;TZID=America/Chicago:20230308T150000
DTEND;TZID=America/Chicago:20230308T163000
DTSTAMP:20260419T174234
CREATED:20230213T170137Z
LAST-MODIFIED:20230213T170137Z
UID:32929-1678287600-1678293000@sacada.org
SUMMARY:Circles of San Antonio Community Coalition Meeting
DESCRIPTION:
URL:https://sacada.org/event/circles-of-san-antonio-community-coalition-meeting-15/
LOCATION:San Antonio Council on Alcohol & Drug Awareness\, 7500 US Hwy 90 West\, Dave Coy Building Ste. 201\, San Antonio\, TX\, 78227\, United States
END:VEVENT
BEGIN:VEVENT
DTSTART;TZID=America/Chicago:20230314T150000
DTEND;TZID=America/Chicago:20230314T163000
DTSTAMP:20260419T174234
CREATED:20230110T213028Z
LAST-MODIFIED:20230110T213028Z
UID:32837-1678806000-1678811400@sacada.org
SUMMARY:Guadalupe County Community Coalition Meeting
DESCRIPTION:To RSVP send an email to keberhard@sacada.org
URL:https://sacada.org/event/guadalupe-county-community-coalition-meeting-6/
END:VEVENT
BEGIN:VEVENT
DTSTART;TZID=America/Chicago:20230320T150000
DTEND;TZID=America/Chicago:20230320T163000
DTSTAMP:20260419T174234
CREATED:20221122T150305Z
LAST-MODIFIED:20221122T150305Z
UID:32682-1679324400-1679329800@sacada.org
SUMMARY:Alcohol Policy Meeting
DESCRIPTION:
URL:https://sacada.org/event/alcohol-policy-meeting-2/
LOCATION:High Intensity Drug Trafficking Areas Southwest Office Building\, 4204 Woodcock Drive\, Ste. 100\, San Antonio\, TX
END:VEVENT
BEGIN:VEVENT
DTSTART;TZID=America/Chicago:20230323T110000
DTEND;TZID=America/Chicago:20230323T120000
DTSTAMP:20260419T174234
CREATED:20230124T170207Z
LAST-MODIFIED:20230124T170207Z
UID:32868-1679569200-1679572800@sacada.org
SUMMARY:Epi Workgroup Lunch and Learn
DESCRIPTION:
URL:https://sacada.org/event/epi-workgroup-lunch-and-learn/
END:VEVENT
BEGIN:VEVENT
DTSTART;TZID=America/Chicago:20230404T090000
DTEND;TZID=America/Chicago:20230404T100000
DTSTAMP:20260419T174234
CREATED:20230323T213035Z
LAST-MODIFIED:20230323T213035Z
UID:33044-1680598800-1680602400@sacada.org
SUMMARY:Alcohol Awareness Month Proclamation
DESCRIPTION:Bexar County Courthouse at 100 Dolorosa Street\, 2nd floor
URL:https://sacada.org/event/alcohol-awareness-month-proclamation/
LOCATION:Bexar County Courthouse\, 2nd floor\, 100 Dolorosa St.\, San Antonio\, Texas\, 78205
CATEGORIES:Community Coalition
END:VEVENT
BEGIN:VEVENT
DTSTART;TZID=America/Chicago:20230411T150000
DTEND;TZID=America/Chicago:20230411T163000
DTSTAMP:20260419T174234
CREATED:20230110T213147Z
LAST-MODIFIED:20230110T213147Z
UID:32839-1681225200-1681230600@sacada.org
SUMMARY:Guadalupe County Community Coalition
DESCRIPTION:To RSVP send an email to keberhard@sacada.org
URL:https://sacada.org/event/guadalupe-county-community-coalition/
END:VEVENT
BEGIN:VEVENT
DTSTART;TZID=America/Chicago:20230417T150000
DTEND;TZID=America/Chicago:20230417T163000
DTSTAMP:20260419T174234
CREATED:20221129T173002Z
LAST-MODIFIED:20221129T173002Z
UID:32703-1681743600-1681749000@sacada.org
SUMMARY:Marijuana Workgroup
DESCRIPTION:
URL:https://sacada.org/event/marijuana-workgroup-2/
LOCATION:San Antonio Council on Alcohol & Drug Awareness\, 7500 US Hwy 90 West\, Dave Coy Building Ste. 201\, San Antonio\, TX\, 78227\, United States
END:VEVENT
BEGIN:VEVENT
DTSTART;TZID=America/Chicago:20230419T080000
DTEND;TZID=America/Chicago:20230419T093000
DTSTAMP:20260419T174234
CREATED:20230323T213752Z
LAST-MODIFIED:20230323T214011Z
UID:33050-1681891200-1681896600@sacada.org
SUMMARY:Fiesta Roll Call
DESCRIPTION:Bexar County DWI Fiesta Roll Call seeks to educate the public on drunk driving prevention and increased enforcement during Fiesta. For more information\, visit: https://www.eventbrite.com/e/588131425927
URL:https://sacada.org/event/fiesta-roll-call-2/
LOCATION:Alamo Stadium Parking Lot A\, 110 Tuleta Drive Parking\, San Antonio\, Texas\, 78212
END:VEVENT
BEGIN:VEVENT
DTSTART;TZID=America/Chicago:20230419T150000
DTEND;TZID=America/Chicago:20230419T163000
DTSTAMP:20260419T174234
CREATED:20230228T140340Z
LAST-MODIFIED:20230323T213537Z
UID:32963-1681916400-1681921800@sacada.org
SUMMARY:Circles of SA Coalition Meeting
DESCRIPTION:Alcohol Awareness Month Proclamation on Tuesday\, April 4th\, at 9:00am.  Bexar County Courthouse at 100 Dolorosa Street\, 2nd floor \nFiesta Roll Call
URL:https://sacada.org/event/circles-of-sa-coalition-meeting/
LOCATION:San Antonio Council on Alcohol & Drug Awareness\, 7500 US Hwy 90 West\, Dave Coy Building Ste. 201\, San Antonio\, TX\, 78227\, United States
END:VEVENT
BEGIN:VEVENT
DTSTART;TZID=America/Chicago:20230419T200000
DTEND;TZID=America/Chicago:20230419T213000
DTSTAMP:20260419T174234
CREATED:20230228T140817Z
LAST-MODIFIED:20230228T140817Z
UID:32965-1681934400-1681939800@sacada.org
SUMMARY:Fiesta Roll Call
DESCRIPTION:
URL:https://sacada.org/event/fiesta-roll-call/
LOCATION:Alamo Stadium Lot A\, 110 Tuleta Dr\, San Antonio\, TX\, 78212\, United States
END:VEVENT
BEGIN:VEVENT
DTSTART;TZID=America/Chicago:20230425T133000
DTEND;TZID=America/Chicago:20230425T150000
DTSTAMP:20260419T174234
CREATED:20221012T132843Z
LAST-MODIFIED:20221012T132843Z
UID:32610-1682429400-1682434800@sacada.org
SUMMARY:Kendall County Coalition Meeting
DESCRIPTION:
URL:https://sacada.org/event/kendall-county-coalition-meeting-7/
LOCATION:Patrick Heath Public Library\, 451 N Main St\, Boerne\, Texas\, 78006
END:VEVENT
BEGIN:VEVENT
DTSTART;TZID=America/Chicago:20230425T153000
DTEND;TZID=America/Chicago:20230425T173000
DTSTAMP:20260419T174234
CREATED:20230126T200357Z
LAST-MODIFIED:20230126T202813Z
UID:32875-1682436600-1682443800@sacada.org
SUMMARY:Comal County Community Coalition Meeting
DESCRIPTION:RSVP to Boyd Baxter bbaxter@sacada.org
URL:https://sacada.org/event/comal-county-community-coalition-meeting-3/
LOCATION:Tye Preston Memorial Library\, 16311 S. Access Rd.\, Canyon Lake\, TX\, Texas\, 78133
END:VEVENT
BEGIN:VEVENT
DTSTART;TZID=America/Chicago:20230509T150000
DTEND;TZID=America/Chicago:20230509T163000
DTSTAMP:20260419T174234
CREATED:20230110T213337Z
LAST-MODIFIED:20230110T213337Z
UID:32841-1683644400-1683649800@sacada.org
SUMMARY:Guadalupe County Community Coalition
DESCRIPTION:To RSVP send an email to keberhard@sacada.org
URL:https://sacada.org/event/guadalupe-county-community-coalition-2/
END:VEVENT
BEGIN:VEVENT
DTSTART;TZID=America/Chicago:20230510T150000
DTEND;TZID=America/Chicago:20230510T163000
DTSTAMP:20260419T174234
CREATED:20230213T170328Z
LAST-MODIFIED:20230213T170328Z
UID:32931-1683730800-1683736200@sacada.org
SUMMARY:Circles of San Antonio Community Coalition Meeting
DESCRIPTION:
URL:https://sacada.org/event/circles-of-san-antonio-community-coalition-meeting-16/
LOCATION:San Antonio Council on Alcohol & Drug Awareness\, 7500 US Hwy 90 West\, Dave Coy Building Ste. 201\, San Antonio\, TX\, 78227\, United States
END:VEVENT
BEGIN:VEVENT
DTSTART;TZID=America/Chicago:20230511T090000
DTEND;TZID=America/Chicago:20230511T100000
DTSTAMP:20260419T174234
CREATED:20230413T154241Z
LAST-MODIFIED:20230413T172154Z
UID:33287-1683795600-1683799200@sacada.org
SUMMARY:Coffee with Dr. Collier
DESCRIPTION:Webinar Registration – Zoom\n  \nGrab your morning coffee and join us for a discussion with Dr. Crystal Collier during National Prevention Week!
URL:https://sacada.org/event/coffee-with-dr-collier/
LOCATION:Online Event
ATTACH;FMTTYPE=image/jpeg:https://sacada.org/wp-content/uploads/2023/04/Coffee-with-Dr.-Collier-graphic-2023-social-media-1.jpg
END:VEVENT
BEGIN:VEVENT
DTSTART;TZID=America/Chicago:20230515T150000
DTEND;TZID=America/Chicago:20230515T163000
DTSTAMP:20260419T174234
CREATED:20221122T150458Z
LAST-MODIFIED:20221122T150458Z
UID:32684-1684162800-1684168200@sacada.org
SUMMARY:Alcohol Policy Meeting
DESCRIPTION:
URL:https://sacada.org/event/alcohol-policy-meeting-3/
LOCATION:High Intensity Drug Trafficking Areas Southwest Office Building\, 4204 Woodcock Drive\, Ste. 100\, San Antonio\, TX
END:VEVENT
BEGIN:VEVENT
DTSTART;TZID=America/Chicago:20230519T070000
DTEND;TZID=America/Chicago:20230519T150000
DTSTAMP:20260419T174234
CREATED:20230424T220629Z
LAST-MODIFIED:20230424T220820Z
UID:33306-1684479600-1684508400@sacada.org
SUMMARY:2023 Pars for Prevention
DESCRIPTION:
URL:https://sacada.org/event/2023-pars-for-prevention/
LOCATION:SilverHorn Golf Club of Texas\, 1100 West Bitters Rd.\, San Antonio\, Texas\, 78216
ORGANIZER;CN="Velda Schalk":MAILTO:vschalk@sacada.org
END:VEVENT
BEGIN:VEVENT
DTSTART;TZID=America/Chicago:20230523T133000
DTEND;TZID=America/Chicago:20230523T150000
DTSTAMP:20260419T174234
CREATED:20221012T133011Z
LAST-MODIFIED:20221012T133011Z
UID:32612-1684848600-1684854000@sacada.org
SUMMARY:Kendall County Coalition Meeting
DESCRIPTION:
URL:https://sacada.org/event/kendall-county-coalition-meeting-8/
LOCATION:Patrick Heath Public Library\, 451 N Main St\, Boerne\, Texas\, 78006
END:VEVENT
END:VCALENDAR