BEGIN:VCALENDAR
VERSION:2.0
PRODID:-//San Antonio Council on Alcohol &amp; Drug Awareness - ECPv6.15.20//NONSGML v1.0//EN
CALSCALE:GREGORIAN
METHOD:PUBLISH
X-ORIGINAL-URL:https://sacada.org
X-WR-CALDESC:Events for San Antonio Council on Alcohol &amp; Drug Awareness
REFRESH-INTERVAL;VALUE=DURATION:PT1H
X-Robots-Tag:noindex
X-PUBLISHED-TTL:PT1H
BEGIN:VTIMEZONE
TZID:America/Chicago
BEGIN:DAYLIGHT
TZOFFSETFROM:-0600
TZOFFSETTO:-0500
TZNAME:CDT
DTSTART:20200308T080000
END:DAYLIGHT
BEGIN:STANDARD
TZOFFSETFROM:-0500
TZOFFSETTO:-0600
TZNAME:CST
DTSTART:20201101T070000
END:STANDARD
BEGIN:DAYLIGHT
TZOFFSETFROM:-0600
TZOFFSETTO:-0500
TZNAME:CDT
DTSTART:20210314T080000
END:DAYLIGHT
BEGIN:STANDARD
TZOFFSETFROM:-0500
TZOFFSETTO:-0600
TZNAME:CST
DTSTART:20211107T070000
END:STANDARD
BEGIN:DAYLIGHT
TZOFFSETFROM:-0600
TZOFFSETTO:-0500
TZNAME:CDT
DTSTART:20220313T080000
END:DAYLIGHT
BEGIN:STANDARD
TZOFFSETFROM:-0500
TZOFFSETTO:-0600
TZNAME:CST
DTSTART:20221106T070000
END:STANDARD
END:VTIMEZONE
BEGIN:VEVENT
DTSTART;TZID=America/Chicago:20210914T150000
DTEND;TZID=America/Chicago:20210914T163000
DTSTAMP:20260420T002601
CREATED:20210412T201826Z
LAST-MODIFIED:20210415T205328Z
UID:28009-1631631600-1631637000@sacada.org
SUMMARY:Guadalupe County Community Coalition- September 14\, 2021
DESCRIPTION:Guadalupe County Community Coalition \nMonthly Meetings \nSeptember 14\, 2021 \n3:00pm – 4:30pm  \nVirtual Meeting  \nRSVP\, Amy Alston\, aalston@sacada.org \n  \nJoin Zoom Meeting \nhttps://us02web.zoom.us/j/81749573079?pwd=ZVNKUkpUUUF5cWE2akcwZHpzWEN5dz09 \nMeeting ID: 817 4957 3079 \nPasscode: 445670 \nOne tap mobile \n+13462487799\,\,81749573079# US (Houston) \n+16699009128\,\,81749573079# US (San Jose)
URL:https://sacada.org/event/guadalupe-county-community-coalition-september-14-2021/
CATEGORIES:Community Coalition
END:VEVENT
BEGIN:VEVENT
DTSTART;TZID=America/Chicago:20210908T150000
DTEND;TZID=America/Chicago:20210908T163000
DTSTAMP:20260420T002601
CREATED:20210216T152043Z
LAST-MODIFIED:20210415T185851Z
UID:26809-1631113200-1631118600@sacada.org
SUMMARY:Circles of San Antonio Community Coalition Meeting
DESCRIPTION:Circles of San Antonio Community Coalition Meeting\nWed\, Sep 8\, 2021 3:00 PM – 4:30 PM (CDT)\nPlease join my meeting from your computer\, tablet or smartphone. \n  \nJoin Zoom Meeting \nhttps://us02web.zoom.us/j/85836385874?pwd=dGh3SWZ2NEtOT0x3bGxsS1ByRUdldz09 \n  \nMeeting ID: 858 3638 5874 \nPasscode: 699573 \nOne tap mobile \n+13462487799\,\,85836385874# US (Houston) \n+12532158782\,\,85836385874# US (Tacoma) \n  \nDial by your location \n+1 346 248 7799 US (Houston) \n+1 253 215 8782 US (Tacoma) \n+1 669 900 9128 US (San Jose) \n+1 312 626 6799 US (Chicago) \n+1 646 558 8656 US (New York) \n+1 301 715 8592 US (Washington DC) Meeting ID: 858 3638 5874 Find your local number: https://us02web.zoom.us/u/kcijtdoeEt
URL:https://sacada.org/event/circles-of-san-antonio-community-coalition-meeting-11/
CATEGORIES:Community Coalition
ORGANIZER;CN="Vicki Thomas":MAILTO:vthomas@sacada.org
END:VEVENT
BEGIN:VEVENT
DTSTART;TZID=America/Chicago:20210811T150000
DTEND;TZID=America/Chicago:20210811T163000
DTSTAMP:20260420T002601
CREATED:20210216T151851Z
LAST-MODIFIED:20210415T185330Z
UID:26807-1628694000-1628699400@sacada.org
SUMMARY:Circles of San Antonio Community Coalition Meeting
DESCRIPTION:Circles of San Antonio Community Coalition Meeting\nWed\, Aug 11\, 2021 3:00 PM – 4:30 PM (CDT)\nPlease join my meeting from your computer\, tablet or smartphone.  \nJoin Zoom Meeting \nhttps://us02web.zoom.us/j/85836385874?pwd=dGh3SWZ2NEtOT0x3bGxsS1ByRUdldz09 \n  \nMeeting ID: 858 3638 5874 \nPasscode: 699573 \nOne tap mobile \n+13462487799\,\,85836385874# US (Houston) \n+12532158782\,\,85836385874# US (Tacoma) \n  \nDial by your location \n+1 346 248 7799 US (Houston) \n+1 253 215 8782 US (Tacoma) \n+1 669 900 9128 US (San Jose) \n+1 312 626 6799 US (Chicago) \n+1 646 558 8656 US (New York) \n+1 301 715 8592 US (Washington DC) Meeting ID: 858 3638 5874 Find your local number: https://us02web.zoom.us/u/kcijtdoeEt
URL:https://sacada.org/event/circles-of-san-antonio-community-coalition-meeting-10/
CATEGORIES:Community Coalition
ORGANIZER;CN="Vicki Thomas":MAILTO:vthomas@sacada.org
END:VEVENT
BEGIN:VEVENT
DTSTART;TZID=America/Chicago:20210810T150000
DTEND;TZID=America/Chicago:20210810T163000
DTSTAMP:20260420T002601
CREATED:20210412T201036Z
LAST-MODIFIED:20210415T204644Z
UID:28007-1628607600-1628613000@sacada.org
SUMMARY:Guadalupe County Community Coalition- August 10\, 2021
DESCRIPTION:Guadalupe County Community Coalition \nMonthly Meetings \nAugust 10\, 2021 \n3:00pm – 4:30pm  \nVirtual Meeting  \nRSVP: Amy Alston\, aalston@sacada.org \nJoin Zoom Meeting \nhttps://us02web.zoom.us/j/81749573079?pwd=ZVNKUkpUUUF5cWE2akcwZHpzWEN5dz09 \nMeeting ID: 817 4957 3079 \nPasscode: 445670 \nOne tap mobile \n+13462487799\,\,81749573079# US (Houston) \n+16699009128\,\,81749573079# US (San Jose)
URL:https://sacada.org/event/guadalupe-county-community-coalition-august-10-2021/
CATEGORIES:Community Coalition
END:VEVENT
BEGIN:VEVENT
DTSTART;TZID=America/Chicago:20210721T150000
DTEND;TZID=America/Chicago:20210721T163000
DTSTAMP:20260420T002601
CREATED:20210216T144049Z
LAST-MODIFIED:20210415T184832Z
UID:26805-1626879600-1626885000@sacada.org
SUMMARY:Circles of San Antonio Community Coalition Meeting
DESCRIPTION:Circles of San Antonio Community Coalition Meeting\nWed\, Jul 21\, 2021 3:00 PM – 4:30 PM (CDT)\nPlease join my meeting from your computer\, tablet or smartphone.  \nJoin Zoom Meeting \nhttps://us02web.zoom.us/j/85836385874?pwd=dGh3SWZ2NEtOT0x3bGxsS1ByRUdldz09 \n  \nMeeting ID: 858 3638 5874 \nPasscode: 699573 \nOne tap mobile \n+13462487799\,\,85836385874# US (Houston) \n+12532158782\,\,85836385874# US (Tacoma) \n  \nDial by your location \n+1 346 248 7799 US (Houston) \n+1 253 215 8782 US (Tacoma) \n+1 669 900 9128 US (San Jose) \n+1 312 626 6799 US (Chicago) \n+1 646 558 8656 US (New York) \n+1 301 715 8592 US (Washington DC) Meeting ID: 858 3638 5874 Find your local number: https://us02web.zoom.us/u/kcijtdoeEt
URL:https://sacada.org/event/circles-of-san-antonio-community-coalition-meeting-9/
CATEGORIES:Community Coalition
ORGANIZER;CN="Vicki Thomas":MAILTO:vthomas@sacada.org
END:VEVENT
BEGIN:VEVENT
DTSTART;TZID=America/Chicago:20210713T150000
DTEND;TZID=America/Chicago:20210713T163000
DTSTAMP:20260420T002601
CREATED:20210412T200550Z
LAST-MODIFIED:20210415T204059Z
UID:28003-1626188400-1626193800@sacada.org
SUMMARY:Guadalupe County Community Coalition- July 13\, 2021
DESCRIPTION:Guadalupe County Community Coalition \nMonthly Meetings \nJuly 13\, 2021 \n3:00pm – 4:30pm  \nVirtual Meeting  \nRSVP: Amy Alston\, aalston@sacada.org \nJoin Zoom Meeting \nhttps://us02web.zoom.us/j/81749573079?pwd=ZVNKUkpUUUF5cWE2akcwZHpzWEN5dz09 \nMeeting ID: 817 4957 3079 \nPasscode: 445670 \nOne tap mobile \n+13462487799\,\,81749573079# US (Houston) \n+16699009128\,\,81749573079# US (San Jose)
URL:https://sacada.org/event/guadalupe-county-community-coalition-july-13-2021/
CATEGORIES:Community Coalition
END:VEVENT
BEGIN:VEVENT
DTSTART;TZID=America/Chicago:20210609T150000
DTEND;TZID=America/Chicago:20210609T163000
DTSTAMP:20260420T002601
CREATED:20210216T142754Z
LAST-MODIFIED:20210415T184537Z
UID:26801-1623250800-1623256200@sacada.org
SUMMARY:Circles of San Antonio Community Coalition Meeting
DESCRIPTION:Circles of San Antonio Community Coalition Meeting\nWed\, Jun 9\, 2021 3:00 PM – 4:30 PM (CDT)\nPlease join my meeting from your computer\, tablet or smartphone.  \nJoin Zoom Meeting \nhttps://us02web.zoom.us/j/85836385874?pwd=dGh3SWZ2NEtOT0x3bGxsS1ByRUdldz09 \n  \nMeeting ID: 858 3638 5874 \nPasscode: 699573 \nOne tap mobile \n+13462487799\,\,85836385874# US (Houston) \n+12532158782\,\,85836385874# US (Tacoma) \n  \nDial by your location \n+1 346 248 7799 US (Houston) \n+1 253 215 8782 US (Tacoma) \n+1 669 900 9128 US (San Jose) \n+1 312 626 6799 US (Chicago) \n+1 646 558 8656 US (New York) \n+1 301 715 8592 US (Washington DC) Meeting ID: 858 3638 5874 Find your local number: https://us02web.zoom.us/u/kcijtdoeEt
URL:https://sacada.org/event/circles-of-san-antonio-community-coalition-meeting-8/
CATEGORIES:Community Coalition
ORGANIZER;CN="Vicki Thomas":MAILTO:vthomas@sacada.org
END:VEVENT
BEGIN:VEVENT
DTSTART;TZID=America/Chicago:20210608T150000
DTEND;TZID=America/Chicago:20210608T163000
DTSTAMP:20260420T002601
CREATED:20210412T200420Z
LAST-MODIFIED:20210415T203450Z
UID:28001-1623164400-1623169800@sacada.org
SUMMARY:Guadalupe County Community Coalition- June 8\, 2021
DESCRIPTION:Guadalupe County Community Coalition \nMonthly Meetings \nJune 8\, 2021 \n3:00pm – 4:30pm  \nVirtual Meeting  \nRSVP: Amy Alston\, aalston@sacada.org \nJoin Zoom Meeting \nhttps://us02web.zoom.us/j/81749573079?pwd=ZVNKUkpUUUF5cWE2akcwZHpzWEN5dz09 \nMeeting ID: 817 4957 3079 \nPasscode: 445670 \nOne tap mobile \n+13462487799\,\,81749573079# US (Houston) \n+16699009128\,\,81749573079# US (San Jose)
URL:https://sacada.org/event/guadalupe-county-community-coalition-june-8-2021/
CATEGORIES:Community Coalition
END:VEVENT
BEGIN:VEVENT
DTSTART;TZID=America/Chicago:20210512T150000
DTEND;TZID=America/Chicago:20210512T163000
DTSTAMP:20260420T002601
CREATED:20210216T142534Z
LAST-MODIFIED:20210415T183613Z
UID:26799-1620831600-1620837000@sacada.org
SUMMARY:Circles of San Antonio Community Coalition Meeting
DESCRIPTION:Circles of San Antonio Community Coalition Meeting\nWed\, May 12\, 2021 3:00 PM – 4:30 PM (CDT) \n\nPlease join my meeting from your computer\, tablet or smartphone.  \nJoin Zoom Meeting \n  \nhttps://us02web.zoom.us/j/85836385874?pwd=dGh3SWZ2NEtOT0x3bGxsS1ByRUdldz09 \n  \nMeeting ID: 858 3638 5874 \nPasscode: 699573 \nOne tap mobile \n+13462487799\,\,85836385874# US (Houston) \n+12532158782\,\,85836385874# US (Tacoma) \n  \nDial by your location \n+1 346 248 7799 US (Houston) \n+1 253 215 8782 US (Tacoma) \n+1 669 900 9128 US (San Jose) \n+1 312 626 6799 US (Chicago) \n+1 646 558 8656 US (New York) \n+1 301 715 8592 US (Washington DC) Meeting ID: 858 3638 5874 Find your local number: https://us02web.zoom.us/u/kcijtdoeEt
URL:https://sacada.org/event/circles-of-san-antonio-community-coalition-meeting-7/
CATEGORIES:Community Coalition
ORGANIZER;CN="Vicki Thomas":MAILTO:vthomas@sacada.org
END:VEVENT
BEGIN:VEVENT
DTSTART;TZID=America/Chicago:20210511T150000
DTEND;TZID=America/Chicago:20210511T163000
DTSTAMP:20260420T002601
CREATED:20210412T200246Z
LAST-MODIFIED:20210415T202817Z
UID:27999-1620745200-1620750600@sacada.org
SUMMARY:Guadalupe County Community Coalition- May 11\, 2021
DESCRIPTION:Guadalupe County Community Coalition \nMonthly Meetings \nMay 11\, 2021 \n3:00pm – 4:30pm \nVirtual Meeting  \nRSVP: Amy Alston\, aalston@sacada.org \n  \nJoin Zoom Meeting \nhttps://us02web.zoom.us/j/81749573079?pwd=ZVNKUkpUUUF5cWE2akcwZHpzWEN5dz09 \nMeeting ID: 817 4957 3079 \nPasscode: 445670 \nOne tap mobile \n+13462487799\,\,81749573079# US (Houston) \n+16699009128\,\,81749573079# US (San Jose)
URL:https://sacada.org/event/guadalupe-county-community-coalition-may-11-2021/
CATEGORIES:Community Coalition
END:VEVENT
END:VCALENDAR