BEGIN:VCALENDAR
VERSION:2.0
PRODID:-//San Antonio Council on Alcohol &amp; Drug Awareness - ECPv6.15.20//NONSGML v1.0//EN
CALSCALE:GREGORIAN
METHOD:PUBLISH
X-WR-CALNAME:San Antonio Council on Alcohol &amp; Drug Awareness
X-ORIGINAL-URL:https://sacada.org
X-WR-CALDESC:Events for San Antonio Council on Alcohol &amp; Drug Awareness
REFRESH-INTERVAL;VALUE=DURATION:PT1H
X-Robots-Tag:noindex
X-PUBLISHED-TTL:PT1H
BEGIN:VTIMEZONE
TZID:America/Chicago
BEGIN:DAYLIGHT
TZOFFSETFROM:-0600
TZOFFSETTO:-0500
TZNAME:CDT
DTSTART:20250309T080000
END:DAYLIGHT
BEGIN:STANDARD
TZOFFSETFROM:-0500
TZOFFSETTO:-0600
TZNAME:CST
DTSTART:20251102T070000
END:STANDARD
BEGIN:DAYLIGHT
TZOFFSETFROM:-0600
TZOFFSETTO:-0500
TZNAME:CDT
DTSTART:20260308T080000
END:DAYLIGHT
BEGIN:STANDARD
TZOFFSETFROM:-0500
TZOFFSETTO:-0600
TZNAME:CST
DTSTART:20261101T070000
END:STANDARD
BEGIN:DAYLIGHT
TZOFFSETFROM:-0600
TZOFFSETTO:-0500
TZNAME:CDT
DTSTART:20270314T080000
END:DAYLIGHT
BEGIN:STANDARD
TZOFFSETFROM:-0500
TZOFFSETTO:-0600
TZNAME:CST
DTSTART:20271107T070000
END:STANDARD
END:VTIMEZONE
BEGIN:VEVENT
DTSTART;TZID=America/Chicago:20260414T130000
DTEND;TZID=America/Chicago:20260414T140000
DTSTAMP:20260419T153557
CREATED:20260129T184622Z
LAST-MODIFIED:20260129T184622Z
UID:35571-1776171600-1776175200@sacada.org
SUMMARY:Opioid\, Fentanyl and Naloxone Awareness and Response Training
DESCRIPTION:Presented by SACADA Community Programs. This one-hour training provides an overview of opioids\, including prescription and illicit substances\, with a focus on overdose prevention and the proper use of naloxone to reverse opioid overdoses and save lives. Free to attend but must register at bit.ly/FentanylAwarenessTraining \nClasses are held on 2nd Tuesday of each month (1:00 PM -2:00 PM) or 3rd Wednesday of each month (6:00 PM -7:00 PM) Group presentations are available upon request. For more information\, email Boyd at Bbaxter@sacada.org
URL:https://sacada.org/event/opioid-fentanyl-and-naloxone-awareness-and-response-training-5/
END:VEVENT
END:VCALENDAR