BEGIN:VCALENDAR
VERSION:2.0
PRODID:-//San Antonio Council on Alcohol &amp; Drug Awareness - ECPv6.15.20//NONSGML v1.0//EN
CALSCALE:GREGORIAN
METHOD:PUBLISH
X-ORIGINAL-URL:https://sacada.org
X-WR-CALDESC:Events for San Antonio Council on Alcohol &amp; Drug Awareness
REFRESH-INTERVAL;VALUE=DURATION:PT1H
X-Robots-Tag:noindex
X-PUBLISHED-TTL:PT1H
BEGIN:VTIMEZONE
TZID:America/Chicago
BEGIN:DAYLIGHT
TZOFFSETFROM:-0600
TZOFFSETTO:-0500
TZNAME:CDT
DTSTART:20230312T080000
END:DAYLIGHT
BEGIN:STANDARD
TZOFFSETFROM:-0500
TZOFFSETTO:-0600
TZNAME:CST
DTSTART:20231105T070000
END:STANDARD
BEGIN:DAYLIGHT
TZOFFSETFROM:-0600
TZOFFSETTO:-0500
TZNAME:CDT
DTSTART:20240310T080000
END:DAYLIGHT
BEGIN:STANDARD
TZOFFSETFROM:-0500
TZOFFSETTO:-0600
TZNAME:CST
DTSTART:20241103T070000
END:STANDARD
BEGIN:DAYLIGHT
TZOFFSETFROM:-0600
TZOFFSETTO:-0500
TZNAME:CDT
DTSTART:20250309T080000
END:DAYLIGHT
BEGIN:STANDARD
TZOFFSETFROM:-0500
TZOFFSETTO:-0600
TZNAME:CST
DTSTART:20251102T070000
END:STANDARD
END:VTIMEZONE
BEGIN:VEVENT
DTSTART;TZID=America/Chicago:20240507T100000
DTEND;TZID=America/Chicago:20240507T100000
DTSTAMP:20260423T091932
CREATED:20240422T133826Z
LAST-MODIFIED:20240422T133826Z
UID:34622-1715076000-1715076000@sacada.org
SUMMARY:Guadalupe County Commissioners Court National Prevention Week Proclamation
DESCRIPTION:Guadalupe County Commissioners Court National Prevention Week Proclamation will be read on May 7\, 2024\, at 10:00 am on the 3rd floor of the Gudalupe County Courthouse 101 E. Court St\, Seguin\, TX 78155.
URL:https://sacada.org/event/guadalupe-county-commissioners-court-national-prevention-week-proclamation/
LOCATION:Guadalupe County Courthouse 3rd floor\, 101 E. Court St.\, Seguin\, TX\, 78155\, United States
END:VEVENT
BEGIN:VEVENT
DTSTART;TZID=America/Chicago:20240507T180000
DTEND;TZID=America/Chicago:20240507T180000
DTSTAMP:20260423T091932
CREATED:20240430T144747Z
LAST-MODIFIED:20240430T144747Z
UID:34711-1715104800-1715104800@sacada.org
SUMMARY:Schertz City Council National Prevention Week Proclamation
DESCRIPTION:Schertz City Council -National Prevention Week Proclamation will be read on May 7th at 6pm. The meeting will be held at Schertz City Council Chambers
URL:https://sacada.org/event/schertz-city-council-national-prevention-week-proclamation/
LOCATION:Schertz City Council Chambers\, 1400 Schertz Parkway\, Schertz\, TX\, 78154\, United States
END:VEVENT
END:VCALENDAR