BEGIN:VCALENDAR
VERSION:2.0
PRODID:-//San Antonio Council on Alcohol &amp; Drug Awareness - ECPv6.15.20//NONSGML v1.0//EN
CALSCALE:GREGORIAN
METHOD:PUBLISH
X-ORIGINAL-URL:https://sacada.org
X-WR-CALDESC:Events for San Antonio Council on Alcohol &amp; Drug Awareness
REFRESH-INTERVAL;VALUE=DURATION:PT1H
X-Robots-Tag:noindex
X-PUBLISHED-TTL:PT1H
BEGIN:VTIMEZONE
TZID:America/Chicago
BEGIN:DAYLIGHT
TZOFFSETFROM:-0600
TZOFFSETTO:-0500
TZNAME:CDT
DTSTART:20230312T080000
END:DAYLIGHT
BEGIN:STANDARD
TZOFFSETFROM:-0500
TZOFFSETTO:-0600
TZNAME:CST
DTSTART:20231105T070000
END:STANDARD
BEGIN:DAYLIGHT
TZOFFSETFROM:-0600
TZOFFSETTO:-0500
TZNAME:CDT
DTSTART:20240310T080000
END:DAYLIGHT
BEGIN:STANDARD
TZOFFSETFROM:-0500
TZOFFSETTO:-0600
TZNAME:CST
DTSTART:20241103T070000
END:STANDARD
BEGIN:DAYLIGHT
TZOFFSETFROM:-0600
TZOFFSETTO:-0500
TZNAME:CDT
DTSTART:20250309T080000
END:DAYLIGHT
BEGIN:STANDARD
TZOFFSETFROM:-0500
TZOFFSETTO:-0600
TZNAME:CST
DTSTART:20251102T070000
END:STANDARD
END:VTIMEZONE
BEGIN:VEVENT
DTSTART;TZID=America/Chicago:20240123T133000
DTEND;TZID=America/Chicago:20240123T153000
DTSTAMP:20260423T043553
CREATED:20231004T201733Z
LAST-MODIFIED:20231004T201733Z
UID:33881-1706016600-1706023800@sacada.org
SUMMARY:Kendall County Coalition Meeting
DESCRIPTION:Hybrid Meeting\, Patrick Heath Public Library\, 451 N. Main St. Building 100\, Boerne\, TX 78006\, in the conference room on the second floor. \n  \nZoom Link: https://us02web.zoom.us/j/86548102413?pwd=eVdvbDBxU01lSXJaS3BRUHdaMVBWQT09
URL:https://sacada.org/event/kendall-county-coalition-meeting-18/
LOCATION:Patrick Health Public Library\, 451 N. Main St. Building 100\, Boerne\, 78006\, United States
END:VEVENT
END:VCALENDAR