BEGIN:VCALENDAR
VERSION:2.0
PRODID:-//San Antonio Council on Alcohol &amp; Drug Awareness - ECPv6.15.20//NONSGML v1.0//EN
CALSCALE:GREGORIAN
METHOD:PUBLISH
X-ORIGINAL-URL:https://sacada.org
X-WR-CALDESC:Events for San Antonio Council on Alcohol &amp; Drug Awareness
REFRESH-INTERVAL;VALUE=DURATION:PT1H
X-Robots-Tag:noindex
X-PUBLISHED-TTL:PT1H
BEGIN:VTIMEZONE
TZID:America/Chicago
BEGIN:DAYLIGHT
TZOFFSETFROM:-0600
TZOFFSETTO:-0500
TZNAME:CDT
DTSTART:20210314T080000
END:DAYLIGHT
BEGIN:STANDARD
TZOFFSETFROM:-0500
TZOFFSETTO:-0600
TZNAME:CST
DTSTART:20211107T070000
END:STANDARD
BEGIN:DAYLIGHT
TZOFFSETFROM:-0600
TZOFFSETTO:-0500
TZNAME:CDT
DTSTART:20220313T080000
END:DAYLIGHT
BEGIN:STANDARD
TZOFFSETFROM:-0500
TZOFFSETTO:-0600
TZNAME:CST
DTSTART:20221106T070000
END:STANDARD
BEGIN:DAYLIGHT
TZOFFSETFROM:-0600
TZOFFSETTO:-0500
TZNAME:CDT
DTSTART:20230312T080000
END:DAYLIGHT
BEGIN:STANDARD
TZOFFSETFROM:-0500
TZOFFSETTO:-0600
TZNAME:CST
DTSTART:20231105T070000
END:STANDARD
END:VTIMEZONE
BEGIN:VEVENT
DTSTART;TZID=America/Chicago:20220907T150000
DTEND;TZID=America/Chicago:20220907T163000
DTSTAMP:20260419T173821
CREATED:20220831T165404Z
LAST-MODIFIED:20220831T165931Z
UID:32323-1662562800-1662568200@sacada.org
SUMMARY:Circles of San Antonio Community Coalition Meeting
DESCRIPTION:Circles of San Antonio Community Coalition Meeting \nWednesday\, September 7th\, 3pm – 4:30pm \nIn person at SACADA\, 7500 US Hwy 90 West\, Ste 201\, Dave Coy Building\, San Antonio\, TX 78227 \nOr via Zoom \nJoin Zoom Meeting \nhttps://us02web.zoom.us/j/84285247113?pwd=V1BWOTgyZnNaMHpmc1UxT0NBTzRSZz09 \nMeeting ID: 842 8524 7113 \nPasscode: 915124
URL:https://sacada.org/event/circles-of-san-antonio-community-coalition-meeting-3/
CATEGORIES:Community Coalition
ORGANIZER;CN="Vicki Thomas":MAILTO:vthomas@sacada.org
END:VEVENT
END:VCALENDAR