BEGIN:VCALENDAR
VERSION:2.0
PRODID:-//San Antonio Council on Alcohol &amp; Drug Awareness - ECPv6.15.20//NONSGML v1.0//EN
CALSCALE:GREGORIAN
METHOD:PUBLISH
X-ORIGINAL-URL:https://sacada.org
X-WR-CALDESC:Events for San Antonio Council on Alcohol &amp; Drug Awareness
REFRESH-INTERVAL;VALUE=DURATION:PT1H
X-Robots-Tag:noindex
X-PUBLISHED-TTL:PT1H
BEGIN:VTIMEZONE
TZID:America/Chicago
BEGIN:DAYLIGHT
TZOFFSETFROM:-0600
TZOFFSETTO:-0500
TZNAME:CDT
DTSTART:20210314T080000
END:DAYLIGHT
BEGIN:STANDARD
TZOFFSETFROM:-0500
TZOFFSETTO:-0600
TZNAME:CST
DTSTART:20211107T070000
END:STANDARD
BEGIN:DAYLIGHT
TZOFFSETFROM:-0600
TZOFFSETTO:-0500
TZNAME:CDT
DTSTART:20220313T080000
END:DAYLIGHT
BEGIN:STANDARD
TZOFFSETFROM:-0500
TZOFFSETTO:-0600
TZNAME:CST
DTSTART:20221106T070000
END:STANDARD
BEGIN:DAYLIGHT
TZOFFSETFROM:-0600
TZOFFSETTO:-0500
TZNAME:CDT
DTSTART:20230312T080000
END:DAYLIGHT
BEGIN:STANDARD
TZOFFSETFROM:-0500
TZOFFSETTO:-0600
TZNAME:CST
DTSTART:20231105T070000
END:STANDARD
END:VTIMEZONE
BEGIN:VEVENT
DTSTART;TZID=America/Chicago:20220816T150000
DTEND;TZID=America/Chicago:20220816T163000
DTSTAMP:20260419T191212
CREATED:20220609T161526Z
LAST-MODIFIED:20220609T161526Z
UID:32198-1660662000-1660667400@sacada.org
SUMMARY:Guadalupe County Community Coalition Meeting
DESCRIPTION:Tuesday\, August 16\, 2022 \n3:00pm – 4:30pm \nZoom \nJoin Zoom Meeting \nhttps://us02web.zoom.us/j/84557270064?pwd=U1lVTzh4N3IyS0dUVGl1T1U0OFF0UT09 \n  \nMeeting ID: 845 5727 0064 \nPasscode: 753395
URL:https://sacada.org/event/guadalupe-county-community-coalition-meeting-3/
CATEGORIES:Guadalupe County Community Coalition
ORGANIZER;CN="Amy Alston":MAILTO:aalston@sacada.org
END:VEVENT
END:VCALENDAR