BEGIN:VCALENDAR
VERSION:2.0
PRODID:-//San Antonio Council on Alcohol &amp; Drug Awareness - ECPv6.15.20//NONSGML v1.0//EN
CALSCALE:GREGORIAN
METHOD:PUBLISH
X-WR-CALNAME:San Antonio Council on Alcohol &amp; Drug Awareness
X-ORIGINAL-URL:https://sacada.org
X-WR-CALDESC:Events for San Antonio Council on Alcohol &amp; Drug Awareness
REFRESH-INTERVAL;VALUE=DURATION:PT1H
X-Robots-Tag:noindex
X-PUBLISHED-TTL:PT1H
BEGIN:VTIMEZONE
TZID:America/Chicago
BEGIN:DAYLIGHT
TZOFFSETFROM:-0600
TZOFFSETTO:-0500
TZNAME:CDT
DTSTART:20210314T080000
END:DAYLIGHT
BEGIN:STANDARD
TZOFFSETFROM:-0500
TZOFFSETTO:-0600
TZNAME:CST
DTSTART:20211107T070000
END:STANDARD
BEGIN:DAYLIGHT
TZOFFSETFROM:-0600
TZOFFSETTO:-0500
TZNAME:CDT
DTSTART:20220313T080000
END:DAYLIGHT
BEGIN:STANDARD
TZOFFSETFROM:-0500
TZOFFSETTO:-0600
TZNAME:CST
DTSTART:20221106T070000
END:STANDARD
BEGIN:DAYLIGHT
TZOFFSETFROM:-0600
TZOFFSETTO:-0500
TZNAME:CDT
DTSTART:20230312T080000
END:DAYLIGHT
BEGIN:STANDARD
TZOFFSETFROM:-0500
TZOFFSETTO:-0600
TZNAME:CST
DTSTART:20231105T070000
END:STANDARD
END:VTIMEZONE
BEGIN:VEVENT
DTSTART;TZID=America/Chicago:20220815T133000
DTEND;TZID=America/Chicago:20220815T163000
DTSTAMP:20260419T204634
CREATED:20220808T131516Z
LAST-MODIFIED:20220808T131516Z
UID:32307-1660570200-1660581000@sacada.org
SUMMARY:Marijuana Policy Training and Circles of San Antonio Community Coalition Meeting
DESCRIPTION:Marijuana Policy Training and Circles of San Antonio Community Coalition Meeting \nMonday\, August 15th\, 1:30pm – 4:30pm \nOnline Only via Zoom \nhttps://us02web.zoom.us/j/81280679300?pwd=TWFjMGRhTWhuNXh2bFhQZkVhYk9HQT09 \nMeeting ID: 812 8067 9300\nPasscode: 899203
URL:https://sacada.org/event/marijuana-policy-training-and-circles-of-san-antonio-community-coalition-meeting/
ORGANIZER;CN="Vicki Thomas":MAILTO:vthomas@sacada.org
END:VEVENT
END:VCALENDAR