BEGIN:VCALENDAR
VERSION:2.0
PRODID:-//San Antonio Council on Alcohol &amp; Drug Awareness - ECPv6.15.20//NONSGML v1.0//EN
CALSCALE:GREGORIAN
METHOD:PUBLISH
X-WR-CALNAME:San Antonio Council on Alcohol &amp; Drug Awareness
X-ORIGINAL-URL:https://sacada.org
X-WR-CALDESC:Events for San Antonio Council on Alcohol &amp; Drug Awareness
REFRESH-INTERVAL;VALUE=DURATION:PT1H
X-Robots-Tag:noindex
X-PUBLISHED-TTL:PT1H
BEGIN:VTIMEZONE
TZID:America/Chicago
BEGIN:DAYLIGHT
TZOFFSETFROM:-0600
TZOFFSETTO:-0500
TZNAME:CDT
DTSTART:20210314T080000
END:DAYLIGHT
BEGIN:STANDARD
TZOFFSETFROM:-0500
TZOFFSETTO:-0600
TZNAME:CST
DTSTART:20211107T070000
END:STANDARD
BEGIN:DAYLIGHT
TZOFFSETFROM:-0600
TZOFFSETTO:-0500
TZNAME:CDT
DTSTART:20220313T080000
END:DAYLIGHT
BEGIN:STANDARD
TZOFFSETFROM:-0500
TZOFFSETTO:-0600
TZNAME:CST
DTSTART:20221106T070000
END:STANDARD
BEGIN:DAYLIGHT
TZOFFSETFROM:-0600
TZOFFSETTO:-0500
TZNAME:CDT
DTSTART:20230312T080000
END:DAYLIGHT
BEGIN:STANDARD
TZOFFSETFROM:-0500
TZOFFSETTO:-0600
TZNAME:CST
DTSTART:20231105T070000
END:STANDARD
END:VTIMEZONE
BEGIN:VEVENT
DTSTART;TZID=America/Chicago:20220705T080000
DTEND;TZID=America/Chicago:20220705T170000
DTSTAMP:20260419T204544
CREATED:20200114T175545Z
LAST-MODIFIED:20220325T200547Z
UID:15676-1657008000-1657040400@sacada.org
SUMMARY:State Approved Recovery Coach Training (July 2022)
DESCRIPTION:[vc_row css_animation=”” row_type=”row” use_row_as_full_screen_section=”no” type=”full_width” angled_section=”no” text_align=”left” background_image_as_pattern=”without_pattern”][vc_column][vc_column_text] \nRead more about this course »\n[/vc_column_text][vc_empty_space height=”20px”][vc_column_text] \nJuly Class Dates:\n\n\n\nDate (Day)Time\n\n5th (Tue)8 am - 5 pm\n\n11th & 12th (Mon\, Tue)8 am - 5 pm\n\n13th (Wed)8 am - 12 pm\n\n18th & 19th (Mon\, Tue)8 am - 5 pm\n\n20th (Wed)8 am - 12 pm\n[/vc_column_text][vc_empty_space height=”30px”][vc_column_text] \n\n\nDue to COVID\, we have moved to the virtual classroom via Zoom. For the safety of our participants and staff\, the course will continue to be held virtual until further notice. \n\n\n[/vc_column_text][vc_empty_space height=”20px”][vc_column_text] \n\n\n\nParticipant must have a computer or phone with a working camera and microphone and access to wifi in order to successfully complete the class.\n[/vc_column_text][vc_empty_space height=”20px”][vc_column_text] \n\n\n\nTotal training cost is $450. Payment must be made 3-weeks prior to course date you choose. All sales are final with purchase of class. Participants must register and pay in advance before the first day of class. SACADA accepts cash and credit card.\n[/vc_column_text][vc_empty_space height=”20px”][vc_column_text] \n\n\n\n\n\nFor questions or more information\, contact Recovery Support Peer Specialist\, Supervisor Jose Martinez at JMartinez@sacada.org\, or call us at (210) 225-4741. \n\n\n[/vc_column_text][vc_empty_space height=”50px”][vc_row_inner row_type=”row” type=”full_width” text_align=”left” css_animation=””][vc_column_inner width=”1/6″][/vc_column_inner][vc_column_inner width=”2/3″][vc_column_text] \nRegister Now:\nComplete the form below\, after which you will be taken to PayPal to pay for the class (credit cards accepted):[/vc_column_text][vc_empty_space height=”20px”][vc_column_text]\n			\n			\n			\n			\n			\n							  \n							  \n								\n								  \n									\n									  \n										\n									  \n									\n								  \n								  \n								\n							  \n							\n							\n							  \n							  \n								\n								  \n									\n									  \n										Thank You for Registering!Taking You to Payment Screen...\n										\n									  \n									\n								  \n								  \n								\n							  \n							11\n										\n										\n										\n										\n										\n									\n									\n									\n									\n									\n									\n									\n									\n									\n									\n									\n									\n									\n									\n									\n									\n									\n									\n									\n									\n									\n									\n									\n									\n										\n										\n										\n										\n										\n											\n												0%\n											\n										\n										\n										\n									https://sacada.org/wp-content/plugins/nex-forms-express-wp-form-builderfalsemessagehttps://sacada.org/wp-admin/admin-ajax.phphttps://sacada.org/events/2022-07-05yes1fadeInfadeOut\n							\n								\n							\n							* Required Field*Attandee Name*Address 1Address 2*City*State*ZIP*Phone*Email*Are you 18 or older?YesNo*Do you have “lived experience” ?YesNo*How did you hear about us?*Select Class PaymentCORE Training only ($50)Recovery Support Peer Specialist Training only ($400)Both CORE & Recovery Support Peer Specialist Training ($450)*Select RSPS Date OptionCORE Training only\, No RSPS OptionRSPS Option 1 - Starts March 7thRSPS Option 2 - Starts July 11thRSPS Option 3 - Starts October 17thTotal = $0NOTE: You can use a Credit Card or PayPal to pay for this courseProceed to Payment >[/vc_column_text][vc_empty_space height=”70px”][/vc_column_inner][vc_column_inner width=”1/6″][/vc_column_inner][/vc_row_inner][/vc_column][/vc_row]
URL:https://sacada.org/event/state-approved-recovery-coach-training-july-2022/
LOCATION:Online
CATEGORIES:State Approved Recovery Coach Training
ATTACH;FMTTYPE=image/jpeg:https://sacada.org/wp-content/uploads/2020/01/Recovery-Coach-Training-Upcoming-Header.jpg
END:VEVENT
BEGIN:VEVENT
DTSTART;TZID=America/Chicago:20220705T080000
DTEND;TZID=America/Chicago:20220705T170000
DTSTAMP:20260419T204544
CREATED:20211025T150753Z
LAST-MODIFIED:20211025T150753Z
UID:31056-1657008000-1657040400@sacada.org
SUMMARY:2022 State Approved Recovery Coach Training & CORE Class
DESCRIPTION:
URL:https://sacada.org/event/2022-state-approved-recovery-coach-training-core-class/
CATEGORIES:State Approved Recovery Coach Training
END:VEVENT
END:VCALENDAR