BEGIN:VCALENDAR
VERSION:2.0
PRODID:-//San Antonio Council on Alcohol &amp; Drug Awareness - ECPv6.15.20//NONSGML v1.0//EN
CALSCALE:GREGORIAN
METHOD:PUBLISH
X-WR-CALNAME:San Antonio Council on Alcohol &amp; Drug Awareness
X-ORIGINAL-URL:https://sacada.org
X-WR-CALDESC:Events for San Antonio Council on Alcohol &amp; Drug Awareness
REFRESH-INTERVAL;VALUE=DURATION:PT1H
X-Robots-Tag:noindex
X-PUBLISHED-TTL:PT1H
BEGIN:VTIMEZONE
TZID:America/Chicago
BEGIN:DAYLIGHT
TZOFFSETFROM:-0600
TZOFFSETTO:-0500
TZNAME:CDT
DTSTART:20210314T080000
END:DAYLIGHT
BEGIN:STANDARD
TZOFFSETFROM:-0500
TZOFFSETTO:-0600
TZNAME:CST
DTSTART:20211107T070000
END:STANDARD
BEGIN:DAYLIGHT
TZOFFSETFROM:-0600
TZOFFSETTO:-0500
TZNAME:CDT
DTSTART:20220313T080000
END:DAYLIGHT
BEGIN:STANDARD
TZOFFSETFROM:-0500
TZOFFSETTO:-0600
TZNAME:CST
DTSTART:20221106T070000
END:STANDARD
BEGIN:DAYLIGHT
TZOFFSETFROM:-0600
TZOFFSETTO:-0500
TZNAME:CDT
DTSTART:20230312T080000
END:DAYLIGHT
BEGIN:STANDARD
TZOFFSETFROM:-0500
TZOFFSETTO:-0600
TZNAME:CST
DTSTART:20231105T070000
END:STANDARD
END:VTIMEZONE
BEGIN:VEVENT
DTSTART;TZID=America/Chicago:20220628T133000
DTEND;TZID=America/Chicago:20220628T150000
DTSTAMP:20260419T190922
CREATED:20210916T174846Z
LAST-MODIFIED:20210916T174846Z
UID:30854-1656423000-1656428400@sacada.org
SUMMARY:Kendall County Coalition Meeting
DESCRIPTION:Topic: Kendall County  Coalition Meeting \nJoin Zoom Meeting\nhttps://us02web.zoom.us/j/86204875854?pwd=blpWRGhkRm9qVjhsVWNEZytHbE5hZz09 \nTime: 01:30 PM Central Time (US and Canada) \nDates: \n\n Tuesday September 28th\, 2021\nTuesday October 26th\, 2021\nTuesday November 30th\, 2021\nTuesday December 28th\, 2021\nTuesday January 25th\, 2022\nTuesday February 22nd\, 2022\nTuesday March 22nd\, 2022\nTuesday April 26th\, 2022\nTuesday May 24th\, 2022\nTuesday June 28th\, 2022\nTuesday July 26th\, 2022\nTuesday August 23rd\, 2022
URL:https://sacada.org/event/kendall-county-coalition-meeting-20/
CATEGORIES:Kendall County Coalition
ORGANIZER;CN="Aubrie Walker":MAILTO:awalker@sacada.org
END:VEVENT
BEGIN:VEVENT
DTSTART;TZID=America/Chicago:20220628T150000
DTEND;TZID=America/Chicago:20220628T163000
DTSTAMP:20260419T190922
CREATED:20210927T224644Z
LAST-MODIFIED:20210927T224644Z
UID:30954-1656428400-1656433800@sacada.org
SUMMARY:Comal County Coalition Meeting
DESCRIPTION:Topic: Comal County  Coalition Meeting \nJoin Zoom Meeting \nhttps://us02web.zoom.us/j/89784767061?pwd=cWFob1QyTVQ4bEFwbjhOSlRyMnJ6QT09 \nMeeting ID: 897 8476 7061 \nPasscode: 496838 \nComal community coalition meeting dates: The 4th Tuesday of each month from 3:00 pm to 4:30 pm \nDates: \n\nSeptember 28\, 2021\nOctober 26\, 2021\nNovember 23\, 2021\nNo December meeting\nJanuary 25\, 2022\nFebruary 22\, 2022\nMarch 22\, 2022\nApril 26\, 2022\nMay 24\, 2022\nJune 28\, 2022\nJuly 26\, 2022\nAugust 23\, 2022
URL:https://sacada.org/event/comal-county-coalition-meeting-8/
CATEGORIES:Comal County Community Coalition
ORGANIZER;CN="Boyd Baxter":MAILTO:bbaxter@sacada.org
END:VEVENT
END:VCALENDAR