BEGIN:VCALENDAR
VERSION:2.0
PRODID:-//San Antonio Council on Alcohol &amp; Drug Awareness - ECPv6.15.20//NONSGML v1.0//EN
CALSCALE:GREGORIAN
METHOD:PUBLISH
X-WR-CALNAME:San Antonio Council on Alcohol &amp; Drug Awareness
X-ORIGINAL-URL:https://sacada.org
X-WR-CALDESC:Events for San Antonio Council on Alcohol &amp; Drug Awareness
REFRESH-INTERVAL;VALUE=DURATION:PT1H
X-Robots-Tag:noindex
X-PUBLISHED-TTL:PT1H
BEGIN:VTIMEZONE
TZID:America/Chicago
BEGIN:DAYLIGHT
TZOFFSETFROM:-0600
TZOFFSETTO:-0500
TZNAME:CDT
DTSTART:20210314T080000
END:DAYLIGHT
BEGIN:STANDARD
TZOFFSETFROM:-0500
TZOFFSETTO:-0600
TZNAME:CST
DTSTART:20211107T070000
END:STANDARD
BEGIN:DAYLIGHT
TZOFFSETFROM:-0600
TZOFFSETTO:-0500
TZNAME:CDT
DTSTART:20220313T080000
END:DAYLIGHT
BEGIN:STANDARD
TZOFFSETFROM:-0500
TZOFFSETTO:-0600
TZNAME:CST
DTSTART:20221106T070000
END:STANDARD
BEGIN:DAYLIGHT
TZOFFSETFROM:-0600
TZOFFSETTO:-0500
TZNAME:CDT
DTSTART:20230312T080000
END:DAYLIGHT
BEGIN:STANDARD
TZOFFSETFROM:-0500
TZOFFSETTO:-0600
TZNAME:CST
DTSTART:20231105T070000
END:STANDARD
END:VTIMEZONE
BEGIN:VEVENT
DTSTART;TZID=America/Chicago:20220608T150000
DTEND;TZID=America/Chicago:20220608T160000
DTSTAMP:20260419T190834
CREATED:20220606T135712Z
LAST-MODIFIED:20220606T135819Z
UID:32188-1654700400-1654704000@sacada.org
SUMMARY:Circles of San Antonio Community Coalition Meeting
DESCRIPTION:Circles of San Antonio Community Coalition meeting on June 8\, 2022\, 3pm – 4:30pm\, at Café College\, 131 El Paso Street\, San Antonio\, 78204. \nOr via Zoom \nJoin Zoom Meeting \nhttps://us02web.zoom.us/j/84285247113?pwd=V1BWOTgyZnNaMHpmc1UxT0NBTzRSZz09 \n  \nMeeting ID: 842 8524 7113 \nPasscode: 915124 \nOne tap mobile \n+13462487799\,\,84285247113# US (Houston) \n+16699009128\,\,84285247113# US (San Jose) \n  \nDial by your location \n+1 346 248 7799 US (Houston) \n+1 669 900 9128 US (San Jose) \n+1 253 215 8782 US (Tacoma) \n+1 301 715 8592 US (Washington DC) \n+1 312 626 6799 US (Chicago) \n+1 646 558 8656 US (New York) \nMeeting ID: 842 8524 7113 \nFind your local number: https://us02web.zoom.us/u/kxiBLnPoj \n 
URL:https://sacada.org/event/circles-of-san-antonio-community-coalition-meeting/
LOCATION:131 El Paso Street\, San Antonio\, 78204\, 131 El Paso Street\, San Antonio\, 78204\, United States
CATEGORIES:Community Coalition
ORGANIZER;CN="Vicki Thomas":MAILTO:vthomas@sacada.org
END:VEVENT
END:VCALENDAR