BEGIN:VCALENDAR
VERSION:2.0
PRODID:-//San Antonio Council on Alcohol &amp; Drug Awareness - ECPv6.15.20//NONSGML v1.0//EN
CALSCALE:GREGORIAN
METHOD:PUBLISH
X-WR-CALNAME:San Antonio Council on Alcohol &amp; Drug Awareness
X-ORIGINAL-URL:https://sacada.org
X-WR-CALDESC:Events for San Antonio Council on Alcohol &amp; Drug Awareness
REFRESH-INTERVAL;VALUE=DURATION:PT1H
X-Robots-Tag:noindex
X-PUBLISHED-TTL:PT1H
BEGIN:VTIMEZONE
TZID:America/Chicago
BEGIN:DAYLIGHT
TZOFFSETFROM:-0600
TZOFFSETTO:-0500
TZNAME:CDT
DTSTART:20210314T080000
END:DAYLIGHT
BEGIN:STANDARD
TZOFFSETFROM:-0500
TZOFFSETTO:-0600
TZNAME:CST
DTSTART:20211107T070000
END:STANDARD
BEGIN:DAYLIGHT
TZOFFSETFROM:-0600
TZOFFSETTO:-0500
TZNAME:CDT
DTSTART:20220313T080000
END:DAYLIGHT
BEGIN:STANDARD
TZOFFSETFROM:-0500
TZOFFSETTO:-0600
TZNAME:CST
DTSTART:20221106T070000
END:STANDARD
BEGIN:DAYLIGHT
TZOFFSETFROM:-0600
TZOFFSETTO:-0500
TZNAME:CDT
DTSTART:20230312T080000
END:DAYLIGHT
BEGIN:STANDARD
TZOFFSETFROM:-0500
TZOFFSETTO:-0600
TZNAME:CST
DTSTART:20231105T070000
END:STANDARD
END:VTIMEZONE
BEGIN:VEVENT
DTSTART;TZID=America/Chicago:20220209T150000
DTEND;TZID=America/Chicago:20220209T163000
DTSTAMP:20260420T015437
CREATED:20220127T145504Z
LAST-MODIFIED:20220127T145504Z
UID:31313-1644418800-1644424200@sacada.org
SUMMARY:Circles of SA Coalition Online Meeting
DESCRIPTION:Meeting Date/Time: February 9th\, 3pm – 4:30pm \n  \nTopic: February Circles of San Antonio Coalition Meeting \nTime: Feb 9\, 2022 03:00 PM Central Time (US and Canada) \n  \nJoin Zoom Meeting \nhttps://us02web.zoom.us/j/81351018515?pwd=Y01pL2VuNER4cklSQUtKRG1FekdqZz09 \n  \nMeeting ID: 813 5101 8515 \nPasscode: 712532 \nOne tap mobile \n+13462487799\,\,81351018515# US (Houston) \n+16699009128\,\,81351018515# US (San Jose) \n  \nDial by your location \n+1 346 248 7799 US (Houston) \n+1 669 900 9128 US (San Jose) \n+1 253 215 8782 US (Tacoma) \n+1 312 626 6799 US (Chicago) \n+1 646 558 8656 US (New York) \n+1 301 715 8592 US (Washington DC) \nMeeting ID: 813 5101 8515 \nFind your local number: https://us02web.zoom.us/u/krX8FeKXb
URL:https://sacada.org/event/circles-of-sa-coalition-online-meeting/
CATEGORIES:Community Coalition
ORGANIZER;CN="Vicki Thomas":MAILTO:vthomas@sacada.org
END:VEVENT
END:VCALENDAR