BEGIN:VCALENDAR
VERSION:2.0
PRODID:-//San Antonio Council on Alcohol &amp; Drug Awareness - ECPv6.15.20//NONSGML v1.0//EN
CALSCALE:GREGORIAN
METHOD:PUBLISH
X-WR-CALNAME:San Antonio Council on Alcohol &amp; Drug Awareness
X-ORIGINAL-URL:https://sacada.org
X-WR-CALDESC:Events for San Antonio Council on Alcohol &amp; Drug Awareness
REFRESH-INTERVAL;VALUE=DURATION:PT1H
X-Robots-Tag:noindex
X-PUBLISHED-TTL:PT1H
BEGIN:VTIMEZONE
TZID:America/Chicago
BEGIN:DAYLIGHT
TZOFFSETFROM:-0600
TZOFFSETTO:-0500
TZNAME:CDT
DTSTART:20200308T080000
END:DAYLIGHT
BEGIN:STANDARD
TZOFFSETFROM:-0500
TZOFFSETTO:-0600
TZNAME:CST
DTSTART:20201101T070000
END:STANDARD
BEGIN:DAYLIGHT
TZOFFSETFROM:-0600
TZOFFSETTO:-0500
TZNAME:CDT
DTSTART:20210314T080000
END:DAYLIGHT
BEGIN:STANDARD
TZOFFSETFROM:-0500
TZOFFSETTO:-0600
TZNAME:CST
DTSTART:20211107T070000
END:STANDARD
BEGIN:DAYLIGHT
TZOFFSETFROM:-0600
TZOFFSETTO:-0500
TZNAME:CDT
DTSTART:20220313T080000
END:DAYLIGHT
BEGIN:STANDARD
TZOFFSETFROM:-0500
TZOFFSETTO:-0600
TZNAME:CST
DTSTART:20221106T070000
END:STANDARD
END:VTIMEZONE
BEGIN:VEVENT
DTSTART;TZID=America/Chicago:20210811T150000
DTEND;TZID=America/Chicago:20210811T163000
DTSTAMP:20260419T223141
CREATED:20210216T151851Z
LAST-MODIFIED:20210415T185330Z
UID:26807-1628694000-1628699400@sacada.org
SUMMARY:Circles of San Antonio Community Coalition Meeting
DESCRIPTION:Circles of San Antonio Community Coalition Meeting\nWed\, Aug 11\, 2021 3:00 PM – 4:30 PM (CDT)\nPlease join my meeting from your computer\, tablet or smartphone.  \nJoin Zoom Meeting \nhttps://us02web.zoom.us/j/85836385874?pwd=dGh3SWZ2NEtOT0x3bGxsS1ByRUdldz09 \n  \nMeeting ID: 858 3638 5874 \nPasscode: 699573 \nOne tap mobile \n+13462487799\,\,85836385874# US (Houston) \n+12532158782\,\,85836385874# US (Tacoma) \n  \nDial by your location \n+1 346 248 7799 US (Houston) \n+1 253 215 8782 US (Tacoma) \n+1 669 900 9128 US (San Jose) \n+1 312 626 6799 US (Chicago) \n+1 646 558 8656 US (New York) \n+1 301 715 8592 US (Washington DC) Meeting ID: 858 3638 5874 Find your local number: https://us02web.zoom.us/u/kcijtdoeEt
URL:https://sacada.org/event/circles-of-san-antonio-community-coalition-meeting-10/
CATEGORIES:Community Coalition
ORGANIZER;CN="Vicki Thomas":MAILTO:vthomas@sacada.org
END:VEVENT
END:VCALENDAR