BEGIN:VCALENDAR
VERSION:2.0
PRODID:-//San Antonio Council on Alcohol &amp; Drug Awareness - ECPv6.15.20//NONSGML v1.0//EN
CALSCALE:GREGORIAN
METHOD:PUBLISH
X-WR-CALNAME:San Antonio Council on Alcohol &amp; Drug Awareness
X-ORIGINAL-URL:https://sacada.org
X-WR-CALDESC:Events for San Antonio Council on Alcohol &amp; Drug Awareness
REFRESH-INTERVAL;VALUE=DURATION:PT1H
X-Robots-Tag:noindex
X-PUBLISHED-TTL:PT1H
BEGIN:VTIMEZONE
TZID:America/Chicago
BEGIN:DAYLIGHT
TZOFFSETFROM:-0600
TZOFFSETTO:-0500
TZNAME:CDT
DTSTART:20200308T080000
END:DAYLIGHT
BEGIN:STANDARD
TZOFFSETFROM:-0500
TZOFFSETTO:-0600
TZNAME:CST
DTSTART:20201101T070000
END:STANDARD
BEGIN:DAYLIGHT
TZOFFSETFROM:-0600
TZOFFSETTO:-0500
TZNAME:CDT
DTSTART:20210314T080000
END:DAYLIGHT
BEGIN:STANDARD
TZOFFSETFROM:-0500
TZOFFSETTO:-0600
TZNAME:CST
DTSTART:20211107T070000
END:STANDARD
BEGIN:DAYLIGHT
TZOFFSETFROM:-0600
TZOFFSETTO:-0500
TZNAME:CDT
DTSTART:20220313T080000
END:DAYLIGHT
BEGIN:STANDARD
TZOFFSETFROM:-0500
TZOFFSETTO:-0600
TZNAME:CST
DTSTART:20221106T070000
END:STANDARD
END:VTIMEZONE
BEGIN:VEVENT
DTSTART;TZID=America/Chicago:20210727T133000
DTEND;TZID=America/Chicago:20210727T150000
DTSTAMP:20260420T001415
CREATED:20210408T235935Z
LAST-MODIFIED:20210408T235935Z
UID:27931-1627392600-1627398000@sacada.org
SUMMARY:Kendall County Prevention Coalition Meeting- July 27\, 2021
DESCRIPTION:Topic: Kendall County Prevention Coalition Meeting \n\n\nTime: Apr 27\, 2021 01:30 PM Central Time (US and Canada) \n\n\n        Every month on the Fourth Tue\, until Aug 24\, 2021\, 5 occurrence(s) \n\n\n        Apr 27\, 2021 01:30 PM \n\n\n        May 25\, 2021 01:30 PM \n\n\n        Jun 22\, 2021 01:30 PM \n\n\n        Jul 27\, 2021 01:30 PM \n\n\n        Aug 24\, 2021 01:30 PM \n\n\nPlease download and import the following iCalendar (.ics) files to your calendar system. \n\n\nMonthly: https://us02web.zoom.us/meeting/tZMrc-mvqT4qG9QPetdl-gOzI7V8CvrNEBfm/ics?icsToken=98tyKuGvqD8qHdOQsBiHRpwEBI-gc-3wtiVfjfpsrBrxByweZSzsH7V0apFpAvb1 \n\n\n  \n\n\nJoin Zoom Meeting \n\n\nhttps://us02web.zoom.us/j/87640775010?pwd=VzdMOUNhN0JqVzJuaEhlUHZHZm80QT09 \n\n\n  \n\n\nMeeting ID: 876 4077 5010 \n\n\nPasscode: 839822 \n\n\nOne tap mobile \n\n\n+13462487799\,\,87640775010#\,\,\,\,*839822# US (Houston) \n\n\n+12532158782\,\,87640775010#\,\,\,\,*839822# US (Tacoma) \n\n\n  \n\n\nDial by your location \n\n\n        +1 346 248 7799 US (Houston) \n\n\n        +1 253 215 8782 US (Tacoma) \n\n\n        +1 669 900 9128 US (San Jose) \n\n\n        +1 301 715 8592 US (Washington DC) \n\n\n        +1 312 626 6799 US (Chicago) \n\n\n        +1 646 558 8656 US (New York) \n\n\nMeeting ID: 876 4077 5010 \n\n\nPasscode: 839822 \n\n\nFind your local number: https://us02web.zoom.us/u/keqVClQEQO \n\n\n 
URL:https://sacada.org/event/kendall-county-prevention-coalition-meeting-july-27-2021/
END:VEVENT
END:VCALENDAR